BEGIN:VCALENDAR
VERSION:2.0
PRODID:-//Visit Puente Genil - ECPv6.15.20//NONSGML v1.0//EN
CALSCALE:GREGORIAN
METHOD:PUBLISH
X-ORIGINAL-URL:https://visitpuentegenil.es
X-WR-CALDESC:Eventos para Visit Puente Genil
REFRESH-INTERVAL;VALUE=DURATION:PT1H
X-Robots-Tag:noindex
X-PUBLISHED-TTL:PT1H
BEGIN:VTIMEZONE
TZID:Europe/Madrid
BEGIN:DAYLIGHT
TZOFFSETFROM:+0100
TZOFFSETTO:+0200
TZNAME:CEST
DTSTART:20250330T010000
END:DAYLIGHT
BEGIN:STANDARD
TZOFFSETFROM:+0200
TZOFFSETTO:+0100
TZNAME:CET
DTSTART:20251026T010000
END:STANDARD
BEGIN:DAYLIGHT
TZOFFSETFROM:+0100
TZOFFSETTO:+0200
TZNAME:CEST
DTSTART:20260329T010000
END:DAYLIGHT
BEGIN:STANDARD
TZOFFSETFROM:+0200
TZOFFSETTO:+0100
TZNAME:CET
DTSTART:20261025T010000
END:STANDARD
BEGIN:DAYLIGHT
TZOFFSETFROM:+0100
TZOFFSETTO:+0200
TZNAME:CEST
DTSTART:20270328T010000
END:DAYLIGHT
BEGIN:STANDARD
TZOFFSETFROM:+0200
TZOFFSETTO:+0100
TZNAME:CET
DTSTART:20271031T010000
END:STANDARD
END:VTIMEZONE
BEGIN:VEVENT
DTSTART;TZID=Europe/Madrid:20260308T170000
DTEND;TZID=Europe/Madrid:20260308T183000
DTSTAMP:20260421T190651
CREATED:20260225T111004Z
LAST-MODIFIED:20260225T111004Z
UID:18601-1772989200-1772994600@visitpuentegenil.es
SUMMARY:🎹✨ LUDOVICO – Concierto Tributo a Ludovico Einaudi en Puente Genil ✨🎶
DESCRIPTION:Disfruta de una experiencia musical única en Puente Genil con el Concierto Tributo a Ludovico Einaudi – Piano Candlelight del pianista local Víctor Jiménez\, un espectáculo íntimo donde la magia del piano y la luz de las velas crearán una atmósfera inolvidable. \nDesde las melodías más delicadas hasta las composiciones más emotivas\, este tributo celebra la sensibilidad y profundidad de uno de los grandes compositores contemporáneos. \n📍 Multicines Puente Genil \n📅 Domingo 8 de marzo \n🕔 17:00 h \n🎟️ Entradas \n* Anticipada: 10 € \n* En taquilla: 15 € \nVive en directo piezas que han conquistado al mundo. Disfruta de la música en un entorno cálido y especial.🎹✨ \n📌 Entradas disponibles en puntos de venta autorizados y por encargo. \n  \n 
URL:https://visitpuentegenil.es/evento/%f0%9f%8e%b9%e2%9c%a8-ludovico-concierto-tributo-a-ludovico-einaudi-en-puente-genil-%e2%9c%a8%f0%9f%8e%b6/
LOCATION:Multicines Puente Genil\, Pol. Ind. Las Acacias\, C. Mimosa\, 3\, Puente Genil\, Córdoba\, 14500\, España
CATEGORIES:Conciertos,Música,Tributo
ATTACH;FMTTYPE=image/jpeg:https://visitpuentegenil.es/wp-content/uploads/2026/02/8-Concierto-Ludovico-Einaudi.jpeg
END:VEVENT
BEGIN:VEVENT
DTSTART;TZID=Europe/Madrid:20260314T183000
DTEND;TZID=Europe/Madrid:20260314T200000
DTSTAMP:20260421T190651
CREATED:20260309T094540Z
LAST-MODIFIED:20260309T094540Z
UID:18626-1773513000-1773518400@visitpuentegenil.es
SUMMARY:📚 El nº11 acoge la presentación de una historia inspiradora sobre la Diabetes Tipo 1.
DESCRIPTION:El próximo sábado\, 14 de marzo a las 18:30 h\, la escritora Lulú Dulceazul nos visitará para una entrevista y encuentro con el público en torno a su libro La aventura de descubrir mi diabetes\, una obra basada en una historia real que acompaña y ayuda a comprender el camino de la diabetes tipo 1. \n📍 El evento tendrá lugar en Espacio Microcultural nº 11\, un espacio dedicado a la cultura y a la difusión de proyectos literarios y sociales. \nEsta actividad propone un encuentro cercano y divulgativo\, donde se hablará sobre la experiencia personal reflejada en el libro\, la importancia de la educación diabetológica y el apoyo a quienes conviven con esta condición. \n✨ Una oportunidad para conocer de cerca una historia que acompaña\, sensibiliza y genera conciencia. \n🎟 Entrada gratuita (con reserva previa)📧 Reservas: espaciomicroculturaln11@gmail.com \nSi te interesa la literatura con valores\, la salud y las historias reales\, no te pierdas este evento cultural en Puente Genil. \n🗓 14 de marzo de 2026\n⏰ 18:30 h\n📌 Espacio Microcultural nº 11\n🎟 Entrada gratuita con reserva previa en 📧espaciomicroculturaln11@gmail.com
URL:https://visitpuentegenil.es/evento/%f0%9f%93%9a-el-no11-acoge-la-presentacion-de-una-historia-inspiradora-sobre-la-diabetes-tipo-1/
LOCATION:Espacio Microcultural Nº 11\, Calle Aguilar\, 11\, Puente Genil\, Córdoba\, 14500\, España
ATTACH;FMTTYPE=image/jpeg:https://visitpuentegenil.es/wp-content/uploads/2026/03/14-dIABETES-11.jpeg
ORGANIZER;CN="Espacio microcultural N%C2%BA11":MAILTO:espaciomicroculturaln11@gmail.com
END:VEVENT
BEGIN:VEVENT
DTSTART;TZID=Europe/Madrid:20260321T180000
DTEND;TZID=Europe/Madrid:20260321T213000
DTSTAMP:20260421T190651
CREATED:20260316T110739Z
LAST-MODIFIED:20260316T111037Z
UID:18652-1774116000-1774128600@visitpuentegenil.es
SUMMARY:Presentación del libro “Solo el arte libera al arte” de Guillermo Urbano.
DESCRIPTION:✨ Puente Genil celebra el arte y la poesía ✨ \nEl próximo sábado 21 de marzo tienes una cita con la cultura en el Micro Espacio Cultural Nº11 de Puente Genil con la presentación del libro “Solo el arte libera al arte”\, del autor Guillermo Urbano (Gul). \n📚 Una obra que invita a reflexionar sobre el poder transformador del arte y la creatividad. \n🗓 Presentación del libro\n📍 Micro Espacio Cultural Nº11\n(C/ Aguilar\, 11 – Puente Genil\, Córdoba)\n🕗 20:00 h \n🎭 Además\, podrás participar en una Master Class de Poesía Escénica impartida por el propio autor.\n🕕 18:00 – 20:00 h\n📲 Inscripción previa: 603 714 122\n📧 espaciomicroculturaln11@gmail.com \n👥 Presentan Enrique Reina y Mónica Jiménez \nUna oportunidad perfecta para disfrutar de la literatura\, la poesía y la cultura en Puente Genil. \n👉 Si te apasionan los libros\, la poesía y el arte\, no te lo puedes perder. \n 
URL:https://visitpuentegenil.es/evento/presentacion-del-libro-solo-el-arte-libera-al-arte-de-guillermo-urbano/
LOCATION:Espacio Microcultural Nº 11\, Calle Aguilar\, 11\, Puente Genil\, Córdoba\, 14500\, España
CATEGORIES:Poesía,Presentaciones libros
ATTACH;FMTTYPE=image/jpeg:https://visitpuentegenil.es/wp-content/uploads/2026/03/21-Solo-el-arte-libera-al-arte.jpeg
ORGANIZER;CN="Espacio microcultural N%C2%BA11":MAILTO:espaciomicroculturaln11@gmail.com
END:VEVENT
END:VCALENDAR