BEGIN:VCALENDAR
VERSION:2.0
PRODID:-//Visit Puente Genil - ECPv6.15.20//NONSGML v1.0//EN
CALSCALE:GREGORIAN
METHOD:PUBLISH
X-ORIGINAL-URL:https://visitpuentegenil.es
X-WR-CALDESC:Eventos para Visit Puente Genil
REFRESH-INTERVAL;VALUE=DURATION:PT1H
X-Robots-Tag:noindex
X-PUBLISHED-TTL:PT1H
BEGIN:VTIMEZONE
TZID:Europe/Madrid
BEGIN:DAYLIGHT
TZOFFSETFROM:+0100
TZOFFSETTO:+0200
TZNAME:CEST
DTSTART:20250330T010000
END:DAYLIGHT
BEGIN:STANDARD
TZOFFSETFROM:+0200
TZOFFSETTO:+0100
TZNAME:CET
DTSTART:20251026T010000
END:STANDARD
BEGIN:DAYLIGHT
TZOFFSETFROM:+0100
TZOFFSETTO:+0200
TZNAME:CEST
DTSTART:20260329T010000
END:DAYLIGHT
BEGIN:STANDARD
TZOFFSETFROM:+0200
TZOFFSETTO:+0100
TZNAME:CET
DTSTART:20261025T010000
END:STANDARD
BEGIN:DAYLIGHT
TZOFFSETFROM:+0100
TZOFFSETTO:+0200
TZNAME:CEST
DTSTART:20270328T010000
END:DAYLIGHT
BEGIN:STANDARD
TZOFFSETFROM:+0200
TZOFFSETTO:+0100
TZNAME:CET
DTSTART:20271031T010000
END:STANDARD
END:VTIMEZONE
BEGIN:VEVENT
DTSTART;TZID=Europe/Madrid:20260315T200000
DTEND;TZID=Europe/Madrid:20260315T213000
DTSTAMP:20260422T025840
CREATED:20260311T113705Z
LAST-MODIFIED:20260311T113705Z
UID:18639-1773604800-1773610200@visitpuentegenil.es
SUMMARY:✨ Solemne Vía Crucis de la Hermandad de las Penas.
DESCRIPTION:Puente Genil vive un momento emotivo de su Cuaresma con la celebración del Solemne Vía Crucis organizado por la Seráfica y Piadosa Hermandad de Penitencia y Cofradía de Nazarenos de Nuestro Padre Jesús de las Penas y Nuestra Señora Reina de los Ángeles. \nEl recorrido discurrirá por las calles de la feligresía hasta llegar a la Casa Hermandad (Calle Jesús\, 15)\, en un acto cargado de recogimiento\, fe y tradición que forma parte del intenso calendario de la Cuaresma y la Semana Santa de Puente Genil\, una de las celebraciones más singulares de Andalucía. \nSi visitas Puente Genil en estas fechas\, tendrás la oportunidad de vivir de cerca una manifestación única de patrimonio\, cultura y devoción popular\, donde la tradición cofrade se mezcla con la historia y la identidad de la localidad. \n🙏 Una cita imprescindible para vecinos\, cofrades y visitantes que desean sentir la esencia de la Semana Santa pontanesa. \n📅 Domingo\, 15 de marzo de 2026 \n🕗 20:00 h \n📍 Salida desde la Parroquia de Nuestra Señora de la Purificación \n 
URL:https://visitpuentegenil.es/evento/%e2%9c%a8-solemne-via-crucis-de-la-hermandad-de-las-penas/
LOCATION:Parroquia Ntra. Sra. de la Purificación\, C/ Don Gonzalo 18\, Puente Genil\, Córdoba\, 14500
CATEGORIES:Cofradías,Viacrucis
ATTACH;FMTTYPE=image/jpeg:https://visitpuentegenil.es/wp-content/uploads/2026/03/15-Via-Crucis-Penas.jpeg
ORGANIZER;CN="Hermandad de las Penas":MAILTO:hermandadlaspenaspg@gmail.com
END:VEVENT
END:VCALENDAR