BEGIN:VCALENDAR
VERSION:2.0
PRODID:-//Visit Puente Genil - ECPv6.15.20//NONSGML v1.0//EN
CALSCALE:GREGORIAN
METHOD:PUBLISH
X-ORIGINAL-URL:https://visitpuentegenil.es
X-WR-CALDESC:Eventos para Visit Puente Genil
REFRESH-INTERVAL;VALUE=DURATION:PT1H
X-Robots-Tag:noindex
X-PUBLISHED-TTL:PT1H
BEGIN:VTIMEZONE
TZID:Europe/Madrid
BEGIN:DAYLIGHT
TZOFFSETFROM:+0100
TZOFFSETTO:+0200
TZNAME:CEST
DTSTART:20210328T010000
END:DAYLIGHT
BEGIN:STANDARD
TZOFFSETFROM:+0200
TZOFFSETTO:+0100
TZNAME:CET
DTSTART:20211031T010000
END:STANDARD
BEGIN:DAYLIGHT
TZOFFSETFROM:+0100
TZOFFSETTO:+0200
TZNAME:CEST
DTSTART:20220327T010000
END:DAYLIGHT
BEGIN:STANDARD
TZOFFSETFROM:+0200
TZOFFSETTO:+0100
TZNAME:CET
DTSTART:20221030T010000
END:STANDARD
BEGIN:DAYLIGHT
TZOFFSETFROM:+0100
TZOFFSETTO:+0200
TZNAME:CEST
DTSTART:20230326T010000
END:DAYLIGHT
BEGIN:STANDARD
TZOFFSETFROM:+0200
TZOFFSETTO:+0100
TZNAME:CET
DTSTART:20231029T010000
END:STANDARD
END:VTIMEZONE
BEGIN:VEVENT
DTSTART;TZID=Europe/Madrid:20221028T120000
DTEND;TZID=Europe/Madrid:20221030T143000
DTSTAMP:20260422T142614
CREATED:20221025T101154Z
LAST-MODIFIED:20221025T101154Z
UID:10917-1666958400-1667140200@visitpuentegenil.es
SUMMARY:XX Cata Fiesta del Membrillo.
DESCRIPTION:Del 28 al 30 de octubre \n📅Viernes\, 28 de octubre\, ⏰12:00h \nTradicional taller de preparación del membrillo\, en el Parque del Tropezón. \n📅Sábado\, 29 de octubre\, ⏰17:30h \nMesa cata\, entrega de premios y degustación de los postres presentados \n📅Domingo\, 30 de octubre\, ⏰14:30h \nAlmuerzo en Salón “La Noria” y Mención de Honor al atleta Miguel Ríos García \nOrganizan: Ayuntamiento de Puente Genil y Asociación María Górriz \nPatrocina: Diputación de Córdoba
URL:https://visitpuentegenil.es/evento/xx-cata-fiesta-del-membrillo/
LOCATION:puente genil
CATEGORIES:Gastronomía
ATTACH;FMTTYPE=image/jpeg:https://visitpuentegenil.es/wp-content/uploads/2022/10/28-30-XX-Cata-del-Membrillo.jpeg
END:VEVENT
END:VCALENDAR