BEGIN:VCALENDAR
VERSION:2.0
PRODID:-//Visit Puente Genil - ECPv6.15.20//NONSGML v1.0//EN
CALSCALE:GREGORIAN
METHOD:PUBLISH
X-WR-CALNAME:Visit Puente Genil
X-ORIGINAL-URL:https://visitpuentegenil.es
X-WR-CALDESC:Eventos para Visit Puente Genil
REFRESH-INTERVAL;VALUE=DURATION:PT1H
X-Robots-Tag:noindex
X-PUBLISHED-TTL:PT1H
BEGIN:VTIMEZONE
TZID:Europe/Madrid
BEGIN:DAYLIGHT
TZOFFSETFROM:+0100
TZOFFSETTO:+0200
TZNAME:CEST
DTSTART:20230326T010000
END:DAYLIGHT
BEGIN:STANDARD
TZOFFSETFROM:+0200
TZOFFSETTO:+0100
TZNAME:CET
DTSTART:20231029T010000
END:STANDARD
BEGIN:DAYLIGHT
TZOFFSETFROM:+0100
TZOFFSETTO:+0200
TZNAME:CEST
DTSTART:20240331T010000
END:DAYLIGHT
BEGIN:STANDARD
TZOFFSETFROM:+0200
TZOFFSETTO:+0100
TZNAME:CET
DTSTART:20241027T010000
END:STANDARD
BEGIN:DAYLIGHT
TZOFFSETFROM:+0100
TZOFFSETTO:+0200
TZNAME:CEST
DTSTART:20250330T010000
END:DAYLIGHT
BEGIN:STANDARD
TZOFFSETFROM:+0200
TZOFFSETTO:+0100
TZNAME:CET
DTSTART:20251026T010000
END:STANDARD
END:VTIMEZONE
BEGIN:VEVENT
DTSTART;TZID=Europe/Madrid:20241214T093000
DTEND;TZID=Europe/Madrid:20241214T123000
DTSTAMP:20260422T025616
CREATED:20241203T123501Z
LAST-MODIFIED:20241203T130837Z
UID:14671-1734168600-1734179400@visitpuentegenil.es
SUMMARY:II Jornada Mi espacio: Si tu cuidas yo también puedo.
DESCRIPTION:El próximo sábado\, 14 de diciembre\, a partir de las 9:30h en el Teatro Circo de Puente Genil Laura Baena\, fundadora del Club de las Malas Madres\, ofrecerá una conferencia con el título: “Somos equipo por la corresponsabilidad.” \nLas inscripciones podrán hacerse hasta el miércoles\, 4 de diciembre\, rellenando este FORMULARIO. \n¡Ven a hablar de sobre corresponsabilidad y conciliación con nosotras! \nCofenrencia “Somos equipo por la corresponsabilidad.”\n📅Sábado\, 14 de diciembre.\n⏰9:30h.\n📌Teatro Circo.
URL:https://visitpuentegenil.es/evento/ii-jornada-mi-espacio-si-tu-cuidas-yo-tambien-puedo/
LOCATION:Teatro Circo\, C/ Jesús\, s/n\, Puente Genil\, Córdoba\, 14500\, España
CATEGORIES:Conferencia,Corresponsabilidad,Mujer
ATTACH;FMTTYPE=image/jpeg:https://visitpuentegenil.es/wp-content/uploads/2024/12/14-Laura-Baena.jpg
ORGANIZER;CN="Delegaci%C3%B3n de Igualdad":MAILTO:mujer@aytopuentegenil.es
END:VEVENT
END:VCALENDAR