BEGIN:VCALENDAR
VERSION:2.0
PRODID:-//Visit Puente Genil - ECPv6.15.20//NONSGML v1.0//EN
CALSCALE:GREGORIAN
METHOD:PUBLISH
X-ORIGINAL-URL:https://visitpuentegenil.es
X-WR-CALDESC:Eventos para Visit Puente Genil
REFRESH-INTERVAL;VALUE=DURATION:PT1H
X-Robots-Tag:noindex
X-PUBLISHED-TTL:PT1H
BEGIN:VTIMEZONE
TZID:Europe/Madrid
BEGIN:DAYLIGHT
TZOFFSETFROM:+0100
TZOFFSETTO:+0200
TZNAME:CEST
DTSTART:20200329T010000
END:DAYLIGHT
BEGIN:STANDARD
TZOFFSETFROM:+0200
TZOFFSETTO:+0100
TZNAME:CET
DTSTART:20201025T010000
END:STANDARD
BEGIN:DAYLIGHT
TZOFFSETFROM:+0100
TZOFFSETTO:+0200
TZNAME:CEST
DTSTART:20210328T010000
END:DAYLIGHT
BEGIN:STANDARD
TZOFFSETFROM:+0200
TZOFFSETTO:+0100
TZNAME:CET
DTSTART:20211031T010000
END:STANDARD
BEGIN:DAYLIGHT
TZOFFSETFROM:+0100
TZOFFSETTO:+0200
TZNAME:CEST
DTSTART:20220327T010000
END:DAYLIGHT
BEGIN:STANDARD
TZOFFSETFROM:+0200
TZOFFSETTO:+0100
TZNAME:CET
DTSTART:20221030T010000
END:STANDARD
END:VTIMEZONE
BEGIN:VEVENT
DTSTART;TZID=Europe/Madrid:20210709T080000
DTEND;TZID=Europe/Madrid:20210709T170000
DTSTAMP:20260424T141227
CREATED:20210709T115255Z
LAST-MODIFIED:20210709T115405Z
UID:9179-1625817600-1625850000@visitpuentegenil.es
SUMMARY:El perfume en la antigua Roma #NochesEnLaVilla2021
DESCRIPTION:¿A qué huele? Usa tu nariz para viajar en el tiempo. El olfato nos transporta a recuerdos que nunca olvidamos…  \nMediante la creación de ungüentos y aceites esenciales aprenderás sobre la higiene y la cosmética en la Antigua Roma. Está vez conectarás con olores de otra época: la romana.  \nUnos aromas que singulares que te harán viajar 2000 años atrás en el tiempo y podrás crear tu propio perfume como lo hacían nuestros ancestros.\nJueves\, 15 de julio ⏰ 11:00h (Duración estimada: 2h) \nActividad gratuita previa inscripción aquí.
URL:https://visitpuentegenil.es/evento/el-perfume-en-la-antigua-roma-nochesenlavilla2021/
LOCATION:Córdoba
CATEGORIES:Arqueología,Talleres
ATTACH;FMTTYPE=image/jpeg:https://visitpuentegenil.es/wp-content/uploads/2021/07/perfume-en-la-Antigua-Roma.jpg
END:VEVENT
BEGIN:VEVENT
DTSTART;TZID=Europe/Madrid:20210710T103000
DTEND;TZID=Europe/Madrid:20210710T233000
DTSTAMP:20260424T141227
CREATED:20210704T101510Z
LAST-MODIFIED:20210704T101510Z
UID:9157-1625913000-1625959800@visitpuentegenil.es
SUMMARY:Teatro de sombras en #NochesEnLaVilla2021
DESCRIPTION:¿Te imaginas cómo se pudo representar el primer cuento del mundo? ¡Ven a descubrirlo con #NochesEnLaVilla2021 \nViajaremos con “A la Sombrita” por los orígenes de los cuentos y el teatro de sombras. Las sombras de manos\, corporales\, objetos y títeres articulados tomarán vida al caer la noche y nos contarán la historia de la Villa Romana de Fuente Álamo.  \nSábado\, 10 de julio.  ⏰ 22:30h Entrada gratuita\, previa inscripción aquí.
URL:https://visitpuentegenil.es/evento/teatro-de-sombras-en-nochesenlavilla2021/
LOCATION:Villa Romana de Fuente Álamo\, cv-297 km 3\, Puente Genil\, Córdoba\, 14500\, España
CATEGORIES:Teatro,Títeres
ATTACH;FMTTYPE=image/jpeg:https://visitpuentegenil.es/wp-content/uploads/2021/07/CUENTO-POCAS-LUCES-10-JULIO.jpg
END:VEVENT
BEGIN:VEVENT
DTSTART;TZID=Europe/Madrid:20210711T213000
DTEND;TZID=Europe/Madrid:20210711T230000
DTSTAMP:20260424T141227
CREATED:20210706T121948Z
LAST-MODIFIED:20210706T121948Z
UID:9170-1626039000-1626044400@visitpuentegenil.es
SUMMARY:"El Fundus\," visita guiada #NochesEnLaVilla2021
DESCRIPTION:¿Vienes a  conocer “El Fundus”? ¿Sabías que algunos de los alimentos que consumimos hoy  ya eran cultivados en época romana? \nTe enseñamos la  Villa romana de Fuente Álamo como nunca te lo hubieras imaginado. \n¡Vente! Domingo\, 11 de julio.⏰ 21:30h Reserva tu plaza aquí. \n 
URL:https://visitpuentegenil.es/evento/el-fundus-visita-guiada-nochesenlavilla2021/
LOCATION:Villa Romana de Fuente Álamo\, cv-297 km 3\, Puente Genil\, Córdoba\, 14500\, España
CATEGORIES:Arqueología,Visitas teatralizadas
ATTACH;FMTTYPE=image/jpeg:https://visitpuentegenil.es/wp-content/uploads/2021/07/11-VISITA-GUIADA-EL-FUNDUS-FCB.jpg
END:VEVENT
BEGIN:VEVENT
DTSTART;TZID=Europe/Madrid:20210715T213000
DTEND;TZID=Europe/Madrid:20210715T230000
DTSTAMP:20260424T141227
CREATED:20210710T101938Z
LAST-MODIFIED:20210710T102054Z
UID:9189-1626384600-1626390000@visitpuentegenil.es
SUMMARY:Taller el Perfume en la Antigua Roma #NochesEnLaVilla2021
DESCRIPTION:¿A qué huele? Vas a usar tu nariz para viajar en el tiempo. El olfato nos transporta\, nos trae recuerdos que creíamos olvidados…  \nMediante la creación de ungüentos y aceites esenciales aprenderás sobre la higiene y la cosmética en la Antigua Roma. Conectaremos con olores de época romana. Unos aromas\nsingulares que nos harán viajar 2000 años atrás  y crearemos nuestro propio perfume como lo hacían nuestros ancestros.\n 15 de julio  21:30 h \nActividad gratuita\, previa inscripción. ¡Reserva tu plaza aquí!\nActividad siguiendo protocolos covid19. 
URL:https://visitpuentegenil.es/evento/taller-el-perfume-en-la-antigua-roma-nochesenlavilla2021/
LOCATION:Villa Romana de Fuente Álamo\, cv-297 km 3\, Puente Genil\, Córdoba\, 14500\, España
CATEGORIES:Actividades infantiles,Arqueología,Talleres
ATTACH;FMTTYPE=image/jpeg:https://visitpuentegenil.es/wp-content/uploads/2021/07/perfume-en-la-Antigua-Roma-1.jpg
END:VEVENT
BEGIN:VEVENT
DTSTART;TZID=Europe/Madrid:20210717T210000
DTEND;TZID=Europe/Madrid:20210717T230000
DTSTAMP:20260424T141227
CREATED:20210711T083500Z
LAST-MODIFIED:20210711T084820Z
UID:9195-1626555600-1626562800@visitpuentegenil.es
SUMMARY:Taller epigrafía latina #NochesEnLaVilla2021
DESCRIPTION:Taller epigrafía latina\nVerba volant\, scripta manent… El latín\, la lengua que hablaban los romanos\, fue muy importante para comunicarse en todo el Imperio.  \nEn este taller aprenderás como era su alfabeto\, como escribían\, que materiales usaban o el uso de este idioma en la vida y sociedad romana.  \n¿Te atreves a descubrir la lengua de tus antepasados? \nVilla Romana de Fuente Alamo. Puente Genil \n 17 de julio  21:00h (Duración estimada: 2h)\nInscripción previa aquí.
URL:https://visitpuentegenil.es/evento/taller-epigrafia-latina-nochesenlavilla2021/
LOCATION:Villa Romana de Fuente Álamo\, cv-297 km 3\, Puente Genil\, Córdoba\, 14500\, España
CATEGORIES:Actividades infantiles,Arqueología,Talleres
ATTACH;FMTTYPE=image/jpeg:https://visitpuentegenil.es/wp-content/uploads/2021/07/taller-de-epigrafia-17-julio-facebook.jpg
END:VEVENT
BEGIN:VEVENT
DTSTART;TZID=Europe/Madrid:20210718T203000
DTEND;TZID=Europe/Madrid:20210718T230000
DTSTAMP:20260424T141227
CREATED:20210711T084041Z
LAST-MODIFIED:20210711T084747Z
UID:9200-1626640200-1626649200@visitpuentegenil.es
SUMMARY:El Alma del Dominus #NochesEnLaVilla2021
DESCRIPTION:El Alma del Dominus.\nUna yincana familiar donde los participantes tendrán que resolver una serie de enigmas\, acertijos y pruebas para encontrar el espíritu del dominus.  \nCon la ayuda de personajes teatralizados que se irán encontrando en esta aventura\, deberán escapar de la Villa en menos de 50 minutos no sin antes encontrar las monedas que le han sido robadas al señor de la villa para poder pagar al barquero y cruzar hacia el mundo de los muertos. \nVilla Romana de Fuente Alamo. Puente Genil \n 18 de julio  1º turno 20:30h / 2º turno 22:00h\n(Duración estimada: 50min)\nPlazas: 2 turnos de 8 personas máximo cada equipo.\nInscripción previa por equipos.
URL:https://visitpuentegenil.es/evento/el-alma-del-dominus-nochesenlavilla2021/
LOCATION:Villa Romana de Fuente Álamo\, cv-297 km 3\, Puente Genil\, Córdoba\, 14500\, España
ATTACH;FMTTYPE=image/jpeg:https://visitpuentegenil.es/wp-content/uploads/2021/07/EL-ALMA-DEL-DOMINUS-18-DE-JULIO-2.jpg
END:VEVENT
BEGIN:VEVENT
DTSTART;TZID=Europe/Madrid:20210719T080000
DTEND;TZID=Europe/Madrid:20210719T170000
DTSTAMP:20260424T141227
CREATED:20210719T102508Z
LAST-MODIFIED:20210719T104834Z
UID:9218-1626681600-1626714000@visitpuentegenil.es
SUMMARY:“Escipión y Aníbal. La Batalla de Zama”  en #NochesEnLaVilla2021.
DESCRIPTION:Teatro de Títeres “Escipión y Aníbal. La Batalla de Zama” \nCaius Pomponius\, actor romano de tragedias viene a visitarnos acompañado de su mujer y compañía\, junto con su teatro ambulante de títeres ¿Te lo vas a perder? \n📅Sábado\, 24 de julio ⏰ 21:30h (Duración estimada: 40min) \nInscripción previa 👉 aquí
URL:https://visitpuentegenil.es/evento/escipion-y-anibal-la-batalla-de-zama-en-nochesenlavilla2021/
LOCATION:Córdoba
ATTACH;FMTTYPE=image/jpeg:https://visitpuentegenil.es/wp-content/uploads/2021/07/teatro-titeres-sabado-ig.jpg
END:VEVENT
BEGIN:VEVENT
DTSTART;TZID=Europe/Madrid:20210722T110000
DTEND;TZID=Europe/Madrid:20210722T130000
DTSTAMP:20260424T141227
CREATED:20210719T095518Z
LAST-MODIFIED:20210719T095518Z
UID:9211-1626951600-1626958800@visitpuentegenil.es
SUMMARY:Taller de azulejo islámico. #NochesEnLaVilla2021
DESCRIPTION:Taller de azulejo islámico \n¿Sabías que los árabes también dejaron su huella en Fuente Álamo e hicieron grandes aportaciones en medicina\, matemáticas\, agricultura…? \nUna de ellas fue a través del arte ¡Decora con nosotros tu propio azulejo con motivos arabescos! Donde lo coloques luego será cosa tuya… 😉 \n📅 Jueves\, 22 de julio ⏰ 11:00h (Duración estimada: 2h) \nInscripción previa 👉 aquí
URL:https://visitpuentegenil.es/evento/taller-de-azulejo-islamico-nochesenlavilla2021/
LOCATION:Villa Romana de Fuente Álamo\, cv-297 km 3\, Puente Genil\, Córdoba\, 14500\, España
ATTACH;FMTTYPE=image/jpeg:https://visitpuentegenil.es/wp-content/uploads/2021/07/taller-azulejo-ig.jpg
END:VEVENT
BEGIN:VEVENT
DTSTART;TZID=Europe/Madrid:20210723T213000
DTEND;TZID=Europe/Madrid:20210723T230000
DTSTAMP:20260424T141227
CREATED:20210719T100606Z
LAST-MODIFIED:20210719T100639Z
UID:9215-1627075800-1627081200@visitpuentegenil.es
SUMMARY:La noche de los Investigadores en #NochesEnLaVilla2021.
DESCRIPTION:La noche de los Investigadores \nUna visita guiada con arqueólogos en la que descubriremos cómo la arqueología desentraña los secretos del pasado. En un recorrido especial por el yacimiento\, visitaremos por primera vez sus almacenes donde conoceremos el proceso de investigación. \n📅 Viernes\, 23 de julio ⏰ 21:30h (Duración estimada: 1h 15min) \nInscripción previa 👉 aquí
URL:https://visitpuentegenil.es/evento/la-noche-de-los-investigadores-en-nochesenlavilla2021/
LOCATION:Villa Romana de Fuente Álamo\, cv-297 km 3\, Puente Genil\, Córdoba\, 14500\, España
CATEGORIES:Arqueología,Visitas guiadas
ATTACH;FMTTYPE=image/jpeg:https://visitpuentegenil.es/wp-content/uploads/2021/07/la-noche-de-los-investigadores-viernes-ig.jpg
END:VEVENT
BEGIN:VEVENT
DTSTART;TZID=Europe/Madrid:20210723T220000
DTEND;TZID=Europe/Madrid:20210724T010000
DTSTAMP:20260424T141227
CREATED:20210720T130710Z
LAST-MODIFIED:20210720T130710Z
UID:9239-1627077600-1627088400@visitpuentegenil.es
SUMMARY:¡Vuelve la Zarzuela a #PuenteGenil!
DESCRIPTION:El Ayuntamiento de Puente Genil organiza el XIV Festival Lírico que contará con la representación de la zarzuela “La canción del olvido.” \nLa compañía Teatro Lírico Andaluz la pondrá en escena  el viernes 23 de julio a las 22:00h en  el Auditorio del Parque de los Pinos . \nVenta anticipada de entradas a 10 euros en el teléfono 617 453061 o en la propia taquilla una hora antes del inicio del espectáculo. \nActividad con las medidas preventivas Covid-19
URL:https://visitpuentegenil.es/evento/vuelve-la-zarzuela-a-puentegenil/
LOCATION:Auditorio “Hermanos Cuenca”\, Calle Pinar de San Rafael\, s/n\, Puente Genil\, Córdoba\, 14500\, España
ATTACH;FMTTYPE=image/jpeg:https://visitpuentegenil.es/wp-content/uploads/2021/07/zarzuela_cartel.jpeg
END:VEVENT
BEGIN:VEVENT
DTSTART;TZID=Europe/Madrid:20210725T213000
DTEND;TZID=Europe/Madrid:20210725T230000
DTSTAMP:20260424T141227
CREATED:20210719T124213Z
LAST-MODIFIED:20210719T124213Z
UID:9229-1627248600-1627254000@visitpuentegenil.es
SUMMARY:Vida cotidiana en la Antigua Roma #NochesEnLaVilla2021
DESCRIPTION:¿Quieres saber cómo era un día cualquiera en la Villa Romana de Fuente Álamo? \nCon nuestro guía recorrerás más de mil años de historia para saber como vivían nuestros antepasados y entender nuestro pasado. \n📅-Domingo\,  25 julio- ⏰21:30h (Duración estimada: 1h 15min) \nInscripción previa 👉 aquí
URL:https://visitpuentegenil.es/evento/vida-cotidiana-en-la-antigua-roma-nochesenlavilla2021/
LOCATION:Villa Romana de Fuente Álamo\, cv-297 km 3\, Puente Genil\, Córdoba\, 14500\, España
CATEGORIES:Arqueología,Visitas guiadas
ATTACH;FMTTYPE=image/jpeg:https://visitpuentegenil.es/wp-content/uploads/2021/07/visita-guiada-domingo-ig.jpg
END:VEVENT
BEGIN:VEVENT
DTSTART;TZID=Europe/Madrid:20210730T213000
DTEND;TZID=Europe/Madrid:20210730T233000
DTSTAMP:20260424T141227
CREATED:20210727T122438Z
LAST-MODIFIED:20210727T122539Z
UID:9273-1627680600-1627687800@visitpuentegenil.es
SUMMARY:Dies Lustricus: El parto en la Antigua Roma. #NochesEnLaVilla2021
DESCRIPTION:Dies Lustricus: El parto en la Antigua Roma.\n Viernes\, 30 Julio –  21:30 H.\nDe la mano de El Triunfo de Baco S.C conocerás el proceso y costumbres relacionadas con el nacimiento de un romano y el papel de la mujer en la Villa Romana de Fuente Alamo. Puente Genil.\n Inscripción previa: https://bit.ly/3kYtuQ3 #CulturaSegura #NochesEnLaVilla2021
URL:https://visitpuentegenil.es/evento/dies-lustricus-el-parto-en-la-antigua-roma-noches/
LOCATION:Villa Romana de Fuente Álamo\, cv-297 km 3\, Puente Genil\, Córdoba\, 14500\, España
CATEGORIES:Arqueología,Visitas teatralizadas
ATTACH;FMTTYPE=image/jpeg:https://visitpuentegenil.es/wp-content/uploads/2021/07/30-Parto.jpg
END:VEVENT
BEGIN:VEVENT
DTSTART;TZID=Europe/Madrid:20210731T220000
DTEND;TZID=Europe/Madrid:20210731T233000
DTSTAMP:20260424T141227
CREATED:20210728T101133Z
LAST-MODIFIED:20210728T101154Z
UID:9293-1627768800-1627774200@visitpuentegenil.es
SUMMARY:Homenaje a "Frasquito". 55º Festival de Cante Grande "Fosforito"
DESCRIPTION:Este sábado 31 de julio el cantaor pontanés Francisco Baena “Frasquito” recibe un homenaje de sus familiares\, amigos y miembros de su peña. \nEl Ayuntamiento de Puente Genil lo organiza como preámbulo al reconocimiento que recibirá el artista en el 55º Festival de Cante Grande “Fosforito” del 14 de agosto. \nEl evento contará con un espectáculo flamenco con Jehová Sierra al cante y Juan Manuel Cadena “El Chino” a la guitarra. \nAuditorio de Los Pinos.  Sábado\, 31 de julio.  22:00 h. \nEntrada libre hasta completar aforo. \n  \n 
URL:https://visitpuentegenil.es/evento/homenaje-a-frasquito-55o-festival-de-cante-grande-fosforito/
LOCATION:Auditorio “Hermanos Cuenca”\, Calle Pinar de San Rafael\, s/n\, Puente Genil\, Córdoba\, 14500\, España
CATEGORIES:Flamenco,Música
ATTACH;FMTTYPE=image/jpeg:https://visitpuentegenil.es/wp-content/uploads/2021/07/31-homenaje_a_frasquito-scaled.jpg
END:VEVENT
BEGIN:VEVENT
DTSTART;TZID=Europe/Madrid:20210731T223000
DTEND;TZID=Europe/Madrid:20210801T003000
DTSTAMP:20260424T141227
CREATED:20210728T083338Z
LAST-MODIFIED:20210728T083338Z
UID:9282-1627770600-1627777800@visitpuentegenil.es
SUMMARY:Cuento de Pocas Luces  en #NochesEnLaVilla2021
DESCRIPTION:Cuento de Pocas Luces en la Villa Romana de Fuente Álamo.\n Sábado\, 31 de julio.  22:30 h.\nViajaremos con el Teatro de Sombras “A la Sombrita” por los orígenes de los cuentos y del teatro de sombras\, desde el descubrimiento del fuego hasta la invención del cine.\nLas sombras de manos\, corporales\, objetos y títeres articulados tomarán vida al caer la noche y todo a vista de público.\nPlazas limitadas.\n Inscripciones aquí 
URL:https://visitpuentegenil.es/evento/cuento-de-pocas-luces-en-nochesenlavilla2021/
LOCATION:Villa Romana de Fuente Álamo\, cv-297 km 3\, Puente Genil\, Córdoba\, 14500\, España
CATEGORIES:Teatro
ATTACH;FMTTYPE=image/jpeg:https://visitpuentegenil.es/wp-content/uploads/2021/07/31-CUENTO-POCAS-LUCES-31-DE-JULIO-fcb.jpg
END:VEVENT
END:VCALENDAR