BEGIN:VCALENDAR
VERSION:2.0
PRODID:-//Visit Puente Genil - ECPv6.15.20//NONSGML v1.0//EN
CALSCALE:GREGORIAN
METHOD:PUBLISH
X-WR-CALNAME:Visit Puente Genil
X-ORIGINAL-URL:https://visitpuentegenil.es
X-WR-CALDESC:Eventos para Visit Puente Genil
REFRESH-INTERVAL;VALUE=DURATION:PT1H
X-Robots-Tag:noindex
X-PUBLISHED-TTL:PT1H
BEGIN:VTIMEZONE
TZID:Europe/Madrid
BEGIN:DAYLIGHT
TZOFFSETFROM:+0100
TZOFFSETTO:+0200
TZNAME:CEST
DTSTART:20200329T010000
END:DAYLIGHT
BEGIN:STANDARD
TZOFFSETFROM:+0200
TZOFFSETTO:+0100
TZNAME:CET
DTSTART:20201025T010000
END:STANDARD
BEGIN:DAYLIGHT
TZOFFSETFROM:+0100
TZOFFSETTO:+0200
TZNAME:CEST
DTSTART:20210328T010000
END:DAYLIGHT
BEGIN:STANDARD
TZOFFSETFROM:+0200
TZOFFSETTO:+0100
TZNAME:CET
DTSTART:20211031T010000
END:STANDARD
BEGIN:DAYLIGHT
TZOFFSETFROM:+0100
TZOFFSETTO:+0200
TZNAME:CEST
DTSTART:20220327T010000
END:DAYLIGHT
BEGIN:STANDARD
TZOFFSETFROM:+0200
TZOFFSETTO:+0100
TZNAME:CET
DTSTART:20221030T010000
END:STANDARD
END:VTIMEZONE
BEGIN:VEVENT
DTSTART;TZID=Europe/Madrid:20210902T110000
DTEND;TZID=Europe/Madrid:20210902T123000
DTSTAMP:20260424T063859
CREATED:20210830T102831Z
LAST-MODIFIED:20210830T102832Z
UID:9464-1630580400-1630585800@visitpuentegenil.es
SUMMARY:Taller de Máscaras. #NochesEnLaVilla2021
DESCRIPTION:Taller de máscaras romanas en la Villa Romana de Fuente Álamo.\n¡Ponte la máscara y que comience la función! Descubre el maravilloso mundo del teatro a través de los ojos del mundo clásico.  \nAprende jugando como era esta forma de entretenimiento para los romanos \n📅 Jueves\, 2 de septiembre ⏰ 11:00h (Duración estimada: 1h 30 min) \nAforo reducido. \n Inscríbete aquí.
URL:https://visitpuentegenil.es/evento/taller-de-mascaras-nochesenlavilla2021/
LOCATION:Villa Romana de Fuente Álamo\, cv-297 km 3\, Puente Genil\, Córdoba\, 14500\, España
CATEGORIES:Actividades infantiles,Arqueología,Talleres
ATTACH;FMTTYPE=image/jpeg:https://visitpuentegenil.es/wp-content/uploads/2021/08/2-Taller-Mascaras-FB-TW.jpg
END:VEVENT
BEGIN:VEVENT
DTSTART;TZID=Europe/Madrid:20210903T213000
DTEND;TZID=Europe/Madrid:20210903T230000
DTSTAMP:20260424T063859
CREATED:20210830T103249Z
LAST-MODIFIED:20210830T103249Z
UID:9469-1630704600-1630710000@visitpuentegenil.es
SUMMARY:La noche de los Investigadores. #NochesEnLaVilla2021
DESCRIPTION:La noche de los Investigadores\nNo pierdas la oportunidad de descubrir la villa romana de Fuente Álamo en la noche de los investigadores. \nUna visita guiada con arqueólogos en la que descubriremos cómo la arqueología desentraña los secretos del pasado. En un recorrido especial por el yacimiento\, visitaremos por primera vez sus almacenes donde conoceremos el proceso de investigación seguido para recuperar lo que un día se perdió. \n📅 Viernes\, 3 de septiembre ⏰ 21:30h (Duración estimada: 1h 15min) \nAforo reducido. \n Inscríbete aquí.
URL:https://visitpuentegenil.es/evento/la-noche-de-los-investigadores-nochesenlavilla2021/
LOCATION:Villa Romana de Fuente Álamo\, cv-297 km 3\, Puente Genil\, Córdoba\, 14500\, España
ATTACH;FMTTYPE=image/png:https://visitpuentegenil.es/wp-content/uploads/2021/08/3-LA-NOCHE-DE-LOS-INVESTIGADORES-IG.png
END:VEVENT
BEGIN:VEVENT
DTSTART;TZID=Europe/Madrid:20210904T213000
DTEND;TZID=Europe/Madrid:20210904T223000
DTSTAMP:20260424T063859
CREATED:20210830T103718Z
LAST-MODIFIED:20210830T103718Z
UID:9472-1630791000-1630794600@visitpuentegenil.es
SUMMARY:Objetos que cuentan historias. #NochesEnLaVilla2021
DESCRIPTION:Objetos que cuentan historias\nEste sábado te espera una conferencia recreada para dar vida a ciertos elementos que hoy son contemplados en las vitrinas de los museos pero que antaño tuvieron su propia funcionalidad\, muchas de ellas de un marcado carácter simbólico\, mágico o religioso aunque fuesen de uso cotidiano. \n📅 Sábado\, 4 de septiembre ⏰ 21:30h (Duración estimada: 45 min) \nAforo reducido. \n Inscríbete aquí. \n 
URL:https://visitpuentegenil.es/evento/objetos-que-cuentan-historias-nochesenlavilla2021/
LOCATION:Villa Romana de Fuente Álamo\, cv-297 km 3\, Puente Genil\, Córdoba\, 14500\, España
ATTACH;FMTTYPE=image/png:https://visitpuentegenil.es/wp-content/uploads/2021/08/4-OBJETOS-QUE-CUENTAN-HISTORIAS-IG.png
END:VEVENT
BEGIN:VEVENT
DTSTART;TZID=Europe/Madrid:20210905T213000
DTEND;TZID=Europe/Madrid:20210905T230000
DTSTAMP:20260424T063859
CREATED:20210830T105452Z
LAST-MODIFIED:20210830T120144Z
UID:9482-1630877400-1630882800@visitpuentegenil.es
SUMMARY:El comercio en la Antigua Roma. #NochesEnLaVilla2021
DESCRIPTION:¿No tienes planes para el domingo? ¡Ven a conocer a Marco Julio Hermesiano! Viene a la Villa de Fuente Álamo para llevarse el mejor aceite de toda la Bética Romana… \nConoce en esta visita con teatralización más sobre el comercio en la Antigua Roma. \n📅 Domingo\, 5 de septiembre ⏰ 21:30h (duración estimada 1h 30m.) \nAforo reducido. \n Inscríbete aquí.
URL:https://visitpuentegenil.es/evento/el-comercio-en-la-antigua-roma-nochesenlavilla2021-2/
LOCATION:Villa Romana de Fuente Álamo\, cv-297 km 3\, Puente Genil\, Córdoba\, 14500\, España
CATEGORIES:Arqueología,Visitas teatralizadas
ATTACH;FMTTYPE=image/png:https://visitpuentegenil.es/wp-content/uploads/2021/08/5-EL-COMERCIO-EN-LA-ANTIGUA-ROMA-FB-TW.png
END:VEVENT
BEGIN:VEVENT
DTSTART;TZID=Europe/Madrid:20210911T210000
DTEND;TZID=Europe/Madrid:20210911T233000
DTSTAMP:20260424T063859
CREATED:20210903T114206Z
LAST-MODIFIED:20210903T114206Z
UID:9514-1631394000-1631403000@visitpuentegenil.es
SUMMARY:Canciones de Barrio con José Manuel Parada en el Auditorio de Los Pinos.
DESCRIPTION:Nueva propuesta musical para el final del #verano.\nJosé Manuel Parada junto al grupo músico-vocal local en riguroso directo.\nHarán un recorrido por algunas de las mejores películas del cine español de los años 60’s y 70’s a través de sus canciones con los sabios y divertidos comentarios del gran presentador y periodista televisivo. \nEntradas a la venta 617453061📱
URL:https://visitpuentegenil.es/evento/canciones-de-barrio-con-jose-manuel-parada-en-el-auditorio-de-los-pinos/
LOCATION:Auditorio “Hermanos Cuenca”\, Calle Pinar de San Rafael\, s/n\, Puente Genil\, Córdoba\, 14500\, España
CATEGORIES:Conciertos,Música
ATTACH;FMTTYPE=image/jpeg:https://visitpuentegenil.es/wp-content/uploads/2021/09/11-pARADA.jpg
ORGANIZER;CN="Amigos de la M%C3%BAsica":MAILTO:emusica@aytopuentegenil.es
END:VEVENT
BEGIN:VEVENT
DTSTART;TZID=Europe/Madrid:20210918T210000
DTEND;TZID=Europe/Madrid:20210918T233000
DTSTAMP:20260424T063859
CREATED:20210909T123554Z
LAST-MODIFIED:20210909T123554Z
UID:9522-1631998800-1632007800@visitpuentegenil.es
SUMMARY:Gran Recital Lírico "Corazón Pontanés" con el Corazón en Andalucía.
DESCRIPTION:Gran Recital Lírico “Corazón Pontanés” con el Corazón en Andalucía. \nSábado 18 de septiembre a las 21:00 en el Auditorio “Hermanos Cuenca” \nCon la participación de: Charo López (actriz)\, Montserrat Martí Caballé (soprano)\, Luis Santana (barítono) y José Manuel Cuenca (pianista). \nEntrada libre hasta completar aforo. Actividad con las medidas preventivas Covid-19 \nOrganiza el Ayuntamiento de Puente Genil
URL:https://visitpuentegenil.es/evento/gran-recital-lirico-corazon-pontanes-con-el-corazon-en-andalucia/
LOCATION:Auditorio “Hermanos Cuenca”\, Calle Pinar de San Rafael\, s/n\, Puente Genil\, Córdoba\, 14500\, España
CATEGORIES:Conciertos,Música
ATTACH;FMTTYPE=image/jpeg:https://visitpuentegenil.es/wp-content/uploads/2021/09/18-opera_concert-scaled.jpg
END:VEVENT
BEGIN:VEVENT
DTSTART;TZID=Europe/Madrid:20210927T180000
DTEND;TZID=Europe/Madrid:20211012T210000
DTSTAMP:20260424T063859
CREATED:20210927T085552Z
LAST-MODIFIED:20210927T105202Z
UID:9544-1632765600-1634072400@visitpuentegenil.es
SUMMARY:Exposición Hopper y el Cine. La luz confinada.
DESCRIPTION:Exposición de pintura y fotografía a cargo de Eva Torres y Álvaro Sadas. \nAbierta del 24 de septiembre al 12 de octubre en horario de 18:00 a 21:00 (solo días laborables) en la Biblioteca Ricardo Molina \nEl acto de inauguración tuvo lugar en la noche del jueves en un acto que supuso también la apertura del programa de actividades paralelas de la XII edición de CortoGenial Puente Genil \nhopper21_-_cuartilla_reverso \nhopper21_-_cuartilla_ansverso \n\n\n\n\n\n 
URL:https://visitpuentegenil.es/evento/exposicion-hopper-y-el-cine-la-luz-confinada/
LOCATION:Biblioteca Pública Municipal Ricardo Molina\, Parque los Pinos\, s/n\, Puente Genil\, Córdoba\, 14500\, España
ATTACH;FMTTYPE=image/jpeg:https://visitpuentegenil.es/wp-content/uploads/2021/09/23-EXPOSICION-HOPPER-Y-EL-CINE.jpg
ORGANIZER;CN="Cortogenial":MAILTO:info@cortogenial.org
END:VEVENT
END:VCALENDAR