BEGIN:VCALENDAR
VERSION:2.0
PRODID:-//Visit Puente Genil - ECPv6.15.20//NONSGML v1.0//EN
CALSCALE:GREGORIAN
METHOD:PUBLISH
X-ORIGINAL-URL:https://visitpuentegenil.es
X-WR-CALDESC:Eventos para Visit Puente Genil
REFRESH-INTERVAL;VALUE=DURATION:PT1H
X-Robots-Tag:noindex
X-PUBLISHED-TTL:PT1H
BEGIN:VTIMEZONE
TZID:Europe/Madrid
BEGIN:DAYLIGHT
TZOFFSETFROM:+0100
TZOFFSETTO:+0200
TZNAME:CEST
DTSTART:20200329T010000
END:DAYLIGHT
BEGIN:STANDARD
TZOFFSETFROM:+0200
TZOFFSETTO:+0100
TZNAME:CET
DTSTART:20201025T010000
END:STANDARD
BEGIN:DAYLIGHT
TZOFFSETFROM:+0100
TZOFFSETTO:+0200
TZNAME:CEST
DTSTART:20210328T010000
END:DAYLIGHT
BEGIN:STANDARD
TZOFFSETFROM:+0200
TZOFFSETTO:+0100
TZNAME:CET
DTSTART:20211031T010000
END:STANDARD
BEGIN:DAYLIGHT
TZOFFSETFROM:+0100
TZOFFSETTO:+0200
TZNAME:CEST
DTSTART:20220327T010000
END:DAYLIGHT
BEGIN:STANDARD
TZOFFSETFROM:+0200
TZOFFSETTO:+0100
TZNAME:CET
DTSTART:20221030T010000
END:STANDARD
BEGIN:DAYLIGHT
TZOFFSETFROM:+0100
TZOFFSETTO:+0200
TZNAME:CEST
DTSTART:20230326T010000
END:DAYLIGHT
BEGIN:STANDARD
TZOFFSETFROM:+0200
TZOFFSETTO:+0100
TZNAME:CET
DTSTART:20231029T010000
END:STANDARD
END:VTIMEZONE
BEGIN:VEVENT
DTSTART;TZID=Europe/Madrid:20211030T120000
DTEND;TZID=Europe/Madrid:20211101T170000
DTSTAMP:20260423T231557
CREATED:20211026T073709Z
LAST-MODIFIED:20211026T112903Z
UID:9652-1635595200-1635786000@visitpuentegenil.es
SUMMARY:¡Ven a pasar el #PuentedeLosSantos #DondeElSolSeHaceDulce!
DESCRIPTION:¿No tienes nada decidido aún? ¡Ven a conocer #PuenteGenil! \nNuestros amigos de Tu historia Puente Genil han preparado un completo programa de actividades para este fin de semana largo. Visitas guiadas\, yincana familiar\, degustaciones\, … hasta #mindfulness en lugares emblemáticos de nuestro patrimonio como la Villa Romana de Fuente Álamo o La Alianza. \nMás info y reservas 👇 \n📞675939533 📧 puentegenil@tuhistoria.org \n  \n 
URL:https://visitpuentegenil.es/evento/ven-a-pasar-el-puentedelossantos-dondeelsolsehacedulce/
LOCATION:Puente Genil
CATEGORIES:Actividades infantiles,Arqueología,Mindfulness,Visitas guiadas,Visitas teatralizadas,Yoga
ATTACH;FMTTYPE=image/jpeg:https://visitpuentegenil.es/wp-content/uploads/2021/10/IMG_0790.jpg
ORGANIZER;CN="Puente Genil Tu historia":MAILTO:puentegenil@tuhistoria.org
END:VEVENT
BEGIN:VEVENT
DTSTART;TZID=Europe/Madrid:20211103T080000
DTEND;TZID=Europe/Madrid:20211103T170000
DTSTAMP:20260423T231557
CREATED:20211103T092615Z
LAST-MODIFIED:20211103T092922Z
UID:9684-1635926400-1635958800@visitpuentegenil.es
SUMMARY:Tanto monta\, monta tanto.
DESCRIPTION:Sus majestades los Reyes Católicos estarán de visita en #PuenteGenil. \nTeatro Sí Jerez representa “Tanto monta\, monta tanto\,” una versión muy peculiar de parte de la historia de España contada a su manera. Manuel Medina\, Javier Vallespín y El Morta vuelven a hacernos reír. \n¡No te lo puedes perder! \n📌Teatro Circo  📅 Viernes 19 de noviembre⏰ 21:00h \nPrecio de las entradas: 13 € \nCompra tus entradas aquí.
URL:https://visitpuentegenil.es/evento/tanto-monta-monta-tanto/
LOCATION:Córdoba
CATEGORIES:Comedia,Teatro
ATTACH;FMTTYPE=image/jpeg:https://visitpuentegenil.es/wp-content/uploads/2021/11/19-Tanto-Monta.jpg
ORGANIZER;CN="Teatro S%C3%AD Jerez":MAILTO:administracion@teatrosijerez.com
END:VEVENT
BEGIN:VEVENT
DTSTART;TZID=Europe/Madrid:20211105T200000
DTEND;TZID=Europe/Madrid:20211126T210000
DTSTAMP:20260423T231557
CREATED:20211103T125723Z
LAST-MODIFIED:20211103T125723Z
UID:9696-1636142400-1637960400@visitpuentegenil.es
SUMMARY:Noviembre Flamenco.
DESCRIPTION:Nos espera un #NoviembreFlamenco en #PuenteGenil. \nLa Delegación de Promoción del Flamenco organiza un completo programa actividades para celebrar el #DíaInternacionaldelFlamenco\, el próximo 16 de noviembre. \nMás info aquí.
URL:https://visitpuentegenil.es/evento/noviembre-flamenco/
LOCATION:Córdoba
ATTACH;FMTTYPE=image/jpeg:https://visitpuentegenil.es/wp-content/uploads/2021/11/Noviembre-Flamenco-2021.jpg
END:VEVENT
BEGIN:VEVENT
DTSTART;TZID=Europe/Madrid:20211109T080000
DTEND;TZID=Europe/Madrid:20211109T170000
DTSTAMP:20260423T231557
CREATED:20211109T090153Z
LAST-MODIFIED:20211109T090153Z
UID:9775-1636444800-1636477200@visitpuentegenil.es
SUMMARY:Exposición de Pinturas de Ginés Liébana.
DESCRIPTION:La Asociación Cultural Poética y el Ayuntamiento de Puente Genil traen una extraordinaria exposición del pintor y escritor\, miembro del Grupo Cántico: Ginés Liébana. \n📌 Casa de la Cultura “Alcalde Manuel Baena Jiménez”. \n📅 Del 8 de noviembre al 3 de diciembre.  \n⏰ en horario de 10:00h a 14:00h y de 19:30h a 21:00h. \n  \n 
URL:https://visitpuentegenil.es/evento/exposicion-de-pinturas-de-gines-liebana/
LOCATION:Casa de la Cultura\, Calle Cruz del Estudiante\, 35\, Puente Genil\, Córdoba\, 14500\, España
CATEGORIES:Exposiciones,Pintura
ATTACH;FMTTYPE=image/jpeg:https://visitpuentegenil.es/wp-content/uploads/2021/11/8-EXPO-GINES-LIEBANA.jpg
END:VEVENT
BEGIN:VEVENT
DTSTART;TZID=Europe/Madrid:20211112T213000
DTEND;TZID=Europe/Madrid:20211112T233000
DTSTAMP:20260423T231557
CREATED:20211103T085241Z
LAST-MODIFIED:20211103T085703Z
UID:9680-1636752600-1636759800@visitpuentegenil.es
SUMMARY:Vuelve la zarzuela al Teatro Circo.
DESCRIPTION:Con la puesta en escena de “La corte de Faraón” vuelve la zarzuela al Teatro Circo de Puente Genil. \nTeatro Lírico Andaluz presenta una zarzuela encuadrada dentro del género denominado “sicalíptico\,” famoso por sus diálogos llenos de insinuaciones y connotaciones sexuales\, canciones de aroma picante y enredos de corte vodevilesco\, que estuvo de moda durante el primer tercio del siglo XX. Ambientada en Egipto\, sus referencias musicales la convierten en algunos momentos en una parodia de Aida de Verdi. \n📌Teatro Circo 📅 Viernes 12 de noviembre⏰ 21:30 \nPrecio de las entradas: 10 € anticipada y 12 € en taquilla \nReserva de entradas  📞 617 453 061
URL:https://visitpuentegenil.es/evento/vuelve-la-zarzuela-al-teatro-circo/
LOCATION:Teatro Circo\, C/ Jesús\, s/n\, Puente Genil\, Córdoba\, 14500\, España
CATEGORIES:Humor,Música,Teatro,Zarzuela
ATTACH;FMTTYPE=image/jpeg:https://visitpuentegenil.es/wp-content/uploads/2021/11/12-zarzuela_la_corte_del_faraon-scaled.jpg
END:VEVENT
BEGIN:VEVENT
DTSTART;TZID=Europe/Madrid:20211113T113000
DTEND;TZID=Europe/Madrid:20211113T133000
DTSTAMP:20260423T231557
CREATED:20211108T131455Z
LAST-MODIFIED:20211109T084158Z
UID:9765-1636803000-1636810200@visitpuentegenil.es
SUMMARY:Taller de Arqueología
DESCRIPTION:Este sábado te convertirás en arqueólog@ por un día en la Villa Romana de Fuente Alamo. Puente Genil. \nVen y conoce el apasionante mundo de la #arqueologia: herramientas\, excavación\, clasificación de piezas… \nMuchos objetos valiosos están aún por descubrir\, así que…¡Manos a la excavación! \n\n¡Reserva ya tu plaza!  675 93 95 33  puentegenil@tuhistoria.org Precio: 8 € #cultura #historia #villaromana\n Sábado\, 13 de noviembre  12:00 h.\n Villa Romana de Fuente Alamo. Puente Genil\n\nAforo limitado.
URL:https://visitpuentegenil.es/evento/taller-de-arqueologia/
LOCATION:Villa Romana de Fuente Álamo\, cv-297 km 3\, Puente Genil\, Córdoba\, 14500\, España
ATTACH;FMTTYPE=image/png:https://visitpuentegenil.es/wp-content/uploads/2021/11/13-Taller-de-arqueologia.png
ORGANIZER;CN="Puente Genil Tu historia":MAILTO:puentegenil@tuhistoria.org
END:VEVENT
BEGIN:VEVENT
DTSTART;TZID=Europe/Madrid:20211120T080000
DTEND;TZID=Europe/Madrid:20220106T170000
DTSTAMP:20260423T231557
CREATED:20211112T133422Z
LAST-MODIFIED:20211112T133422Z
UID:9819-1637395200-1641488400@visitpuentegenil.es
SUMMARY:Gran Mercado de Navidad en Puente Genil.
DESCRIPTION:¡Ven al Gran Mercado de #Navidad que hemos preparado para tí! \nTe esperamos en el #ParquedeLosPinos del 20 de noviembre al 6 de enero. \nVen a disfrutar de un mercado navideño diferente al estilo de los grandes mercados centro europeos. Un lugar de encuentro para toda la familia. Un rincón mágico en el que disfrutar. \nEl mercado contará a lo largo de su recorrido de actividades dinamizadoras de primer nivel: autómatas de última generación\, personajes de cuentos y una cabaña destinada a Santa Claus y El cartero Real… \nOrganiza: Las Brujas Eventos \nColabora: Ayuntamiento de Puente Genil
URL:https://visitpuentegenil.es/evento/gran-mercado-de-navidad-en-puente-genil/
LOCATION:Paque de Los Pinos\, Parque de los Pinos\, Puente Genil\, Córdoba\, 14500\, España
ATTACH;FMTTYPE=image/jpeg:https://visitpuentegenil.es/wp-content/uploads/2021/11/20-GRAN-MERCADO-NAVIDENOS-scaled.jpg
ORGANIZER;CN="Las brujas eventos":MAILTO:lasbrujaseventos@gmail.com
END:VEVENT
BEGIN:VEVENT
DTSTART;TZID=Europe/Madrid:20211127T200000
DTEND;TZID=Europe/Madrid:20211127T223000
DTSTAMP:20260423T231557
CREATED:20211103T123843Z
LAST-MODIFIED:20211103T123843Z
UID:9688-1638043200-1638052200@visitpuentegenil.es
SUMMARY:Martínez Ares ilustra el Carnaval de Cádiz en el Teatro Circo.
DESCRIPTION:El gran Antonio Martínez Ares trae a #PuenteGenil su peculiar Carnaval de Cádiz. En este espectáculo nos vamos a encontrar a un Martínez Ares valiente y generoso\, ofreciéndonos su mundo. \nEntenderemos que que el fin\, ganar\, justifica todos los medios\, aunque se pierda mucho en el intento. \nCuando esté en la calle y quiera recordar lo vivido pensará tres cosas: que le han volado la cabeza\, que ese no era el artista que querías ver y\, lo peor de todo\, que repetirías. \nUn espectáculo que recordarás siempre. \nCompra tu entrada aquí. 
URL:https://visitpuentegenil.es/evento/martinez-ares-ilustra-el-carnaval-de-cadiz-en-el-teatro-circo/
LOCATION:Teatro Circo\, C/ Jesús\, s/n\, Puente Genil\, Córdoba\, 14500\, España
CATEGORIES:Carnaval,Música
ATTACH;FMTTYPE=image/jpeg:https://visitpuentegenil.es/wp-content/uploads/2021/11/27-Martinez-Ares.jpg
ORGANIZER;CN="Carnavalea":MAILTO:administracion@carnavalea.es
END:VEVENT
END:VCALENDAR