BEGIN:VCALENDAR
VERSION:2.0
PRODID:-//Visit Puente Genil - ECPv6.15.20//NONSGML v1.0//EN
CALSCALE:GREGORIAN
METHOD:PUBLISH
X-WR-CALNAME:Visit Puente Genil
X-ORIGINAL-URL:https://visitpuentegenil.es
X-WR-CALDESC:Eventos para Visit Puente Genil
REFRESH-INTERVAL;VALUE=DURATION:PT1H
X-Robots-Tag:noindex
X-PUBLISHED-TTL:PT1H
BEGIN:VTIMEZONE
TZID:Europe/Madrid
BEGIN:DAYLIGHT
TZOFFSETFROM:+0100
TZOFFSETTO:+0200
TZNAME:CEST
DTSTART:20210328T010000
END:DAYLIGHT
BEGIN:STANDARD
TZOFFSETFROM:+0200
TZOFFSETTO:+0100
TZNAME:CET
DTSTART:20211031T010000
END:STANDARD
BEGIN:DAYLIGHT
TZOFFSETFROM:+0100
TZOFFSETTO:+0200
TZNAME:CEST
DTSTART:20220327T010000
END:DAYLIGHT
BEGIN:STANDARD
TZOFFSETFROM:+0200
TZOFFSETTO:+0100
TZNAME:CET
DTSTART:20221030T010000
END:STANDARD
BEGIN:DAYLIGHT
TZOFFSETFROM:+0100
TZOFFSETTO:+0200
TZNAME:CEST
DTSTART:20230326T010000
END:DAYLIGHT
BEGIN:STANDARD
TZOFFSETFROM:+0200
TZOFFSETTO:+0100
TZNAME:CET
DTSTART:20231029T010000
END:STANDARD
END:VTIMEZONE
BEGIN:VEVENT
DTSTART;TZID=Europe/Madrid:20220211T190000
DTEND;TZID=Europe/Madrid:20220216T190000
DTSTAMP:20260423T123450
CREATED:20220202T104215Z
LAST-MODIFIED:20220202T114832Z
UID:10001-1644606000-1645038000@visitpuentegenil.es
SUMMARY:Estreno nacional de "Agua."
DESCRIPTION:Puente Genil será la sede el viernes\, 11 de febrero  del estreno nacional de la película “Agua” dirigida por el madrileño Vicente Pérez Herrero y protagonizada por la pontana Pilar Gómez de Cisneros. \nSinopsis:\nFlorencia\, incapaz de asumir la desaparición de su hija\, cooperante en la Amazonía\, trata de mantener la esperanza retomando su vida profesional. La larga ausencia rompe su matrimonio y la casa desolada se va poblando de los OTROS\, amigas imaginarias\, mujeres que como ella sufren el abandono. Florencia crea un mundo paralelo en los límites de la realidad y finalmente ella será uno más de los Otros. \n📌 Multicines Puente Genil \n\n📅 Viernes 11 al domingo 13 de febrero y miércoles 16.\n\n\n⏰ 19:00h.\nSaca tu entrada👉 aquí
URL:https://visitpuentegenil.es/evento/estreno-nacional-de-agua/
LOCATION:Multicines Puente Genil\, Pol. Ind. Las Acacias\, C. Mimosa\, 3\, Puente Genil\, Córdoba\, 14500\, España
ATTACH;FMTTYPE=image/jpeg:https://visitpuentegenil.es/wp-content/uploads/2022/02/11-pelicula_agua_1.jpeg
END:VEVENT
BEGIN:VEVENT
DTSTART;TZID=Europe/Madrid:20220217T193000
DTEND;TZID=Europe/Madrid:20220217T210000
DTSTAMP:20260423T123450
CREATED:20220204T110123Z
LAST-MODIFIED:20220204T110123Z
UID:10012-1645126200-1645131600@visitpuentegenil.es
SUMMARY:"Mariposas de Papel."
DESCRIPTION:Presentación del libro MARIPOSAS DE PAPEL del autor Emilio Bedmar. Editorial Cuadranta \n\n📌 Biblioteca Ricardo Molina \n\n\n📅 Jueves\, 17 de febrero\n\n\n⏰ 19:30h\n\n\nPoesía libre de rima métrica y versos\, con la intención de que los lectores puedan entender que la poesía puede cambiar el mundo y sus formas de vivir. Siempre avanzando hacia un mundo más humano. Es poesía que protesta ante la injusticia de la vida; va al cielo y al infierno\, a la vida y a la muerte. Siempre pidiendo justicia e igualdad de una forma pacifista\, sin olvidarnos de los más pobres. Ellos son los más débiles. Es poesía que no tiene fronteras\, siempre intentando llegar a un mínimo de convivencia para la humanidad. \nEntrada libre hasta completar aforo. Actividad organizada bajo las medidas preventivas Covid-19 vigentes
URL:https://visitpuentegenil.es/evento/mariposas-de-papel/
LOCATION:Biblioteca Pública Municipal Ricardo Molina\, Parque los Pinos\, s/n\, Puente Genil\, Córdoba\, 14500\, España
CATEGORIES:Poesía,Presentaciones libros
ATTACH;FMTTYPE=image/jpeg:https://visitpuentegenil.es/wp-content/uploads/2022/02/17-Mariposas-de-papel.jpeg
END:VEVENT
BEGIN:VEVENT
DTSTART;TZID=Europe/Madrid:20220219T200000
DTEND;TZID=Europe/Madrid:20220219T220000
DTSTAMP:20260423T123450
CREATED:20220203T141221Z
LAST-MODIFIED:20220203T141221Z
UID:10008-1645300800-1645308000@visitpuentegenil.es
SUMMARY:"Aires de Pasión" en el Teatro Circo.
DESCRIPTION:La saeta en toda su dimensión llegará al Teatro Circo de Puente Genil\, de la mano de Javier Cecilia y Evaristo Cuevas. \n“Aires de Pasión” es un espectáculo de temática cofrade en el que se muestra como vive  Andalucía la Cuaresma y la Semana Santa. \nUna visión intimista de la pasión\, muerte y resurrección de Jesús\, en la que piano y voz recorren la geografía cofrade andaluza. \n\n📌 Teatro Circo\n\n\n📅 Sábado\, 19 de febrero.\n\n\n⏰ 20:00h.\n\n🎟️Entrada libre hasta completar aforo. Actividad organizada bajo las medidas preventivas Covid-19 vigentes 
URL:https://visitpuentegenil.es/evento/aires-de-pasion-en-el-teatro-circo/
LOCATION:Teatro Circo\, C/ Jesús\, s/n\, Puente Genil\, Córdoba\, 14500\, España
CATEGORIES:Conciertos
ATTACH;FMTTYPE=image/jpeg:https://visitpuentegenil.es/wp-content/uploads/2022/02/19-Aires-de-Pasion.jpg
END:VEVENT
BEGIN:VEVENT
DTSTART;TZID=Europe/Madrid:20220226T213000
DTEND;TZID=Europe/Madrid:20220226T233000
DTSTAMP:20260423T123450
CREATED:20220222T090432Z
LAST-MODIFIED:20220222T090432Z
UID:10028-1645911000-1645918200@visitpuentegenil.es
SUMMARY:"Mordiendo la verdad"
DESCRIPTION:‘Mordiendo la verdad” es la primera obra de Alba G.\, y se trata de “una inmersión en la realidad de la violencia contra las mujeres de una forma cruda y tierna a un tiempo”\, en la que el público podrá acompañar a la protagonista a través de sus recuerdos\, sus miedos y esperanzas. \nLa obra se divide en tres actos en un viaje por la violencia machista\, sus orígenes\, causas y consecuencias\, “huyendo de los clichés\, con valentía y confianza”. \n📌TEATRO CIRCO DE PUENTE GENIL \n📅Sábado\, 26 de febrero \n⏰ 21:30 h. \nEntradas a 6 euros en anticipada https://entradium.com/events/morder-la-verdad y 7 euros en taquilla \nOrganiza: Asociación Contracultura \nColaboran: Ayuntamiento de Puente Genil y Diputación de Córdoba \nActividad organizada bajo las medidas preventivas Covid-19 vigentes \n 
URL:https://visitpuentegenil.es/evento/mordiendo-la-verdad/
LOCATION:Teatro Circo\, C/ Jesús\, s/n\, Puente Genil\, Córdoba\, 14500\, España
CATEGORIES:Monólogos,Teatro
ATTACH;FMTTYPE=image/jpeg:https://visitpuentegenil.es/wp-content/uploads/2022/02/26-Mordiendo-la-verdad.jpeg
ORGANIZER;CN="Contracultura":MAILTO:asociacioncontracultura@gmail.com
END:VEVENT
END:VCALENDAR