BEGIN:VCALENDAR
VERSION:2.0
PRODID:-//Visit Puente Genil - ECPv6.15.20//NONSGML v1.0//EN
CALSCALE:GREGORIAN
METHOD:PUBLISH
X-ORIGINAL-URL:https://visitpuentegenil.es
X-WR-CALDESC:Eventos para Visit Puente Genil
REFRESH-INTERVAL;VALUE=DURATION:PT1H
X-Robots-Tag:noindex
X-PUBLISHED-TTL:PT1H
BEGIN:VTIMEZONE
TZID:Europe/Madrid
BEGIN:DAYLIGHT
TZOFFSETFROM:+0100
TZOFFSETTO:+0200
TZNAME:CEST
DTSTART:20210328T010000
END:DAYLIGHT
BEGIN:STANDARD
TZOFFSETFROM:+0200
TZOFFSETTO:+0100
TZNAME:CET
DTSTART:20211031T010000
END:STANDARD
BEGIN:DAYLIGHT
TZOFFSETFROM:+0100
TZOFFSETTO:+0200
TZNAME:CEST
DTSTART:20220327T010000
END:DAYLIGHT
BEGIN:STANDARD
TZOFFSETFROM:+0200
TZOFFSETTO:+0100
TZNAME:CET
DTSTART:20221030T010000
END:STANDARD
BEGIN:DAYLIGHT
TZOFFSETFROM:+0100
TZOFFSETTO:+0200
TZNAME:CEST
DTSTART:20230326T010000
END:DAYLIGHT
BEGIN:STANDARD
TZOFFSETFROM:+0200
TZOFFSETTO:+0100
TZNAME:CET
DTSTART:20231029T010000
END:STANDARD
END:VTIMEZONE
BEGIN:VEVENT
DTSTART;TZID=Europe/Madrid:20220421T190000
DTEND;TZID=Europe/Madrid:20220421T203000
DTSTAMP:20260423T093501
CREATED:20220420T110347Z
LAST-MODIFIED:20220420T113705Z
UID:10272-1650567600-1650573000@visitpuentegenil.es
SUMMARY:Presentación del libro "Flores para Ariana\," de Antonio Pampliega.
DESCRIPTION:Papelería Delibes con la colaboración del Ayuntamiento de Puente Genil y la Asociación Contracultura presenta el libro “Flores para Ariana\,” de Antonio Pampliega.\n\nEl libro es la historia de la lucha de una adolescente en la Afganistán de los talibanes. Feminismo y conflictos olvidados de la mano de Antonio Pampliega\, periodista especializado en conflictos internacionales.\n“Una emotiva novela que traslada a la ficción algunas de las historias reales que Antonio Pampliega ha ido recogiendo durante sus años como corresponsal de guerra en Afganistán. Con la crudeza de quien sabe que la vida no siempre regala finales felices\, nos da la posibilidad de vivir en primera persona una realidad que no por ser lejana nos debería ser ajena.”\n\n\n📌Biblioteca Ricardo Molina \n📅 Jueves\, 21 de abril\, ⏰19:00h.
URL:https://visitpuentegenil.es/evento/presentacion-del-libro-flores-para-ariana-de-antonio-pampliega/
LOCATION:Biblioteca Pública Municipal Ricardo Molina\, Parque los Pinos\, s/n\, Puente Genil\, Córdoba\, 14500\, España
CATEGORIES:Presentaciones libros
ATTACH;FMTTYPE=image/jpeg:https://visitpuentegenil.es/wp-content/uploads/2022/04/Flores-para-Ariana.jpg
END:VEVENT
BEGIN:VEVENT
DTSTART;TZID=Europe/Madrid:20220423T200000
DTEND;TZID=Europe/Madrid:20220423T220000
DTSTAMP:20260423T093501
CREATED:20220420T122251Z
LAST-MODIFIED:20220420T122251Z
UID:10275-1650744000-1650751200@visitpuentegenil.es
SUMMARY:¡Viva el flamenco sinfónico!
DESCRIPTION:Puente Genil será el estreno de este innovador espectáculo musical en el que se reinterpretan y se adaptan a la música sinfónica de orquesta\, brillantes piezas de flamenco clásicas y de composición propia. \nPodrán escucharse orquestaciones de palos flamencos de grandes guitarristas como Rafael Riqueni\, Vicente Amigo o Paco de Lucía que harán las delicias tanto de los aficionados al flamenco como de los amantes de la música sinfónica. \nNo es flamenco al uso. Tampoco es música clásica. Es algo diferente. Se trata de…. FLAMENCO SINFÓNICO. No te lo pierdas. \n📌 Teatro Circo de Puente Genil \n📅 Sábado\, 23 de abril\, ⏰ 20:00h. \nPrecio de las localidades: 10 euros en anticipada a través de https://eventos.solopuentegenil.com/eventos/orquesta-sinfonica-flamenca/ y 12 euros en taquilla \nOrganiza: Asociación Cultural “Aldaba Bemol” \nColabora: Ayuntamiento de Puente Genil \nActividad con todas las medidas preventivas Covid-19
URL:https://visitpuentegenil.es/evento/viva-el-flamenco-sinfonico/
LOCATION:Teatro Circo\, C/ Jesús\, s/n\, Puente Genil\, Córdoba\, 14500\, España
CATEGORIES:Conciertos,Flamenco,Música
ATTACH;FMTTYPE=image/jpeg:https://visitpuentegenil.es/wp-content/uploads/2022/04/concierto_orquesta_sinfonica_flamenca.jpeg
END:VEVENT
BEGIN:VEVENT
DTSTART;TZID=Europe/Madrid:20220425T123000
DTEND;TZID=Europe/Madrid:20220425T140000
DTSTAMP:20260423T093501
CREATED:20220421T122530Z
LAST-MODIFIED:20220421T122530Z
UID:10285-1650889800-1650895200@visitpuentegenil.es
SUMMARY:Visita con anfitrión en la Villa Romana de Fuente Álamo.
DESCRIPTION:¡Ven a #PuenteGenil y descubre la Villa Romana de Fuente Álamo en una visita con anfitrión! \n¡Haz tu reserva ya y viaja al pasado!  \n+ Info: 957 60 50 34 Ext. 380 / 675 93 95 33.
URL:https://visitpuentegenil.es/evento/visita-con-anfitrion-en-la-villa-romana-de-fuente-alamo-2/
LOCATION:Villa Romana de Fuente Álamo\, cv-297 km 3\, Puente Genil\, Córdoba\, 14500\, España
ATTACH;FMTTYPE=image/png:https://visitpuentegenil.es/wp-content/uploads/2022/04/Visita-Anfitrion-25-Abril-.png
ORGANIZER;CN="Puente Genil Tu historia":MAILTO:puentegenil@tuhistoria.org
END:VEVENT
END:VCALENDAR