BEGIN:VCALENDAR
VERSION:2.0
PRODID:-//Visit Puente Genil - ECPv6.15.20//NONSGML v1.0//EN
CALSCALE:GREGORIAN
METHOD:PUBLISH
X-WR-CALNAME:Visit Puente Genil
X-ORIGINAL-URL:https://visitpuentegenil.es
X-WR-CALDESC:Eventos para Visit Puente Genil
REFRESH-INTERVAL;VALUE=DURATION:PT1H
X-Robots-Tag:noindex
X-PUBLISHED-TTL:PT1H
BEGIN:VTIMEZONE
TZID:Europe/Madrid
BEGIN:DAYLIGHT
TZOFFSETFROM:+0100
TZOFFSETTO:+0200
TZNAME:CEST
DTSTART:20210328T010000
END:DAYLIGHT
BEGIN:STANDARD
TZOFFSETFROM:+0200
TZOFFSETTO:+0100
TZNAME:CET
DTSTART:20211031T010000
END:STANDARD
BEGIN:DAYLIGHT
TZOFFSETFROM:+0100
TZOFFSETTO:+0200
TZNAME:CEST
DTSTART:20220327T010000
END:DAYLIGHT
BEGIN:STANDARD
TZOFFSETFROM:+0200
TZOFFSETTO:+0100
TZNAME:CET
DTSTART:20221030T010000
END:STANDARD
BEGIN:DAYLIGHT
TZOFFSETFROM:+0100
TZOFFSETTO:+0200
TZNAME:CEST
DTSTART:20230326T010000
END:DAYLIGHT
BEGIN:STANDARD
TZOFFSETFROM:+0200
TZOFFSETTO:+0100
TZNAME:CET
DTSTART:20231029T010000
END:STANDARD
END:VTIMEZONE
BEGIN:VEVENT
DTSTART;TZID=Europe/Madrid:20220603T213000
DTEND;TZID=Europe/Madrid:20220604T003000
DTSTAMP:20260423T024451
CREATED:20220601T084256Z
LAST-MODIFIED:20220601T084256Z
UID:10452-1654291800-1654302600@visitpuentegenil.es
SUMMARY:Final Concurso Cante Flamenco Membrillo de Oro 2022.
DESCRIPTION:Ya se conocen los cinco finalistas que optarán al premio de 3.000 euros\, trofeo y participación no remunerada en el Festival de Cante Grande “Fosforito” 2023 del Membrillo de Oro 2022. \nLos cinco finalistas son: \nFrancisco Javier Heredia Hernández\, de Linares (Jaén);  Lucía Beltrán Sedano\, de Trigueros (Huelva)\, José López Castro\, de Linares (Jaén); Jesús Reyes Campos\, de Lucena (Córdoba) y Moisés Martínez Vargas\, de Cartaya (Huelva). \nTambién se conoce ya al ganador del “Cante especial Fosforito” que en la presente edición ha estado dedicado al “Zángano” y que se ha cantado en las fases clasificatorias. El premio de 500 euros y trofeo al mejor “Zángano de Puente Genil” ha sido para Jesús Reyes Campos. \nEl resto de premios que se repartirán en la final serán el de 1.300 euros y trofeo para el segundo clasificado\, 700 euros y trofeo para el tercer clasificado y dos accésits de 250 euros. \n📌 Teatro Circo de Puente Genil 📅 Viernes\, 3 de junio\, ⏰21:30h.
URL:https://visitpuentegenil.es/evento/final-concurso-cante-flamenco-membrillo-de-oro-2022/
LOCATION:Teatro Circo\, C/ Jesús\, s/n\, Puente Genil\, Córdoba\, 14500\, España
CATEGORIES:Concurso,Flamenco
ATTACH;FMTTYPE=image/jpeg:https://visitpuentegenil.es/wp-content/uploads/2022/06/3-Final-Membrillo-de-Oro.jpeg
END:VEVENT
BEGIN:VEVENT
DTSTART;TZID=Europe/Madrid:20220604T110000
DTEND;TZID=Europe/Madrid:20220604T123000
DTSTAMP:20260423T024451
CREATED:20220601T070157Z
LAST-MODIFIED:20220601T070157Z
UID:10449-1654340400-1654345800@visitpuentegenil.es
SUMMARY:Visita con anfitrión en la Villa Romana de Fuente Álamo.
DESCRIPTION:¡Ave\, César!  \nVuelve a la época romana a través de una visita con anfitrión por la Villa Romana de Fuente Álamo. \nEste 📅 sábado 4 de junio\, a las 11:00 h. tienes una cita con tu pasado en #PuenteGenil. \n ¡Reserva tu plaza y haz un viaje en el tiempo!  \nInfo. y reservas: ☎️ 957 60 50 34 Ext. 380 / 📱675 939 533.  \n#ExperienciaÚnica \n 
URL:https://visitpuentegenil.es/evento/visita-con-anfitrion-en-la-villa-romana-de-fuente-alamo-3/
LOCATION:Villa Romana de Fuente Álamo\, cv-297 km 3\, Puente Genil\, Córdoba\, 14500\, España
CATEGORIES:Arqueología,Historia,Visitas guiadas
ATTACH;FMTTYPE=image/jpeg:https://visitpuentegenil.es/wp-content/uploads/2022/06/4-Visita-con-Anfitrion-FA.jpg
ORGANIZER;CN="Puente Genil Tu historia":MAILTO:puentegenil@tuhistoria.org
END:VEVENT
BEGIN:VEVENT
DTSTART;TZID=Europe/Madrid:20220611T210000
DTEND;TZID=Europe/Madrid:20220611T230000
DTSTAMP:20260423T024451
CREATED:20220520T085253Z
LAST-MODIFIED:20220520T092117Z
UID:10430-1654981200-1654988400@visitpuentegenil.es
SUMMARY:Mujeres\, cristales y laureles
DESCRIPTION:TEATRO “MUJERES\, CRISTALES Y LAURELES” \nTributo a Federico García Lorca y a las mujeres que han protagonizado sus obras\, habitantes de una sociedad patriarcal. La obra resume otras cuatro  de Lorca que son: “Doña Rosita la Soltera”\, “Bodas de sangre”\, “Yerma” y “La Casa de Bernarda Alba”. Será un evento donde se conjuguen la dramaturgia\, música de piano\, de guitarra\, percusión y canto en directo. \nTeatro Circo de Puente Genil \nSábado\, 11 de junio\, 21:00h \nEntradas 5€ en Mapfre (Avenida de la Estación) o contactando con personas de la compañía de Osmara Teatro \nOrganiza: Osmara Teatro \nColaboran: Ayuntamiento de Puente Genil\, La Barraca de Charito\, Cata Teatro y Escena Amateur
URL:https://visitpuentegenil.es/evento/mujeres-cristales-y-laureles/
LOCATION:Teatro Circo\, C/ Jesús\, s/n\, Puente Genil\, Córdoba\, 14500\, España
CATEGORIES:Teatro
ATTACH;FMTTYPE=image/jpeg:https://visitpuentegenil.es/wp-content/uploads/2022/05/11-Mujeres-cristales-y-laureles.jpeg
END:VEVENT
END:VCALENDAR