BEGIN:VCALENDAR
VERSION:2.0
PRODID:-//Visit Puente Genil - ECPv6.15.20//NONSGML v1.0//EN
CALSCALE:GREGORIAN
METHOD:PUBLISH
X-WR-CALNAME:Visit Puente Genil
X-ORIGINAL-URL:https://visitpuentegenil.es
X-WR-CALDESC:Eventos para Visit Puente Genil
REFRESH-INTERVAL;VALUE=DURATION:PT1H
X-Robots-Tag:noindex
X-PUBLISHED-TTL:PT1H
BEGIN:VTIMEZONE
TZID:Europe/Madrid
BEGIN:DAYLIGHT
TZOFFSETFROM:+0100
TZOFFSETTO:+0200
TZNAME:CEST
DTSTART:20200329T010000
END:DAYLIGHT
BEGIN:STANDARD
TZOFFSETFROM:+0200
TZOFFSETTO:+0100
TZNAME:CET
DTSTART:20201025T010000
END:STANDARD
BEGIN:DAYLIGHT
TZOFFSETFROM:+0100
TZOFFSETTO:+0200
TZNAME:CEST
DTSTART:20210328T010000
END:DAYLIGHT
BEGIN:STANDARD
TZOFFSETFROM:+0200
TZOFFSETTO:+0100
TZNAME:CET
DTSTART:20211031T010000
END:STANDARD
BEGIN:DAYLIGHT
TZOFFSETFROM:+0100
TZOFFSETTO:+0200
TZNAME:CEST
DTSTART:20220327T010000
END:DAYLIGHT
BEGIN:STANDARD
TZOFFSETFROM:+0200
TZOFFSETTO:+0100
TZNAME:CET
DTSTART:20221030T010000
END:STANDARD
END:VTIMEZONE
BEGIN:VEVENT
DTSTART;TZID=Europe/Madrid:20210502T123000
DTEND;TZID=Europe/Madrid:20210502T140000
DTSTAMP:20260425T011951
CREATED:20210501T114127Z
LAST-MODIFIED:20210501T115729Z
UID:8473-1619958600-1619964000@visitpuentegenil.es
SUMMARY:#MayoMonumental El comercio en la antigua Roma.
DESCRIPTION:¡Marco Julio Hermesiano ya está aquí! Viene a la Villa Romana de Fuente Álamo para llevarse el mejor aceite de toda la Bética Romana…\n¡Reserva ya tu plaza! Disfruta de esta visita teatralizada y de sus singulares personajes 🤗 🎭 2 MAYO – 12:30h\n▶ Info: 📞 675 93 95 33 / puentegenil@tuhistoria.org  Precio: 5 €\nConsulta todas las actividades de mayo aquí: https://bit.ly/3b6zVLh\n#MayoMonumental #DondeElSolSeHaceDulce
URL:https://visitpuentegenil.es/evento/el-comercio-en-la-antigua-roma/
LOCATION:Villa Romana de Fuente Álamo\, cv-297 km 3\, Puente Genil\, Córdoba\, 14500\, España
CATEGORIES:Arqueología,Visitas teatralizadas
ATTACH;FMTTYPE=image/jpeg:https://visitpuentegenil.es/wp-content/uploads/2021/05/2-de-mayo-Tu-historia.jpg
ORGANIZER;CN="Puente Genil Tu historia":MAILTO:puentegenil@tuhistoria.org
END:VEVENT
END:VCALENDAR