BEGIN:VCALENDAR
VERSION:2.0
PRODID:-//Visit Puente Genil - ECPv6.15.20//NONSGML v1.0//EN
CALSCALE:GREGORIAN
METHOD:PUBLISH
X-ORIGINAL-URL:https://visitpuentegenil.es
X-WR-CALDESC:Eventos para Visit Puente Genil
REFRESH-INTERVAL;VALUE=DURATION:PT1H
X-Robots-Tag:noindex
X-PUBLISHED-TTL:PT1H
BEGIN:VTIMEZONE
TZID:Europe/Madrid
BEGIN:DAYLIGHT
TZOFFSETFROM:+0100
TZOFFSETTO:+0200
TZNAME:CEST
DTSTART:20200329T010000
END:DAYLIGHT
BEGIN:STANDARD
TZOFFSETFROM:+0200
TZOFFSETTO:+0100
TZNAME:CET
DTSTART:20201025T010000
END:STANDARD
BEGIN:DAYLIGHT
TZOFFSETFROM:+0100
TZOFFSETTO:+0200
TZNAME:CEST
DTSTART:20210328T010000
END:DAYLIGHT
BEGIN:STANDARD
TZOFFSETFROM:+0200
TZOFFSETTO:+0100
TZNAME:CET
DTSTART:20211031T010000
END:STANDARD
BEGIN:DAYLIGHT
TZOFFSETFROM:+0100
TZOFFSETTO:+0200
TZNAME:CEST
DTSTART:20220327T010000
END:DAYLIGHT
BEGIN:STANDARD
TZOFFSETFROM:+0200
TZOFFSETTO:+0100
TZNAME:CET
DTSTART:20221030T010000
END:STANDARD
END:VTIMEZONE
BEGIN:VEVENT
DTSTART;TZID=Europe/Madrid:20210530T120000
DTEND;TZID=Europe/Madrid:20210530T140000
DTSTAMP:20260424T234333
CREATED:20210528T080827Z
LAST-MODIFIED:20210528T080907Z
UID:8816-1622376000-1622383200@visitpuentegenil.es
SUMMARY:Últimas actividad del #MayoMonumenta: Anzur en el Medievo.
DESCRIPTION:¡Últimas plazas para Anzur en el Medievo! \nVisita por el casco antiguo (con entrada al complejo industrial “La Alianza”) – 11:00 h + Microteatro en el Museo Histórico Local – Los Frailes. \n📅Domingo\, 30 mayo – ⏱ 12:00 h. \n¡Te esperamos!🤗 \n¡Reserva ya tu plaza! Tlf. 675 93 95 33 / puentegenil@tuhistoria.org
URL:https://visitpuentegenil.es/evento/ultimas-actividad-del-mayomonumenta-anzur-en-el-medievo/
LOCATION:puente genil
CATEGORIES:Visitas guiadas
ATTACH;FMTTYPE=image/png:https://visitpuentegenil.es/wp-content/uploads/2021/05/30-Cartel-Anzur-en-el-Medievo-Facebook.png
ORGANIZER;CN="Puente Genil Tu historia":MAILTO:puentegenil@tuhistoria.org
END:VEVENT
END:VCALENDAR