BEGIN:VCALENDAR
VERSION:2.0
PRODID:-//Visit Puente Genil - ECPv6.15.20//NONSGML v1.0//EN
CALSCALE:GREGORIAN
METHOD:PUBLISH
X-ORIGINAL-URL:https://visitpuentegenil.es
X-WR-CALDESC:Eventos para Visit Puente Genil
REFRESH-INTERVAL;VALUE=DURATION:PT1H
X-Robots-Tag:noindex
X-PUBLISHED-TTL:PT1H
BEGIN:VTIMEZONE
TZID:Europe/Madrid
BEGIN:DAYLIGHT
TZOFFSETFROM:+0100
TZOFFSETTO:+0200
TZNAME:CEST
DTSTART:20200329T010000
END:DAYLIGHT
BEGIN:STANDARD
TZOFFSETFROM:+0200
TZOFFSETTO:+0100
TZNAME:CET
DTSTART:20201025T010000
END:STANDARD
BEGIN:DAYLIGHT
TZOFFSETFROM:+0100
TZOFFSETTO:+0200
TZNAME:CEST
DTSTART:20210328T010000
END:DAYLIGHT
BEGIN:STANDARD
TZOFFSETFROM:+0200
TZOFFSETTO:+0100
TZNAME:CET
DTSTART:20211031T010000
END:STANDARD
BEGIN:DAYLIGHT
TZOFFSETFROM:+0100
TZOFFSETTO:+0200
TZNAME:CEST
DTSTART:20220327T010000
END:DAYLIGHT
BEGIN:STANDARD
TZOFFSETFROM:+0200
TZOFFSETTO:+0100
TZNAME:CET
DTSTART:20221030T010000
END:STANDARD
BEGIN:DAYLIGHT
TZOFFSETFROM:+0100
TZOFFSETTO:+0200
TZNAME:CEST
DTSTART:20230326T010000
END:DAYLIGHT
BEGIN:STANDARD
TZOFFSETFROM:+0200
TZOFFSETTO:+0100
TZNAME:CET
DTSTART:20231029T010000
END:STANDARD
END:VTIMEZONE
BEGIN:VEVENT
DTSTART;TZID=Europe/Madrid:20211120T080000
DTEND;TZID=Europe/Madrid:20220106T170000
DTSTAMP:20260424T010721
CREATED:20211112T133422Z
LAST-MODIFIED:20211112T133422Z
UID:9819-1637395200-1641488400@visitpuentegenil.es
SUMMARY:Gran Mercado de Navidad en Puente Genil.
DESCRIPTION:¡Ven al Gran Mercado de #Navidad que hemos preparado para tí! \nTe esperamos en el #ParquedeLosPinos del 20 de noviembre al 6 de enero. \nVen a disfrutar de un mercado navideño diferente al estilo de los grandes mercados centro europeos. Un lugar de encuentro para toda la familia. Un rincón mágico en el que disfrutar. \nEl mercado contará a lo largo de su recorrido de actividades dinamizadoras de primer nivel: autómatas de última generación\, personajes de cuentos y una cabaña destinada a Santa Claus y El cartero Real… \nOrganiza: Las Brujas Eventos \nColabora: Ayuntamiento de Puente Genil
URL:https://visitpuentegenil.es/evento/gran-mercado-de-navidad-en-puente-genil/
LOCATION:Paque de Los Pinos\, Parque de los Pinos\, Puente Genil\, Córdoba\, 14500\, España
ATTACH;FMTTYPE=image/jpeg:https://visitpuentegenil.es/wp-content/uploads/2021/11/20-GRAN-MERCADO-NAVIDENOS-scaled.jpg
ORGANIZER;CN="Las brujas eventos":MAILTO:lasbrujaseventos@gmail.com
END:VEVENT
BEGIN:VEVENT
DTSTART;TZID=Europe/Madrid:20211127T200000
DTEND;TZID=Europe/Madrid:20211127T223000
DTSTAMP:20260424T010721
CREATED:20211103T123843Z
LAST-MODIFIED:20211103T123843Z
UID:9688-1638043200-1638052200@visitpuentegenil.es
SUMMARY:Martínez Ares ilustra el Carnaval de Cádiz en el Teatro Circo.
DESCRIPTION:El gran Antonio Martínez Ares trae a #PuenteGenil su peculiar Carnaval de Cádiz. En este espectáculo nos vamos a encontrar a un Martínez Ares valiente y generoso\, ofreciéndonos su mundo. \nEntenderemos que que el fin\, ganar\, justifica todos los medios\, aunque se pierda mucho en el intento. \nCuando esté en la calle y quiera recordar lo vivido pensará tres cosas: que le han volado la cabeza\, que ese no era el artista que querías ver y\, lo peor de todo\, que repetirías. \nUn espectáculo que recordarás siempre. \nCompra tu entrada aquí. 
URL:https://visitpuentegenil.es/evento/martinez-ares-ilustra-el-carnaval-de-cadiz-en-el-teatro-circo/
LOCATION:Teatro Circo\, C/ Jesús\, s/n\, Puente Genil\, Córdoba\, 14500\, España
CATEGORIES:Carnaval,Música
ATTACH;FMTTYPE=image/jpeg:https://visitpuentegenil.es/wp-content/uploads/2021/11/27-Martinez-Ares.jpg
ORGANIZER;CN="Carnavalea":MAILTO:administracion@carnavalea.es
END:VEVENT
END:VCALENDAR