BEGIN:VCALENDAR
VERSION:2.0
PRODID:-//Visit Puente Genil - ECPv6.15.20//NONSGML v1.0//EN
CALSCALE:GREGORIAN
METHOD:PUBLISH
X-WR-CALNAME:Visit Puente Genil
X-ORIGINAL-URL:https://visitpuentegenil.es
X-WR-CALDESC:Eventos para Visit Puente Genil
REFRESH-INTERVAL;VALUE=DURATION:PT1H
X-Robots-Tag:noindex
X-PUBLISHED-TTL:PT1H
BEGIN:VTIMEZONE
TZID:Europe/Madrid
BEGIN:DAYLIGHT
TZOFFSETFROM:+0100
TZOFFSETTO:+0200
TZNAME:CEST
DTSTART:20210328T010000
END:DAYLIGHT
BEGIN:STANDARD
TZOFFSETFROM:+0200
TZOFFSETTO:+0100
TZNAME:CET
DTSTART:20211031T010000
END:STANDARD
BEGIN:DAYLIGHT
TZOFFSETFROM:+0100
TZOFFSETTO:+0200
TZNAME:CEST
DTSTART:20220327T010000
END:DAYLIGHT
BEGIN:STANDARD
TZOFFSETFROM:+0200
TZOFFSETTO:+0100
TZNAME:CET
DTSTART:20221030T010000
END:STANDARD
BEGIN:DAYLIGHT
TZOFFSETFROM:+0100
TZOFFSETTO:+0200
TZNAME:CEST
DTSTART:20230326T010000
END:DAYLIGHT
BEGIN:STANDARD
TZOFFSETFROM:+0200
TZOFFSETTO:+0100
TZNAME:CET
DTSTART:20231029T010000
END:STANDARD
END:VTIMEZONE
BEGIN:VEVENT
DTSTART;TZID=Europe/Madrid:20220303T193000
DTEND;TZID=Europe/Madrid:20220303T210000
DTSTAMP:20260423T123757
CREATED:20220222T093841Z
LAST-MODIFIED:20220222T093841Z
UID:10031-1646335800-1646341200@visitpuentegenil.es
SUMMARY:Presentación del poemario "Camino al Desastre."
DESCRIPTION:EL AUTOR Y SU OBRA \nPresentación del libro CAMINO AL DESASTRE de la autora pontana MARÍA BERRAL. Editorial Adarve. Poemario de tres capítulos con el amor y el desamor como tema central. \n📌 Biblioteca Municipal Ricardo Molina \n📅 Jueves\, 3 de marzo. \n⏰ 19:30h. \nEntrada libre hasta completar aforo. Actividad organizada bajo las medidas preventivas Covid-19 vigentes \nOrganiza: Ayuntamiento de Puente Genil. Delegación de Cultura y la Fundación Juan Rejano.
URL:https://visitpuentegenil.es/evento/presentacion-del-poemario-camino-al-desastre/
LOCATION:Biblioteca Pública Municipal Ricardo Molina\, Parque los Pinos\, s/n\, Puente Genil\, Córdoba\, 14500\, España
CATEGORIES:Poesía,Presentaciones libros
ATTACH;FMTTYPE=image/jpeg:https://visitpuentegenil.es/wp-content/uploads/2022/02/3-camino_al_desastre_libro.jpeg
END:VEVENT
END:VCALENDAR