BEGIN:VCALENDAR
VERSION:2.0
PRODID:-//Visit Puente Genil - ECPv6.15.20//NONSGML v1.0//EN
CALSCALE:GREGORIAN
METHOD:PUBLISH
X-WR-CALNAME:Visit Puente Genil
X-ORIGINAL-URL:https://visitpuentegenil.es
X-WR-CALDESC:Eventos para Visit Puente Genil
REFRESH-INTERVAL;VALUE=DURATION:PT1H
X-Robots-Tag:noindex
X-PUBLISHED-TTL:PT1H
BEGIN:VTIMEZONE
TZID:Europe/Madrid
BEGIN:DAYLIGHT
TZOFFSETFROM:+0100
TZOFFSETTO:+0200
TZNAME:CEST
DTSTART:20210328T010000
END:DAYLIGHT
BEGIN:STANDARD
TZOFFSETFROM:+0200
TZOFFSETTO:+0100
TZNAME:CET
DTSTART:20211031T010000
END:STANDARD
BEGIN:DAYLIGHT
TZOFFSETFROM:+0100
TZOFFSETTO:+0200
TZNAME:CEST
DTSTART:20220327T010000
END:DAYLIGHT
BEGIN:STANDARD
TZOFFSETFROM:+0200
TZOFFSETTO:+0100
TZNAME:CET
DTSTART:20221030T010000
END:STANDARD
BEGIN:DAYLIGHT
TZOFFSETFROM:+0100
TZOFFSETTO:+0200
TZNAME:CEST
DTSTART:20230326T010000
END:DAYLIGHT
BEGIN:STANDARD
TZOFFSETFROM:+0200
TZOFFSETTO:+0100
TZNAME:CET
DTSTART:20231029T010000
END:STANDARD
END:VTIMEZONE
BEGIN:VEVENT
DTSTART;TZID=Europe/Madrid:20220305T190000
DTEND;TZID=Europe/Madrid:20220305T210000
DTSTAMP:20260423T123803
CREATED:20220222T103023Z
LAST-MODIFIED:20220222T103023Z
UID:10034-1646506800-1646514000@visitpuentegenil.es
SUMMARY:Gala SOLIDARIA MANOS UNIDAS.
DESCRIPTION:Gala SOLIDARIA a beneficio de los proyectos misioneros de MANOS UNIDAS  \nEl evento contará con la actuación musical de David Cáceres y Pedro Sosa\, el piano de Daniel Matas y la presentación de Ana Medina. \n📌 Teatro Circo \n📅 Sábado\, 5 de marzo. \n ⏰ 19:00h. \nEntradas a 10 euros con venta anticipada en Papelería La Ideal (C/Aguilar\, 115) \n\n\n\n\nOrganiza: Manos Unidas Puente Genil. \nPatrocinan: Iluminaciones Ximénez\, Codimar y Treico. \nColabora: Ayuntamiento de Puente Genil \nActividad organizada bajo las medidas preventivas Covid-19 vigentes \n\n\n\n\n\n\n\n\n\n 
URL:https://visitpuentegenil.es/evento/gala-solidaria-manos-unidas/
LOCATION:Teatro Circo\, C/ Jesús\, s/n\, Puente Genil\, Córdoba\, 14500\, España
CATEGORIES:Conciertos
ATTACH;FMTTYPE=image/jpeg:https://visitpuentegenil.es/wp-content/uploads/2022/02/5-gala_solidaria_manos_unidas.jpg
END:VEVENT
END:VCALENDAR