BEGIN:VCALENDAR
VERSION:2.0
PRODID:-//Visit Puente Genil - ECPv6.15.20//NONSGML v1.0//EN
CALSCALE:GREGORIAN
METHOD:PUBLISH
X-WR-CALNAME:Visit Puente Genil
X-ORIGINAL-URL:https://visitpuentegenil.es
X-WR-CALDESC:Eventos para Visit Puente Genil
REFRESH-INTERVAL;VALUE=DURATION:PT1H
X-Robots-Tag:noindex
X-PUBLISHED-TTL:PT1H
BEGIN:VTIMEZONE
TZID:Europe/Madrid
BEGIN:DAYLIGHT
TZOFFSETFROM:+0100
TZOFFSETTO:+0200
TZNAME:CEST
DTSTART:20210328T010000
END:DAYLIGHT
BEGIN:STANDARD
TZOFFSETFROM:+0200
TZOFFSETTO:+0100
TZNAME:CET
DTSTART:20211031T010000
END:STANDARD
BEGIN:DAYLIGHT
TZOFFSETFROM:+0100
TZOFFSETTO:+0200
TZNAME:CEST
DTSTART:20220327T010000
END:DAYLIGHT
BEGIN:STANDARD
TZOFFSETFROM:+0200
TZOFFSETTO:+0100
TZNAME:CET
DTSTART:20221030T010000
END:STANDARD
BEGIN:DAYLIGHT
TZOFFSETFROM:+0100
TZOFFSETTO:+0200
TZNAME:CEST
DTSTART:20230326T010000
END:DAYLIGHT
BEGIN:STANDARD
TZOFFSETFROM:+0200
TZOFFSETTO:+0100
TZNAME:CET
DTSTART:20231029T010000
END:STANDARD
END:VTIMEZONE
BEGIN:VEVENT
DTSTART;TZID=Europe/Madrid:20220317T100000
DTEND;TZID=Europe/Madrid:20220331T200000
DTSTAMP:20260423T123806
CREATED:20220314T111631Z
LAST-MODIFIED:20220314T114622Z
UID:10103-1647511200-1648756800@visitpuentegenil.es
SUMMARY:Exposición de Artesanía.
DESCRIPTION:Exposición de Artesanía en la Casa de la Cultura “Alcalde Manuel Baena Jiménez. \nSebastián Aguilar\, José Díaz\, Miguel Ángel Sánchez y Rafael Estepa exponen sus trabajos en cobre\, esparto\, latón\, madera y plástico desde el 17 al 31 de marzo. \nInauguración 📅 miércoles 16 de marzo a las ⏰19:00h. \nHorario de apertura de la exposición de 10:00 a 14:00h y de 17:00 a 20:00h. de lunes a viernes. \n  \n 
URL:https://visitpuentegenil.es/evento/exposicion-de-artesania/
LOCATION:Casa de la Cultura\, Calle Cruz del Estudiante\, 35\, Puente Genil\, Córdoba\, 14500\, España
CATEGORIES:Artesanía,Exposiciones
ATTACH;FMTTYPE=image/jpeg:https://visitpuentegenil.es/wp-content/uploads/2022/03/17-Expo-Artesania.jpeg
END:VEVENT
BEGIN:VEVENT
DTSTART;TZID=Europe/Madrid:20220319T200000
DTEND;TZID=Europe/Madrid:20220320T200000
DTSTAMP:20260423T123806
CREATED:20220311T140143Z
LAST-MODIFIED:20220311T140143Z
UID:10082-1647720000-1647806400@visitpuentegenil.es
SUMMARY:¡Qué ruina de función!
DESCRIPTION:Una compañía de teatro aficionado se dispone a realizar el ensayo general de su obra\, pero surgen miles de contratiempos…  \n¿Podrán terminar el ensayo general con éxito? ¿Saldrán victoriosos ante tantos inconvenientes?…  \nMás vale que se den prisa\, el público pronto llenará el teatro.  \nLa Asociación Cultural Zenobia en colaboración con el Ayuntamiento de Puente Genil y con la dirección de Manolo Márquez estrena esta adaptación de la obra de Michael Frayn. \n📍Teatro Circo \n📅Sábado\, 19 de marzo y domingo\, 20 de marzo.  \n⏰20:00 h. \n🎟️ Entradas 5 euros anticipada y 7 euros en taquilla. A la venta en Carnicería Jócar\, Calzados Kike y San José Viajes. \nActividad organizada bajo las medidas preventivas Covid-19 vigentes
URL:https://visitpuentegenil.es/evento/que-ruina-de-funcion/
LOCATION:Teatro Circo\, C/ Jesús\, s/n\, Puente Genil\, Córdoba\, 14500\, España
CATEGORIES:Teatro
ATTACH;FMTTYPE=image/jpeg:https://visitpuentegenil.es/wp-content/uploads/2022/03/19-20-¡Que-ruina-de-funcion.jpg
END:VEVENT
END:VCALENDAR