BEGIN:VCALENDAR
VERSION:2.0
PRODID:-//Visit Puente Genil - ECPv6.15.20//NONSGML v1.0//EN
CALSCALE:GREGORIAN
METHOD:PUBLISH
X-WR-CALNAME:Visit Puente Genil
X-ORIGINAL-URL:https://visitpuentegenil.es
X-WR-CALDESC:Eventos para Visit Puente Genil
REFRESH-INTERVAL;VALUE=DURATION:PT1H
X-Robots-Tag:noindex
X-PUBLISHED-TTL:PT1H
BEGIN:VTIMEZONE
TZID:Europe/Madrid
BEGIN:DAYLIGHT
TZOFFSETFROM:+0100
TZOFFSETTO:+0200
TZNAME:CEST
DTSTART:20210328T010000
END:DAYLIGHT
BEGIN:STANDARD
TZOFFSETFROM:+0200
TZOFFSETTO:+0100
TZNAME:CET
DTSTART:20211031T010000
END:STANDARD
BEGIN:DAYLIGHT
TZOFFSETFROM:+0100
TZOFFSETTO:+0200
TZNAME:CEST
DTSTART:20220327T010000
END:DAYLIGHT
BEGIN:STANDARD
TZOFFSETFROM:+0200
TZOFFSETTO:+0100
TZNAME:CET
DTSTART:20221030T010000
END:STANDARD
BEGIN:DAYLIGHT
TZOFFSETFROM:+0100
TZOFFSETTO:+0200
TZNAME:CEST
DTSTART:20230326T010000
END:DAYLIGHT
BEGIN:STANDARD
TZOFFSETFROM:+0200
TZOFFSETTO:+0100
TZNAME:CET
DTSTART:20231029T010000
END:STANDARD
END:VTIMEZONE
BEGIN:VEVENT
DTSTART;TZID=Europe/Madrid:20220522T120000
DTEND;TZID=Europe/Madrid:20220522T130000
DTSTAMP:20260423T062509
CREATED:20220518T102550Z
LAST-MODIFIED:20220518T102550Z
UID:10406-1653220800-1653224400@visitpuentegenil.es
SUMMARY:Visita guiada a #LaAlianza.
DESCRIPTION:Si quieres disfrutar de la #historia y el #patrimonio de #PuenteGenil no te puedes perder una visita guiada al complejo industrial “La Alianza”🏭😍\nuno de los edificios más emblemáticos de nuestra particular revolución industrial.\n📅 Domingo\, 22 de  mayo \n ⏰12:00 h. \nEntrada Gratuita.\n🤗 ¡Te esperamos!  \nMás info 👉 957 60 50 34 Ext. 380 / puentegenil@tuhistoria.org\n#patrimonioindustrial #cultura
URL:https://visitpuentegenil.es/evento/visita-guiada-a-laalianza-3/
LOCATION:Complejo industrial La Alianza\, Plaza Nacional\, s/n\, Puente Genil\, Córdoba\, 14500\, España
ATTACH;FMTTYPE=image/png:https://visitpuentegenil.es/wp-content/uploads/2022/05/Visita-Guiada-22-mayo.png
END:VEVENT
END:VCALENDAR