BEGIN:VCALENDAR
VERSION:2.0
PRODID:-//Visit Puente Genil - ECPv6.15.20//NONSGML v1.0//EN
CALSCALE:GREGORIAN
METHOD:PUBLISH
X-WR-CALNAME:Visit Puente Genil
X-ORIGINAL-URL:https://visitpuentegenil.es
X-WR-CALDESC:Eventos para Visit Puente Genil
REFRESH-INTERVAL;VALUE=DURATION:PT1H
X-Robots-Tag:noindex
X-PUBLISHED-TTL:PT1H
BEGIN:VTIMEZONE
TZID:Europe/Madrid
BEGIN:DAYLIGHT
TZOFFSETFROM:+0100
TZOFFSETTO:+0200
TZNAME:CEST
DTSTART:20230326T010000
END:DAYLIGHT
BEGIN:STANDARD
TZOFFSETFROM:+0200
TZOFFSETTO:+0100
TZNAME:CET
DTSTART:20231029T010000
END:STANDARD
BEGIN:DAYLIGHT
TZOFFSETFROM:+0100
TZOFFSETTO:+0200
TZNAME:CEST
DTSTART:20240331T010000
END:DAYLIGHT
BEGIN:STANDARD
TZOFFSETFROM:+0200
TZOFFSETTO:+0100
TZNAME:CET
DTSTART:20241027T010000
END:STANDARD
BEGIN:DAYLIGHT
TZOFFSETFROM:+0100
TZOFFSETTO:+0200
TZNAME:CEST
DTSTART:20250330T010000
END:DAYLIGHT
BEGIN:STANDARD
TZOFFSETFROM:+0200
TZOFFSETTO:+0100
TZNAME:CET
DTSTART:20251026T010000
END:STANDARD
END:VTIMEZONE
BEGIN:VEVENT
DTSTART;TZID=Europe/Madrid:20240516T093000
DTEND;TZID=Europe/Madrid:20240516T150000
DTSTAMP:20260421T150412
CREATED:20240514T122248Z
LAST-MODIFIED:20240514T123255Z
UID:13495-1715851800-1715871600@visitpuentegenil.es
SUMMARY:Encuentro Empresarial en el Teatro Circo.
DESCRIPTION:Puente Genil será el anfitrión de un encuentro empresarial con el Puerto de Sevilla y PROSevillaPort como invitados. \nEn el Teatro Circo este jueves 16 de mayo tendrá lugar un encuentro de carácter empresarial entre las zonas de actividad económica del municipio y el Puerto de Sevilla representadas en PROSevillaPort\, la asociación para la promoción del único puerto marítimo de interior en España . \nEsta cita\, que ya tuvo un precedente a finales de enero en el Puerto de Sevilla a través de un encuentro al que asistieron unas treinta empresas de Puente Genil y de la capital hispalense\, servirá para dar a conocer el potencial económico de la localidad\, descubrirla como zona de oportunidad para la inversión\, el crecimiento y el desarrollo de las empresas locales y las ligadas al Puerto de Sevilla. Para la cita de este jueves\, un total de 40 empresas de ambas provincias han confirmado su asistencia. \nEl encuentro\, que dará comienzo a las 9:30 horas en el Teatro Circo\, cuenta con un programa de actividades en el que se incluye la visita a las instalaciones de Prefabricados Delta e Ilmex\, empresas de referencia internacional en el sector de elementos prefabricados y de la iluminación decorativa respectivamente. A continuación\, y para facilitar el networking y el conocimiento entre los empresarios y directivos asistentes al encuentro\, compartirán un ágape en los salones del Casino Pontanés. \n 
URL:https://visitpuentegenil.es/evento/encuentro-empresarial-en-el-teatro-circo/
LOCATION:Teatro Circo\, C/ Jesús\, s/n\, Puente Genil\, Córdoba\, 14500\, España
ATTACH;FMTTYPE=image/jpeg:https://visitpuentegenil.es/wp-content/uploads/2024/05/16-Encuentro-Empresarial.jpg
END:VEVENT
END:VCALENDAR