BEGIN:VCALENDAR
VERSION:2.0
PRODID:-//Visit Puente Genil - ECPv6.15.20//NONSGML v1.0//EN
CALSCALE:GREGORIAN
METHOD:PUBLISH
X-ORIGINAL-URL:https://visitpuentegenil.es
X-WR-CALDESC:Eventos para Visit Puente Genil
REFRESH-INTERVAL;VALUE=DURATION:PT1H
X-Robots-Tag:noindex
X-PUBLISHED-TTL:PT1H
BEGIN:VTIMEZONE
TZID:Europe/Madrid
BEGIN:DAYLIGHT
TZOFFSETFROM:+0100
TZOFFSETTO:+0200
TZNAME:CEST
DTSTART:20230326T010000
END:DAYLIGHT
BEGIN:STANDARD
TZOFFSETFROM:+0200
TZOFFSETTO:+0100
TZNAME:CET
DTSTART:20231029T010000
END:STANDARD
BEGIN:DAYLIGHT
TZOFFSETFROM:+0100
TZOFFSETTO:+0200
TZNAME:CEST
DTSTART:20240331T010000
END:DAYLIGHT
BEGIN:STANDARD
TZOFFSETFROM:+0200
TZOFFSETTO:+0100
TZNAME:CET
DTSTART:20241027T010000
END:STANDARD
BEGIN:DAYLIGHT
TZOFFSETFROM:+0100
TZOFFSETTO:+0200
TZNAME:CEST
DTSTART:20250330T010000
END:DAYLIGHT
BEGIN:STANDARD
TZOFFSETFROM:+0200
TZOFFSETTO:+0100
TZNAME:CET
DTSTART:20251026T010000
END:STANDARD
END:VTIMEZONE
BEGIN:VEVENT
DTSTART;TZID=Europe/Madrid:20240802T213000
DTEND;TZID=Europe/Madrid:20240802T230000
DTSTAMP:20260424T140521
CREATED:20240728T190548Z
LAST-MODIFIED:20240801T120235Z
UID:13933-1722634200-1722639600@visitpuentegenil.es
SUMMARY:Visita guiada "La huella de Roma" en Noches en la Villa 2024.
DESCRIPTION:¿Quieres saber cómo era un día en la vida de los habitantes de nuestro yacimiento? 🏺🏛 \nApúntate a la “La Huella de Roma”\, una visita guiada donde podrás descubrir las curiosidades e historia del yacimiento arqueológico “Villa Romana de Fuente Álamo” a través de objetos y piezas. \n📍 Villa Romana de Fuente Alamo. \n📅 Viernes\, 2 de agosto.\n⏰ 21:30h\nAFORO COMPLETO \nReserva tu plaza el lunes 29 de julio a partir de las 9:00h.\n¡Este fin de semana no te pierdas las actividades de Noches En La Villa 2024! ✨🌝🌜\n🌌¡Ven con amigos y familia!\n¡Haz tu inscripción aquí! ➡️ FORMULARIO \nMás ℹ️nformación 📞957605034 ext. 380/ 📧 nochesenlavilla@gmail.com
URL:https://visitpuentegenil.es/evento/visita-guiada-la-huella-de-roma-en-noches-en-la-villa-2024/
LOCATION:Villa Romana de Fuente Álamo\, cv-297 km 3\, Puente Genil\, Córdoba\, 14500\, España
CATEGORIES:Arqueología,Visitas guiadas,Visitas nocturnas
ATTACH;FMTTYPE=image/png:https://visitpuentegenil.es/wp-content/uploads/2024/07/2-PLAZAS-AGOTADAS.png
END:VEVENT
BEGIN:VEVENT
DTSTART;TZID=Europe/Madrid:20240804T090000
DTEND;TZID=Europe/Madrid:20240804T223000
DTSTAMP:20260424T140521
CREATED:20240728T190954Z
LAST-MODIFIED:20240722T114304Z
UID:13941-1722762000-1722810600@visitpuentegenil.es
SUMMARY:Taller de máscaras en Noches en la Villa 2024.
DESCRIPTION: ¡Ponte la máscara y que comience la función!🎭🎭🎭\nEn este taller los más pequeños podrán hacer una pequeña máscara en miniatura de escayola que decorarán basada en las antefijas de nuestro yacimiento. Aforo: 25 personas. Edad: de 6 a 12 años.\n\n\n📍 Villa Romana de Fuente Alamo. \n📅 Domingo\, 4 de agosto.\n⏰ 21:00h\nAforo 25 personas. \nReserva tu plaza el lunes 28 de julio a partir de las 9:00h.\n¡Este fin de semana no te pierdas las actividades de Noches En La Villa 2024! ✨\n🌌¡Ven con amigos y familia!\n¡Haz tu inscripción aquí! ➡️ FORMULARIO \nMás ℹ️nformación 📞957605034 ext. 380/ 📧 nochesenlavilla@gmail.com
URL:https://visitpuentegenil.es/evento/taller-de-mascaras-en-noches-en-la-villa-2024/
LOCATION:Villa Romana de Fuente Álamo\, cv-297 km 3\, Puente Genil\, Córdoba\, 14500\, España
CATEGORIES:Actividades infantiles,Talleres
ATTACH;FMTTYPE=image/png:https://visitpuentegenil.es/wp-content/uploads/2024/07/4-TALLER-MASCARAS.png
END:VEVENT
BEGIN:VEVENT
DTSTART;TZID=Europe/Madrid:20240824T213000
DTEND;TZID=Europe/Madrid:20240824T230000
DTSTAMP:20260424T140521
CREATED:20240815T101617Z
LAST-MODIFIED:20240815T101617Z
UID:14115-1724535000-1724540400@visitpuentegenil.es
SUMMARY:Aqva Vitae est\, recreación histórica en Noches en la Villa.
DESCRIPTION:🏛 Roma no era nadie sin el agua💧💦 que estaba presente en todos los momentos de la vida cotidiana. Por ello\, el Imperio se llenó de infraestructuras hidráulicas que garantizaban el suministro constante. Esclavos\, siervos y señores se sirvieron de ella de diferente forma\, ¿quieres saber cómo? El grupo Ibidem te lo cuenta en esta recreación histórica.  \n¡Ven a descubrirlo! \n ¡Te esperamos!\n\n¡Ven a con amigos y familia!\n\n📌Villa romana de Fuente Álamo.\n📅Sábado\, 24 de agosto.\n⏰21:30h.\n¡Reserva tu plaza ya! \nAforo 45 personas. \nReserva tu plaza el lunes 19 de agosto a partir de las 9:00h.\n¡Este fin de semana no te pierdas las actividades de Noches En La Villa 2024! ✨\n🌌¡Ven con amigos y familia!\n¡Haz tu inscripción aquí! ➡️ FORMULARIO \nMás ℹ️nformación 📞957605034 ext. 380/ 📧 nochesenlavilla@gmail.com
URL:https://visitpuentegenil.es/evento/aqva-vitae-est-recreacion-historica-en-noches-en-la-villa/
LOCATION:Villa Romana de Fuente Álamo\, cv-297 km 3\, Puente Genil\, Córdoba\, 14500\, España
CATEGORIES:Arqueología,Recreación histórica
ATTACH;FMTTYPE=image/png:https://visitpuentegenil.es/wp-content/uploads/2024/08/24-AQVA-VITAE-EST.png
END:VEVENT
BEGIN:VEVENT
DTSTART;TZID=Europe/Madrid:20240830T210000
DTEND;TZID=Europe/Madrid:20240830T230000
DTSTAMP:20260424T140521
CREATED:20240815T104131Z
LAST-MODIFIED:20240815T104131Z
UID:14119-1725051600-1725058800@visitpuentegenil.es
SUMMARY:Taller de mosaicos para adultos en Noches en la Villa 2024.
DESCRIPTION:En nuestra Villa romana de Fuente Álamo🏛🏺 puedes admirar una gran colección de mosaicos. Un arte muy curioso que conoceremos y pondremos en práctica. \nEl taller de mosaicos para adultos te permitirá hacer tu propio diseño de mosaicos adaptado al público adulto. Pasa un rato lleno de arte y diversión y descubre todo lo que nos ha dejado el arte musivario en nuestro yacimiento ¡Llévate tu mosaico a casa y conoce su historia! \n📌Villa romana de Fuente Álamo.\n📅Viernes\, 30 de agosto.\n⏰21:00h. \n¡Reserva tu plaza ya! \nAforo 25 personas. \nReserva tu plaza el lunes 26 de agosto a partir de las 9:00h.\n¡Este fin de semana no te pierdas las actividades de Noches En La Villa 2024! ✨\n🌌¡Ven con amigos y familia!\n¡Haz tu inscripción aquí! ➡️ FORMULARIO \nMás ℹ️nformación 📞957605034 ext. 380/ 📧 nochesenlavilla@gmail.com
URL:https://visitpuentegenil.es/evento/taller-de-mosaicos-para-adultos-en-noches-en-la-villa-2024/
LOCATION:Villa Romana de Fuente Álamo\, cv-297 km 3\, Puente Genil\, Córdoba\, 14500\, España
CATEGORIES:Arqueología,Mosaicos,Talleres
ATTACH;FMTTYPE=image/png:https://visitpuentegenil.es/wp-content/uploads/2024/08/30-TALLER-MOSAICOS-ADULTOS.png
END:VEVENT
BEGIN:VEVENT
DTSTART;TZID=Europe/Madrid:20240831T213000
DTEND;TZID=Europe/Madrid:20240831T230000
DTSTAMP:20260424T140521
CREATED:20240815T113246Z
LAST-MODIFIED:20240828T120618Z
UID:14123-1725139800-1725145200@visitpuentegenil.es
SUMMARY:"Ceres" visita tematizada con degustación en Noches en la Villa 2024.
DESCRIPTION:PLAZAS AGOTADAS\nEn esta visita tematizada conoceremos la producción agrícola en nuestra villa romana de Fuente Álamo\, y nos enfocaremos más concretamente la zona del horreum\, granero. \nAdemás disfrutaremos de la cata-degustación de la cerveza ibero-romana Artemisa de la empresa Arqueogastronomía\, que nos explicará el sistema de producción y nos descubrirá la asombrosa tecnología culinaria existente en la época\, vinculando raíces en la historia y arqueología. \n📌Villa romana de Fuente Álamo.\n📅Sábado\, 31 de agosto.\n⏰21:30h. \n¡Reserva tu plaza ya! \nAforo 27 personas. \nReserva tu plaza el lunes 26 de agosto a partir de las 9:00h.\n¡Este fin de semana no te pierdas las actividades de Noches En La Villa 2024! ✨\n🌌¡Ven con amigos y familia!\n¡Haz tu inscripción aquí! ➡️ FORMULARIO \nMás ℹ️nformación 📞957605034 ext. 380/ 📧 nochesenlavilla@gmail.com
URL:https://visitpuentegenil.es/evento/ceres-visita-tematizada-con-degustacion-en-noches-en-la-villa-2024/
LOCATION:Villa Romana de Fuente Álamo\, cv-297 km 3\, Puente Genil\, Córdoba\, 14500\, España
CATEGORIES:Arqueología,Catas,Visitas tematizadas
ATTACH;FMTTYPE=image/png:https://visitpuentegenil.es/wp-content/uploads/2024/08/31-PLAZAS-AGOTADAS-CERES.png
END:VEVENT
END:VCALENDAR