BEGIN:VCALENDAR
VERSION:2.0
PRODID:-//Visit Puente Genil - ECPv6.15.20//NONSGML v1.0//EN
CALSCALE:GREGORIAN
METHOD:PUBLISH
X-ORIGINAL-URL:https://visitpuentegenil.es
X-WR-CALDESC:Eventos para Visit Puente Genil
REFRESH-INTERVAL;VALUE=DURATION:PT1H
X-Robots-Tag:noindex
X-PUBLISHED-TTL:PT1H
BEGIN:VTIMEZONE
TZID:Europe/Madrid
BEGIN:DAYLIGHT
TZOFFSETFROM:+0100
TZOFFSETTO:+0200
TZNAME:CEST
DTSTART:20240331T010000
END:DAYLIGHT
BEGIN:STANDARD
TZOFFSETFROM:+0200
TZOFFSETTO:+0100
TZNAME:CET
DTSTART:20241027T010000
END:STANDARD
BEGIN:DAYLIGHT
TZOFFSETFROM:+0100
TZOFFSETTO:+0200
TZNAME:CEST
DTSTART:20250330T010000
END:DAYLIGHT
BEGIN:STANDARD
TZOFFSETFROM:+0200
TZOFFSETTO:+0100
TZNAME:CET
DTSTART:20251026T010000
END:STANDARD
BEGIN:DAYLIGHT
TZOFFSETFROM:+0100
TZOFFSETTO:+0200
TZNAME:CEST
DTSTART:20260329T010000
END:DAYLIGHT
BEGIN:STANDARD
TZOFFSETFROM:+0200
TZOFFSETTO:+0100
TZNAME:CET
DTSTART:20261025T010000
END:STANDARD
END:VTIMEZONE
BEGIN:VEVENT
DTSTART;TZID=Europe/Madrid:20250413T200000
DTEND;TZID=Europe/Madrid:20250413T210000
DTSTAMP:20260423T093346
CREATED:20250410T102227Z
LAST-MODIFIED:20250410T102227Z
UID:15468-1744574400-1744578000@visitpuentegenil.es
SUMMARY:Itinerario Domingo de Ramos (noche).
DESCRIPTION:Semana Santa 2025 \nEl domingo 13 de abril\, Domingo de Ramos\, por la noche la Cofradía del Santísimo Cristo de la Buena Muerte realizará su Via Crucis.  \nLa salida de la procesión será a las 20:00h desde la Parroquia de Santiago el Mayor\, recorriendo Plaza de Santiago\, Puente de la Unión\, Postigos\, Plaza de Emilio Reina\, Delgado\, Plaza del Dulce Nombre\, llegando a la Ermita del Dulce Nombre de Jesús a las 21:00h. \n📌Parroquia de Santiago el Mayor.\n📅Domingo\, 13 de abril.\n⏰20:00 horas. 
URL:https://visitpuentegenil.es/evento/itinerario-domingo-de-ramos-noche/
LOCATION:PUENTE GENIL\, Puente Genil\, CÓRDOBA\, 14500
CATEGORIES:Semana Santa
ATTACH;FMTTYPE=image/jpeg:https://visitpuentegenil.es/wp-content/uploads/2025/04/13-Domingo-de-Ramos-Noche.jpg
ORGANIZER;CN="Agrupaci%C3%B3n de Cofrad%C3%ADas y Corporaciones B%C3%ADblicas de Puente Genil":MAILTO:secretaria@agrupacioncofradias.es
END:VEVENT
BEGIN:VEVENT
DTSTART;TZID=Europe/Madrid:20250414T190000
DTEND;TZID=Europe/Madrid:20250415T013000
DTSTAMP:20260423T093346
CREATED:20250410T105258Z
LAST-MODIFIED:20250410T105258Z
UID:15471-1744657200-1744680600@visitpuentegenil.es
SUMMARY:Itinerario Lunes Santo.
DESCRIPTION:Semana Santa 2025 \nEl lunes\, 14 de abril\, Lunes Santo\, hará estación de penitencia la Cofradía de Nuestro Padre Jesús de la Sagrada Cena y María Santísima del Amor.  \nLa salida de la procesión será a las 19:00h desde la Parroquia de San José\, recorriendo Plaza de España\, Poeta Manuel Reina\, Susana Benítez\, Paseo del Romeral\, Adriana Morales\, Veracruz\, Aguilar\, Modesto Carmona\, Luna\, Antonio Baena\, Madre de Dios\, Cosano\, Santos\, Veracruz\, Aguilar\, Paseo del Romeral\, Susana Benítez\, Poeta Manuel Reina\, Plaza de España y regresando a la Parroquia de San José a las 01:30h. del martes\, 15 de abril.  \n📌Parroquia de San José.\n📅Lunes\, 14 de abril.\n⏰11:15 horas. 
URL:https://visitpuentegenil.es/evento/itinerario-lunes-santo/
LOCATION:PUENTE GENIL\, Puente Genil\, CÓRDOBA\, 14500
CATEGORIES:Semana Santa
ATTACH;FMTTYPE=image/jpeg:https://visitpuentegenil.es/wp-content/uploads/2025/04/14-Lunes-Santo.jpg
ORGANIZER;CN="Agrupaci%C3%B3n de Cofrad%C3%ADas y Corporaciones B%C3%ADblicas de Puente Genil":MAILTO:secretaria@agrupacioncofradias.es
END:VEVENT
BEGIN:VEVENT
DTSTART;TZID=Europe/Madrid:20250415T173000
DTEND;TZID=Europe/Madrid:20250415T213000
DTSTAMP:20260423T093346
CREATED:20250410T115600Z
LAST-MODIFIED:20250410T115600Z
UID:15475-1744738200-1744752600@visitpuentegenil.es
SUMMARY:Itinerario Martes Santo (tarde).
DESCRIPTION:Semana Santa 2025 \nEl martes\, 15 de abril\, Martes Santo\, harán estación de penitencia la Hermandad de la Santa Cruz\,  Cofradía de Nuestro Padre Jesús de los Afligidos y Nuestra Señora del Rosario. \nLa salida de la procesión será a las 17:30h desde la Parroquia de San José\, recorriendo Plaza de España\, Rodolfo Gil\, Manuel Melgar\, Avenida de Andalucía\, Historiador Antonio Aguilar y Cano\, Cristóbal Castillo\, Susana Benítez\, Paseo del Romeral\, Aguilar\, Veracruz\, Adriana Morales\, Paseo del Romeral\, Susana Benítez\, Poeta Manuel Reina\, Plaza de España y regresando a la Parroquia de San José a las 21:30h. \n📌Parroquia de San José.\n📅Martes\, 15 de abril.\n⏰17:30 horas. 
URL:https://visitpuentegenil.es/evento/itinerario-martes-santo-tarde/
LOCATION:PUENTE GENIL\, Puente Genil\, CÓRDOBA\, 14500
CATEGORIES:Semana Santa
ATTACH;FMTTYPE=image/jpeg:https://visitpuentegenil.es/wp-content/uploads/2025/04/15-Martes-Santo-Tarde.jpg
ORGANIZER;CN="Agrupaci%C3%B3n de Cofrad%C3%ADas y Corporaciones B%C3%ADblicas de Puente Genil":MAILTO:secretaria@agrupacioncofradias.es
END:VEVENT
BEGIN:VEVENT
DTSTART;TZID=Europe/Madrid:20250415T210000
DTEND;TZID=Europe/Madrid:20250416T013000
DTSTAMP:20260423T093346
CREATED:20250410T123429Z
LAST-MODIFIED:20250410T123429Z
UID:15481-1744750800-1744767000@visitpuentegenil.es
SUMMARY:Itinerario Martes Santo (noche).
DESCRIPTION:Semana Santa 2025 \nEl martes\, 15 de abril\, Martes Santo\, también harán estación de penitencia la Cofradía del Santísimo Cristo del Calvario y Nuestra Señora del Consuelo. \nLa salida de la procesión será a las 17:30h desde su Casa Hermandad en la calle  Lemoniez número 18\, recorriendo Lemoniez\, Godínez\, Don Gonzalo\, Borrego\, Antonio Baena\, Aguilar\, Paseo Del Romeral\, Adriana Morales\, Santos\, Cosano\, Aguilar\, Antonio Baena\, Borrego\, Don Gonzalo\, Alcaide\, Plaza Emilio Reina\, Lemoniez y regresando a su Casa Hermandad a la 1:30h del miércoles\, 16 de abril. \n📌Casa Hermandad \n📅Martes\, 15 de abril.\n⏰21:00 horas. 
URL:https://visitpuentegenil.es/evento/itinerario-martes-santo-noche/
LOCATION:PUENTE GENIL\, Puente Genil\, CÓRDOBA\, 14500
CATEGORIES:Semana Santa
ATTACH;FMTTYPE=image/jpeg:https://visitpuentegenil.es/wp-content/uploads/2025/04/15-Martes-Santo-Noche.jpg
ORGANIZER;CN="Agrupaci%C3%B3n de Cofrad%C3%ADas y Corporaciones B%C3%ADblicas de Puente Genil":MAILTO:secretaria@agrupacioncofradias.es
END:VEVENT
BEGIN:VEVENT
DTSTART;TZID=Europe/Madrid:20250415T233000
DTEND;TZID=Europe/Madrid:20250416T140000
DTSTAMP:20260423T093346
CREATED:20250410T124544Z
LAST-MODIFIED:20250410T124544Z
UID:15484-1744759800-1744812000@visitpuentegenil.es
SUMMARY:Itinerario Martes Santo Via Crucis.
DESCRIPTION:Semana Santa 2025 \nEl martes\, 15 de abril\, Martes Santo\, laCofradía del Santísimo Cristo del Silencio saldrá en Via Cruci  a las 23:30h desde la Parroquia Nuestra Señora del Carmen\, recorriendo Avenida de la Estación\, Poeta Manuel Reina\, Susana Benítez\, Paseo del Romeral\, Horno\, Adriana Morales\, Santos\, Cosano\, Aguilar\, Compás del Coro y encerrándose en la Iglesia de Nuestra Señora de la Asunción a las 01:45h del miércoles\, 16 de abril. \n📌Parroquia Ntra. Sra. del Carmen. \n📅Martes\, 15 de abril.\n⏰23:30 horas. 
URL:https://visitpuentegenil.es/evento/itinerario-martes-santo-via-crucis/
LOCATION:PUENTE GENIL\, Puente Genil\, CÓRDOBA\, 14500
CATEGORIES:Semana Santa
ATTACH;FMTTYPE=image/jpeg:https://visitpuentegenil.es/wp-content/uploads/2025/04/15-Martes-Santo-Noche-Via-Crucis-Silencio.jpg
ORGANIZER;CN="Agrupaci%C3%B3n de Cofrad%C3%ADas y Corporaciones B%C3%ADblicas de Puente Genil":MAILTO:secretaria@agrupacioncofradias.es
END:VEVENT
BEGIN:VEVENT
DTSTART;TZID=Europe/Madrid:20250416T183000
DTEND;TZID=Europe/Madrid:20250417T020000
DTSTAMP:20260423T093346
CREATED:20250410T125842Z
LAST-MODIFIED:20250410T130607Z
UID:15478-1744828200-1744855200@visitpuentegenil.es
SUMMARY:Itinerario Miércoles Santo.
DESCRIPTION:Semana Santa 2025 \nEl miércoles\, 16 de abril\, Miércoles Santo\, harán estación de penitencia la Cofradía de Nuestro Padre Jesús en el Lavatorio de los Pies\, Cofradía de Nuestro Padre Jesús en la Oración en el Huerto y María Santísima de la Victoria\, Cofradía de Nuestro Padre Jesús de la Humildad y Paciencia y la Cofradía de Nuestra Señora de la Amargura. \nLas dos primeras saldrán del Santuario de la Concepción a las 18:45h y las dos últimas desde la Iglesia de Nuestra Señora de la Asunción a las 20:05h\, recorriendo Aguilar\, Paseo del Romeral\, Horno\, Linares\, Santa Catalina\, Plaza de Lara\, Calzada\, San Sebastián\, Contralmirante Delgado Parejo\, Don Gonzalo\, Antonio Baena\, Aguilar y regresando al Santuario de la Concepción a las 00:15h y a la Iglesia de Nuestra Señora de la Asunción a las 01:50 del jueves\, 17 de abril. \n📌Santuario de la Concepción.\n📅Miércoles\, 16 de abril.\n⏰18:45 horas.  \n📌 Iglesia de Nuestra Señora de la Asunción.\n📅Miércoles\, 16 de abril.\n⏰20:05 horas. 
URL:https://visitpuentegenil.es/evento/itinerario-miercoles-santo/
LOCATION:PUENTE GENIL\, Puente Genil\, CÓRDOBA\, 14500
CATEGORIES:Semana Santa
ATTACH;FMTTYPE=image/jpeg:https://visitpuentegenil.es/wp-content/uploads/2025/04/16-Miercoles-Santo.jpg
ORGANIZER;CN="Agrupaci%C3%B3n de Cofrad%C3%ADas y Corporaciones B%C3%ADblicas de Puente Genil":MAILTO:secretaria@agrupacioncofradias.es
END:VEVENT
BEGIN:VEVENT
DTSTART;TZID=Europe/Madrid:20250417T120000
DTEND;TZID=Europe/Madrid:20250417T133000
DTSTAMP:20260423T093346
CREATED:20250415T113101Z
LAST-MODIFIED:20250415T114306Z
UID:15524-1744891200-1744896600@visitpuentegenil.es
SUMMARY:Santa Misa y Lavatorio de los pies.
DESCRIPTION:La Agrupación de Cofradías y Corporaciones Bíblicas de Puente Genil celebra Santa Misa el jueves\, 17 de abril\, Jueves Santo a las 12:00h en la Parroquia Matriz de la Purificación. \nDurante la misa se representará el pasaje del Lavatorio de los pies con la participación de la Corporación Bíblica de Los Apóstoles. También intervendrá la Schola Cantorum Santa Cecilia. \n📌Parroquia Ntra. Sra. de la Purificación.\n📅Jueves\, 17 de abril.\n⏰12:00h.
URL:https://visitpuentegenil.es/evento/santa-misa-y-lavatorio-de-los-pies/
LOCATION:Parroquia Ntra. Sra. de la Purificación\, C/ Don Gonzalo 18\, Puente Genil\, Córdoba\, 14500
CATEGORIES:Semana Santa
ATTACH;FMTTYPE=image/jpeg:https://visitpuentegenil.es/wp-content/uploads/2025/04/17-Santa-Misa-Lavatorio.jpg
ORGANIZER;CN="Agrupaci%C3%B3n de Cofrad%C3%ADas y Corporaciones B%C3%ADblicas de Puente Genil":MAILTO:secretaria@agrupacioncofradias.es
END:VEVENT
BEGIN:VEVENT
DTSTART;TZID=Europe/Madrid:20250418T064500
DTEND;TZID=Europe/Madrid:20250418T150000
DTSTAMP:20260423T093346
CREATED:20250411T103649Z
LAST-MODIFIED:20250411T103809Z
UID:15510-1744958700-1744988400@visitpuentegenil.es
SUMMARY:Itinerario Viernes Santo (Mañana)
DESCRIPTION:El viernes 18 de abril\, Viernes Santo\, será el turno de la Pontificia y Real Cofradía y Hermandad de Ntro. Padre Jesús Nazareno\, la Real Cofradía del Santísimo Cristo de la Misericordia y Nuestra Señora del Mayor Dolor y de la Cofradía Servita de María Santísima de los Dolores. \nLos pasos saldrán a las 06:45 horas desde el Santuario de Jesús Nazareno. \nRecorrerán la Plaza del Calvario\, la calle San Cristóbal\, el Paseo del Romeral\, las calles Horno\, Linares\, Santa Catalina (08:30 horas)\, la Plaza de Lara\, las calles Calzada\, San Sebastián\, Contralmirante Delgado Parejo\, Don Gonzalo y la Plaza Nacional (Liceo Mercantil a las 12:30 horas). Será aquí donde el Imperio Romano interprete el tradicional Miserere. A las 12:40 horas se realizará la Sentencia de Jesús. \nAvanzarán por el Puente de la Unión hacia la Plaza de Santiago\, llegando a las 13:15 horas. \nA su llegada al Ayuntamiento a las 13:15 horas\, el Santísimo Cristo de la Misericordia concluirá su participación y volverá por las calles Luna\, Sol y Plaza del Calvario para su encierro a las 15:00 horas. \nDel mismo modo\, el paso de María Santísima de los Dolores llegará al Ayuntamiento a las 14:00 horas\, continuando hasta el patio de la iglesia de San Francisco de la Asunción. Llegará allí a las 14:45 horas. \n📌Santuario de Jesús Nazareno.\n📅Viernes\, 18 de abril.\n⏰06:45 horas. 
URL:https://visitpuentegenil.es/evento/itinerario-viernes-santo-manana/
LOCATION:Santuario Ntro. Padre Jesús Nazareno\, Plaza del Calvario\, s/n\, Puente Genil\, Córdoba\, 14500\, España
CATEGORIES:Semana Santa
ATTACH;FMTTYPE=image/jpeg:https://visitpuentegenil.es/wp-content/uploads/2025/04/Viernes-Santo-manana.jpeg
ORGANIZER;CN="Agrupaci%C3%B3n de Cofrad%C3%ADas y Corporaciones B%C3%ADblicas de Puente Genil":MAILTO:secretaria@agrupacioncofradias.es
END:VEVENT
BEGIN:VEVENT
DTSTART;TZID=Europe/Madrid:20250418T211500
DTEND;TZID=Europe/Madrid:20250419T040000
DTSTAMP:20260423T093346
CREATED:20250411T110448Z
LAST-MODIFIED:20250411T110448Z
UID:15513-1745010900-1745035200@visitpuentegenil.es
SUMMARY:Itinerario Viernes Santo (Noche)
DESCRIPTION:El tramo final del viernes 18 de abril\, Viernes Santo\, lo protagonizarán la Cofradía del Santísimo Cristo de la Buena Muerte\, la Pontificia Hermandad de Nuestra Señora de las Angustias\, la Cofradía de San Juan Evangelista y la Cofradía de María Santísima de la Soledad y Dulce Nombre de Jesús. \nLa salida está prevista para las 21:15 horas desde la Ermita del Dulce Nombre. \nRecorrerán las calles Jesús\, Cruz de San Juan\, San Sebastián\, Contralmirante Delgado Parejo\, Don Gonzalo (23:00 horas iglesia de la Victoria)\, Plaza Nacional\, Postigos\, plaza Emilio Reina\, Lemoniez y Delgado. \nEl primer paso llegará a la Ermita del Dulce Nombre a las 02:05 horas y cada uno de los pasos siguientes lo harán con media hora de diferencia entre cada uno. \nEl paso de María Santísima de la Soledad continuará por las calles Lemoniez\, Cruz de San Juan y Jesús hasta la ermita\, llegando a las 04:00 horas. \n📌Ermita del Dulce Nombre.\n📅Viernes\, 18 de abril.\n⏰21:15 horas.  \n 
URL:https://visitpuentegenil.es/evento/itinerario-viernes-santo-noche/
LOCATION:Ermita Dulce Nombre\, C. la Huerta\, 2T\, Puente Genil\, Córdoba\, 14500\, España
CATEGORIES:Semana Santa
ATTACH;FMTTYPE=image/jpeg:https://visitpuentegenil.es/wp-content/uploads/2025/04/Viernes-santo-noche.jpeg
ORGANIZER;CN="Agrupaci%C3%B3n de Cofrad%C3%ADas y Corporaciones B%C3%ADblicas de Puente Genil":MAILTO:secretaria@agrupacioncofradias.es
END:VEVENT
BEGIN:VEVENT
DTSTART;TZID=Europe/Madrid:20250419T200000
DTEND;TZID=Europe/Madrid:20250419T234500
DTSTAMP:20260423T093346
CREATED:20250411T114420Z
LAST-MODIFIED:20250411T114420Z
UID:15517-1745092800-1745106300@visitpuentegenil.es
SUMMARY:Itinerario Sábado Santo
DESCRIPTION:El sábado 19 de abril\, Sábado Santo\, saldrá en procesión la Cofradía del Santo Sepulcro y Nuestra Señora de las Lágrimas. \nLa salida será a las 20:00 horas desde la Parroquia de San José. \nRecorrerá la Plaza España\, las calles Poeta Manuel Reina\, Susana Benítez\, Paseo del Romeral\, Aguilar\, Antonio Baena\, Plaza Nacional (22:15 horas)\, Don Gonzalo\, Contralmirante Delgado Parejo\, San Sebastián\, Cruz de San Juan y Jesús. \nEl primer paso llegará a las 23:15 horas y el segundo a las 23:45 horas. \n📌Parroquia de San José.\n📅Sábado\, 19 de abril.\n⏰20:00 horas. 
URL:https://visitpuentegenil.es/evento/itinerario-sabado-santo/
LOCATION:Parroquia de San José\, Plaza de España\, s/n\, Puente Genil\, Córdoba\, 14500\, España
CATEGORIES:Semana Santa
ATTACH;FMTTYPE=image/jpeg:https://visitpuentegenil.es/wp-content/uploads/2025/04/Sabado-santo.jpeg
ORGANIZER;CN="Agrupaci%C3%B3n de Cofrad%C3%ADas y Corporaciones B%C3%ADblicas de Puente Genil":MAILTO:secretaria@agrupacioncofradias.es
END:VEVENT
END:VCALENDAR