BEGIN:VCALENDAR
VERSION:2.0
PRODID:-//Visit Puente Genil - ECPv6.15.20//NONSGML v1.0//EN
CALSCALE:GREGORIAN
METHOD:PUBLISH
X-ORIGINAL-URL:https://visitpuentegenil.es
X-WR-CALDESC:Eventos para Visit Puente Genil
REFRESH-INTERVAL;VALUE=DURATION:PT1H
X-Robots-Tag:noindex
X-PUBLISHED-TTL:PT1H
BEGIN:VTIMEZONE
TZID:Europe/Madrid
BEGIN:DAYLIGHT
TZOFFSETFROM:+0100
TZOFFSETTO:+0200
TZNAME:CEST
DTSTART:20240331T010000
END:DAYLIGHT
BEGIN:STANDARD
TZOFFSETFROM:+0200
TZOFFSETTO:+0100
TZNAME:CET
DTSTART:20241027T010000
END:STANDARD
BEGIN:DAYLIGHT
TZOFFSETFROM:+0100
TZOFFSETTO:+0200
TZNAME:CEST
DTSTART:20250330T010000
END:DAYLIGHT
BEGIN:STANDARD
TZOFFSETFROM:+0200
TZOFFSETTO:+0100
TZNAME:CET
DTSTART:20251026T010000
END:STANDARD
BEGIN:DAYLIGHT
TZOFFSETFROM:+0100
TZOFFSETTO:+0200
TZNAME:CEST
DTSTART:20260329T010000
END:DAYLIGHT
BEGIN:STANDARD
TZOFFSETFROM:+0200
TZOFFSETTO:+0100
TZNAME:CET
DTSTART:20261025T010000
END:STANDARD
END:VTIMEZONE
BEGIN:VEVENT
DTSTART;TZID=Europe/Madrid:20250530T220000
DTEND;TZID=Europe/Madrid:20250601T220000
DTSTAMP:20260423T065152
CREATED:20250530T094928Z
LAST-MODIFIED:20250530T101146Z
UID:16042-1748642400-1748815200@visitpuentegenil.es
SUMMARY:Romería a María Auxiliadora en los Arenales.
DESCRIPTION:Este fin de semana la Hermandad de Ntra. Madre María Auxiliadora realizará la tradicional Romería a su Titular en los Arenales. \nComenzará el viernes 30 de mayo a las 22:00 horas con el encendido del alumbrado. A las 22:30 horas se realizará la Coronación de la Reina de las Fiestas (este año se ha nombrado a Andrea Luque Delgado). A partir de las 22:45 horas habrá actuaciones de baile y música. \nEl sábado 31 de mayo a las 14:00 horas se celebrará el tradicional torneo de Ronda Básica y a las 17:00 horas comenzará la Misa y la Romería a la Titular de la Hermandad. A las 22:00 horas volverá la música en una velada que finalizará con una sección de humor a las 00:00 horas. \nPara rematar este completo fin de semana\, el domingo 1 de junio se ofrecerá un desayuno con churros y chocolate a las 11:00 horas. Posteriormente\, se dedicará todo el día a numerosos concursos\, incluyendo la Semifinal y la Final del torneo de Ronda Básica. \nPueden descargar el librito con toda la información detallada de esta Romería en el siguiente enlace: Libro Romería de los Arenales 2025. \nLa entrada a las actividades será libre y gratuita hasta completar aforo. \n !Te esperamos¡  \n📌Aldea de los Arenales.\n📅30 y 31 de mayo; 1 de junio.
URL:https://visitpuentegenil.es/evento/romeria-en-los-arenales/
LOCATION:Los Arenales\, Los Arenales\, Puente Genil
CATEGORIES:Aldeas,Fiesta,Romería
ATTACH;FMTTYPE=image/jpeg:https://visitpuentegenil.es/wp-content/uploads/2025/05/Fiesta-de-los-Arenales_page-0001.jpg
END:VEVENT
BEGIN:VEVENT
DTSTART;TZID=Europe/Madrid:20250614T130000
DTEND;TZID=Europe/Madrid:20250614T180000
DTSTAMP:20260423T065152
CREATED:20250523T113545Z
LAST-MODIFIED:20250611T100830Z
UID:15958-1749906000-1749924000@visitpuentegenil.es
SUMMARY:VI Huevada Flamenca de San Marcos 2025
DESCRIPTION:¿Preparad@ para la tradicional Huevada Flamenca de San Marcos? Ya tenemos fecha para la VI Edición de esta popular fiesta local.  \nDespués de ser aplazada\, se celebrará el sábado 14 de junio a partir de las 13:00 horas en la Caseta Municipal. \nEste año la Hermandad de San Marcos y el Ayuntamiento de Puente Genil traen mil huevos fritos y muchas otras sorpresas. \nLa entrada será libre hasta completar el aforo. \n !Te esperamos¡  \n📌Caseta Municipal.\n📅Sábado\, 14 de junio. \n⏰13:00 horas. \n 
URL:https://visitpuentegenil.es/evento/vi-huevada-flamenca-de-san-marcos-2025/
LOCATION:Caseta Municipal Puente Genil\, Puente Genil\, Córdoba\, 14500
CATEGORIES:Fiesta
ATTACH;FMTTYPE=image/jpeg:https://visitpuentegenil.es/wp-content/uploads/2025/05/La-Huevada.jpg
ORGANIZER;CN="Hermandad de San Marcos":MAILTO:marcoshermandad@gmail.com
END:VEVENT
BEGIN:VEVENT
DTSTART;TZID=Europe/Madrid:20250620T210000
DTEND;TZID=Europe/Madrid:20250620T233000
DTSTAMP:20260423T065152
CREATED:20250616T122739Z
LAST-MODIFIED:20250616T122752Z
UID:16195-1750453200-1750462200@visitpuentegenil.es
SUMMARY:Noches en la Villa 2025. El sonido nocturno de la historia en la Villa Romana de Fuente Álamo.
DESCRIPTION: Fuente Álamo bajo las estrellas \nNo es habitual que un yacimiento arqueológico abra sus puertas por la noche…\nPero el 20 de junio\, la Villa Romana de Fuente Álamo te ofrece una experiencia única: \n Pasea entre mosaicos milenarios mientras la noche cae sobre el pasado.\n Déjate guiar por los sonidos de la historia y descubre el yacimiento como nunca antes.\n Puedes hacerlo con audioguía a tu ritmo o acompañado de un guía en grupo. \n¡Ven a disfrutar de las Noches en la Villa! \n 20 de junio\n De 21:00 h a 23:00 h\n Villa Romana Fuente Álamo \nNo necesita inscripción previa.
URL:https://visitpuentegenil.es/evento/noches-en-la-villa-2025-el-sonido-nocturno-de-la-historia-en-la-villa-romana-de-fuente-alamo/
LOCATION:Villa Romana de Fuente Álamo\, cv-297 km 3\, Puente Genil\, Córdoba\, 14500\, España
CATEGORIES:Noches en la Villa,Visitas nocturnas
ATTACH;FMTTYPE=image/png:https://visitpuentegenil.es/wp-content/uploads/2025/06/20-Sonido-Nocturno.png
END:VEVENT
BEGIN:VEVENT
DTSTART;TZID=Europe/Madrid:20250620T210000
DTEND;TZID=Europe/Madrid:20250621T160000
DTSTAMP:20260423T065152
CREATED:20250618T101927Z
LAST-MODIFIED:20250618T101927Z
UID:16212-1750453200-1750521600@visitpuentegenil.es
SUMMARY:Verbena de San Juan Bautista
DESCRIPTION:Un año más la Asociación de Vecinos del Barrio La Isla celebra su tradicional Verbena de San Juan Bautista el fin de semana del 20 y 21 de junio\, buen ambiente\, magnífica repostería\, crepería Carmen María\, Churrería Moncada y atracciones para los más pequeños. \nEl viernes 20 la Verbena estará amenizada por el Cuarteto Stylo y el sábado 21 contaremos con la gran Orquesta Local de 7 componentes Orquesta Stylo dónde nos presentarán su espectáculo “UTOPIA“\, con un montaje de luz y sonido espectacular\, te esperamos en la Caseta de las Fiestas\, lugar Parque de La Galana. \n¡Ven a disfrutar con nosotros\, te esperamos en el fin de semana más mágico del año! \n📌 Parque de la Galana\n📅 Viernes 20 y sábado 21 de junio
URL:https://visitpuentegenil.es/evento/verbena-de-san-juan-bautista/
LOCATION:parque de la Galana\, C/ La Huerta\, 26\, Puente Genil\, Córdoba\, 14500\, España
CATEGORIES:Fiesta,Música,Orquestas,Verbenas
ATTACH;FMTTYPE=image/jpeg:https://visitpuentegenil.es/wp-content/uploads/2025/06/verbena-de-san-Juan-2025.jpg
END:VEVENT
BEGIN:VEVENT
DTSTART;TZID=Europe/Madrid:20250621T220000
DTEND;TZID=Europe/Madrid:20250621T233000
DTSTAMP:20260423T065152
CREATED:20250616T123303Z
LAST-MODIFIED:20250616T123348Z
UID:16198-1750543200-1750548600@visitpuentegenil.es
SUMMARY:Noches en la Villa 2025. "In vino veritas."
DESCRIPTION: Vino y cultura en el mundo romano \n\n¿Sabías que el vino era una pieza clave en la vida cotidiana de Roma?\nTe invitamos a una visita guiada muy especial\, que culmina con una degustación de vino\, donde descubrirás: \n El papel del vino en la sociedad romana\n Su cultivo y elaboración en villas como la nuestra\n Tipos de vinos que consumían… ¡y curiosidades que te sorprenderán! \nVive la historia con los cinco sentidos. \n 21 de junio a las 22:00 h \n Villa Romana de Fuente Álamo. \n Inscríbete aquí: In Vino Veritas
URL:https://visitpuentegenil.es/evento/noches-en-la-villa-2025-in-vino-veritas/
LOCATION:Villa Romana de Fuente Álamo\, cv-297 km 3\, Puente Genil\, Córdoba\, 14500\, España
CATEGORIES:Enología,Noches en la Villa,Visitas nocturnas,Visitas tematizadas
ATTACH;FMTTYPE=image/png:https://visitpuentegenil.es/wp-content/uploads/2025/06/21-In-vino-Veritas.png
END:VEVENT
BEGIN:VEVENT
DTSTART;TZID=Europe/Madrid:20250622T210000
DTEND;TZID=Europe/Madrid:20250622T233000
DTSTAMP:20260423T065152
CREATED:20250616T125219Z
LAST-MODIFIED:20250616T125219Z
UID:16201-1750626000-1750635000@visitpuentegenil.es
SUMMARY:Noches en la Villa 2025. Escape Room.
DESCRIPTION: Misterio en la Villa Romana \nEn plena noche\, un grupo de personas irrumpe en el yacimiento de Fuente Álamo.\nA la mañana siguiente\, un trabajador descubre que algo no encaja…\nLos intrusos han huido\, pero han dejado pistas.\n ¿Serás capaz de seguirlas y resolver el enigma? \n 22 de junio\n Dos pases: 21:00 h y 22:30 h\n Villa Romana Fuente Álamo. \n  \n Vive una experiencia única donde el patrimonio cobra vida en nuestra escape room.\n Inscríbete aquí: ESCAPE ROOM
URL:https://visitpuentegenil.es/evento/noches-en-la-villa-2025-escape-room/
LOCATION:Villa Romana de Fuente Álamo\, cv-297 km 3\, Puente Genil\, Córdoba\, 14500\, España
CATEGORIES:Escape Room,Noches en la Villa
ATTACH;FMTTYPE=image/png:https://visitpuentegenil.es/wp-content/uploads/2025/06/22-ESCAPE-ROOM-.png
END:VEVENT
BEGIN:VEVENT
DTSTART;TZID=Europe/Madrid:20250627T213000
DTEND;TZID=Europe/Madrid:20250627T233000
DTSTAMP:20260423T065152
CREATED:20250623T124742Z
LAST-MODIFIED:20250623T124742Z
UID:16259-1751059800-1751067000@visitpuentegenil.es
SUMMARY:Reapertura Plaza de Abastos Paseo del Romeral
DESCRIPTION:¡Vuelve el corazón del comercio pontanés! \nTrás casi 2 años de espera\, el Mercado de Abastos de Puente-Genil reabre sus puertas éste viernes 27 de junio a las 21:30h\, le damos la bienvenida a un mercado preparado para el presente y el futuro\, combinando tradición\, hostelería\, comercio local y proyección turística. Un espacio renovado\, moderno y lleno de vida que vuelve a latir en el centro del municipio. \nY para celebrar este momento ¡ Concierto Gratuito del cantaor granadino Kiki Morente ! \nA las 22:00h en el Romeral viviremos una noche flamenca al aire libre. \n¡Ven con tu familia\, ven con tus amigos\, ven a redescubrir el alma de Puente-Genil! \n📌Paseo  de El Romeral.\n📅Viernes 27 de junio.\n⏰21:30h. \nEntrada Libre
URL:https://visitpuentegenil.es/evento/reapertura-plaza-de-abastos-paseo-del-romeral/
LOCATION:Paseo del Romeral\, Paseo del Romeral s/n\, Puente Genil\, Córdoba\, 14500\, España
CATEGORIES:Conciertos,Flamenco,Música,Recitales
ATTACH;FMTTYPE=image/jpeg:https://visitpuentegenil.es/wp-content/uploads/2025/06/Kiki-Morente.jpg
END:VEVENT
BEGIN:VEVENT
DTSTART;TZID=Europe/Madrid:20250628T220000
DTEND;TZID=Europe/Madrid:20250628T233000
DTSTAMP:20260423T065152
CREATED:20250624T111236Z
LAST-MODIFIED:20250624T111236Z
UID:16301-1751148000-1751153400@visitpuentegenil.es
SUMMARY:Noches en la Villa 2025. Romanos\, follones y otras conspiraciones.
DESCRIPTION:La Irremediable Compañía presenta 🦅 Romanos\, follones y otras conspiraciones 😄 ⚔️ \, destinada a público adulto este fin de semana en Fuente Álamo. \nLa comedia cuenta que un equipo formado por 4 arqueólogos fueron encarcelados por un expolio que no habían cometido. Se les acusa de robar algunos de los mosaicos más importantes de la Villa de Fuente Álamo. Dos personas serán las encargadas de recuperar las piezas y llevar a buen puerto la investigación. \n\n\n\n🗓️ 28 de junio a las 22:00 h.\n📍 Villa Romana de Fuente Álamo – Puente Genil\n👉 Inscríbete aquí: https://fuentealamovillaromana.com/noches-en-la-villa/
URL:https://visitpuentegenil.es/evento/noches-en-la-villa-2025-romanos-follones-y-otras-conspiraciones/
LOCATION:Villa Romana de Fuente Álamo\, cv-297 km 3\, Puente Genil\, Córdoba\, 14500\, España
CATEGORIES:Comedia,Noches en la Villa,Teatro,Visitas nocturnas
ATTACH;FMTTYPE=image/png:https://visitpuentegenil.es/wp-content/uploads/2025/06/Teatro.-Romanos-Follones-y.-28-Junio.png
END:VEVENT
BEGIN:VEVENT
DTSTART;TZID=Europe/Madrid:20250629T210000
DTEND;TZID=Europe/Madrid:20250629T230000
DTSTAMP:20260423T065152
CREATED:20250624T082242Z
LAST-MODIFIED:20250624T082242Z
UID:16282-1751230800-1751238000@visitpuentegenil.es
SUMMARY:Noches en la Villa 2025. El sonido nocturno de la historia en la Villa Romana de Fuente Álamo
DESCRIPTION:🌙 Fuente Álamo bajo las estrellas \nNo es habitual que un yacimiento arqueológico abra sus puertas por la noche…\nPero el 29 de junio\, la Villa Romana de Fuente Álamo te ofrece una experiencia única: \n Pasea entre mosaicos milenarios mientras la noche cae sobre el pasado.\n Déjate guiar por los sonidos de la historia y descubre el yacimiento como nunca antes.\n Puedes hacerlo con audioguía a tu ritmo o acompañado de un guía en grupo. \n¡Ven a disfrutar de las Noches en la Villa! \n 29 de junio\n De 21:00 h a 23:00 h\n Villa Romana Fuente Álamo \nNo necesita inscripción previa.
URL:https://visitpuentegenil.es/evento/noches-en-la-villa-2025-el-sonido-nocturno-de-la-historia-en-la-villa-romana-de-fuente-alamo-2/
LOCATION:Villa Romana de Fuente Álamo\, cv-297 km 3\, Puente Genil\, Córdoba\, 14500\, España
CATEGORIES:Noches en la Villa,Visitas nocturnas
ATTACH;FMTTYPE=image/png:https://visitpuentegenil.es/wp-content/uploads/2025/06/20-Sonido-Nocturno.png
END:VEVENT
END:VCALENDAR