BEGIN:VCALENDAR
VERSION:2.0
PRODID:-//Visit Puente Genil - ECPv6.15.20//NONSGML v1.0//EN
CALSCALE:GREGORIAN
METHOD:PUBLISH
X-WR-CALNAME:Visit Puente Genil
X-ORIGINAL-URL:https://visitpuentegenil.es
X-WR-CALDESC:Eventos para Visit Puente Genil
REFRESH-INTERVAL;VALUE=DURATION:PT1H
X-Robots-Tag:noindex
X-PUBLISHED-TTL:PT1H
BEGIN:VTIMEZONE
TZID:Europe/Madrid
BEGIN:DAYLIGHT
TZOFFSETFROM:+0100
TZOFFSETTO:+0200
TZNAME:CEST
DTSTART:20240331T010000
END:DAYLIGHT
BEGIN:STANDARD
TZOFFSETFROM:+0200
TZOFFSETTO:+0100
TZNAME:CET
DTSTART:20241027T010000
END:STANDARD
BEGIN:DAYLIGHT
TZOFFSETFROM:+0100
TZOFFSETTO:+0200
TZNAME:CEST
DTSTART:20250330T010000
END:DAYLIGHT
BEGIN:STANDARD
TZOFFSETFROM:+0200
TZOFFSETTO:+0100
TZNAME:CET
DTSTART:20251026T010000
END:STANDARD
BEGIN:DAYLIGHT
TZOFFSETFROM:+0100
TZOFFSETTO:+0200
TZNAME:CEST
DTSTART:20260329T010000
END:DAYLIGHT
BEGIN:STANDARD
TZOFFSETFROM:+0200
TZOFFSETTO:+0100
TZNAME:CET
DTSTART:20261025T010000
END:STANDARD
END:VTIMEZONE
BEGIN:VEVENT
DTSTART;TZID=Europe/Madrid:20250801T210000
DTEND;TZID=Europe/Madrid:20250801T223000
DTSTAMP:20260422T232209
CREATED:20250728T084432Z
LAST-MODIFIED:20250728T084432Z
UID:16779-1754082000-1754087400@visitpuentegenil.es
SUMMARY:Noches en la Villa 2025. 💰 Bursa. Taller Infantil
DESCRIPTION:💰 Bursa. Taller Infantil (Público infantil).\nEn la Antigua Roma\, los romanos ya portaban bolsos para llevar dinero 🪙 o pequeños objetos 🎲\, un complemento muy útil usado hasta por el mismísimo Dios Mercurio ✨. ¡Haz tu propio diseño de “bursa” 🖌️ que te podrás llevar a casa! \n🗓️ 1 de agosto – ⏰21:00 h. \n📍 Villa Romana de Fuente Álamo – Puente Genil\n👉 Inscríbete aquí: https://fuentealamovillaromana.com/noches-en-la-villa/ \nEdad recomendada de 6 a 12 años.
URL:https://visitpuentegenil.es/evento/noches-en-la-villa-2025-%f0%9f%92%b0-bursa-taller-infantil/
LOCATION:Villa Romana de Fuente Álamo\, cv-297 km 3\, Puente Genil\, Córdoba\, 14500\, España
CATEGORIES:Actividades infantiles,Arqueología,Talleres
ATTACH;FMTTYPE=image/png:https://visitpuentegenil.es/wp-content/uploads/2025/07/Bursa-Taller-Infantil.-1-Agosto.png
END:VEVENT
BEGIN:VEVENT
DTSTART;TZID=Europe/Madrid:20250802T210000
DTEND;TZID=Europe/Madrid:20250802T230000
DTSTAMP:20260422T232209
CREATED:20250728T091915Z
LAST-MODIFIED:20250728T091915Z
UID:16786-1754168400-1754175600@visitpuentegenil.es
SUMMARY:Noches en la Villa 2025.  🦸🦹Divinas y Divinos. Teatro infantil.
DESCRIPTION:🦸🦹Divinas y Divinos. Teatro infantil (Público familiar).\nCon esta propuesta divertida y educativa podréis descubrir en familiar cuánto se parecen los héroes modernos 🦸a los de la mitología clásica. \n¡Prepara tus superpoderes 💫 y ven a vivir una experiencia única! \n📅 2 de agosto – ⏰21:30 h.\n📍 Villa Romana de Fuente Álamo – Puente Genil \n👉 Inscríbete aquí: https://fuentealamovillaromana.com/noches-en-la-villa
URL:https://visitpuentegenil.es/evento/noches-en-la-villa-2025-%f0%9f%a6%b8%f0%9f%a6%b9divinas-y-divinos-teatro-infantil/
LOCATION:Villa Romana de Fuente Álamo\, cv-297 km 3\, Puente Genil\, Córdoba\, 14500\, España
CATEGORIES:Actividades infantiles,Teatro
ATTACH;FMTTYPE=image/png:https://visitpuentegenil.es/wp-content/uploads/2025/07/Divinas-y-Divinos-Teatro-Infnatil.-2-Agosto.png
END:VEVENT
BEGIN:VEVENT
DTSTART;TZID=Europe/Madrid:20250808T210000
DTEND;TZID=Europe/Madrid:20250808T223000
DTSTAMP:20260422T232209
CREATED:20250804T083226Z
LAST-MODIFIED:20250804T083226Z
UID:16930-1754686800-1754692200@visitpuentegenil.es
SUMMARY:Noches en la Villa 2025. Joyería romana\, taller familiar.
DESCRIPTION:💎 Joyería Romana (Taller familiar).\nDisfruta en familia descubriendo cómo eran las joyas 📿 de época romana\, para luego crear vuestras propias piezas 💍 inspiradas en los descubrimientos de la antigua necrópolis de Fuente Álamo. 🏺🤩 \n🗓️ 8 de agosto – ⏰21:00 h. \n📍 Villa Romana de Fuente Álamo – Puente Genil\n👉 Inscríbete aquí: https://fuentealamovillaromana.com/noches-en-la-villa/
URL:https://visitpuentegenil.es/evento/noches-en-la-villa-2025-joyeria-romana-taller-familiar/
LOCATION:Villa Romana de Fuente Álamo\, cv-297 km 3\, Puente Genil\, Córdoba\, 14500\, España
CATEGORIES:Actividades infantiles,Arqueología,Talleres
ATTACH;FMTTYPE=image/png:https://visitpuentegenil.es/wp-content/uploads/2025/08/Joyeria-Romana-Taller.-8-Agosto.png
END:VEVENT
BEGIN:VEVENT
DTSTART;TZID=Europe/Madrid:20250809T213000
DTEND;TZID=Europe/Madrid:20250809T233000
DTSTAMP:20260422T232209
CREATED:20250804T084204Z
LAST-MODIFIED:20250804T084204Z
UID:16933-1754775000-1754782200@visitpuentegenil.es
SUMMARY:Noches en la Villa 2025. Barro y vino. Arte con historia.
DESCRIPTION:🏺🍷 Barro y Vino. Arte con Historia (Público Adulto).\nVino y cerámica\, una combinación perfecta para saborear el pasado con todos los sentidos. Pinta 🖌️ tu propia pieza inspirada 🏺 en un hallazgo original del yacimiento y escucha su historia mientras degustas vinos de nuestra tierra 🍇. \n📅 9 de agosto – ⏰21:30 h.  \n📍 Villa Romana de Fuente Álamo – Puente Genil \n👉 Inscríbete aquí: https://fuentealamovillaromana.com/noches-en-la-villa/
URL:https://visitpuentegenil.es/evento/noches-en-la-villa-2025-barro-y-vino-arte-con-historia/
LOCATION:Villa Romana de Fuente Álamo\, cv-297 km 3\, Puente Genil\, Córdoba\, 14500\, España
CATEGORIES:Catas,Cerámica,Noches en la Villa
ATTACH;FMTTYPE=image/png:https://visitpuentegenil.es/wp-content/uploads/2025/08/Barro-y-Vino.-9-Agosto.png
END:VEVENT
BEGIN:VEVENT
DTSTART;TZID=Europe/Madrid:20250810T210000
DTEND;TZID=Europe/Madrid:20250810T223000
DTSTAMP:20260422T232209
CREATED:20250804T084856Z
LAST-MODIFIED:20250804T090000Z
UID:16936-1754859600-1754865000@visitpuentegenil.es
SUMMARY:Noches en la Villa 2025. El mundo de los mosaicos\, visita temática.
DESCRIPTION:🌙 El mundo de los mosaicos (Visita Temática. Público General) ✨\nUn recorrido centrado en la gran colección de mosaicos que tiene el yacimiento. La interpretaciones y estudios de académicos en los últimos años han arrojado historias por descubrir a través de este bien de lujo\, reflejo de poder y riqueza. \n🗓️ 10 de agosto – ⏰21:00 h. \n📍 Villa Romana de Fuente Álamo – Puente Genil\n👉 Inscríbete aquí: https://fuentealamovillaromana.com/noches-en-la-villa/
URL:https://visitpuentegenil.es/evento/noches-en-la-villa-2025-el-mundo-de-los-mosaicos-visita-tematica/
LOCATION:Villa Romana de Fuente Álamo\, cv-297 km 3\, Puente Genil\, Córdoba\, 14500\, España
CATEGORIES:Arqueología,Noches en la Villa,Visitas tematizadas
ATTACH;FMTTYPE=image/png:https://visitpuentegenil.es/wp-content/uploads/2025/08/El-Mundo-de-los-Mosaicos.-Visita-T.-10-Agosto.png
END:VEVENT
BEGIN:VEVENT
DTSTART;TZID=Europe/Madrid:20250814T213000
DTEND;TZID=Europe/Madrid:20250814T213000
DTSTAMP:20260422T232209
CREATED:20250814T101953Z
LAST-MODIFIED:20250814T101953Z
UID:17051-1755207000-1755207000@visitpuentegenil.es
SUMMARY:Agenda de Feria Real 14 de agosto
DESCRIPTION:¡La Feria Real de Puente Genil 2025 empieza hoy!\nEste 𝟭𝟰 𝗱𝗲 𝗮𝗴𝗼𝘀𝘁𝗼 nos espera una noche llena de luz\, arte y diversión:\n\n\n 21:45 h – Encendido de la portada y del alumbrado\n 22:30 h – 59º Festival de Cante Grande Fosforito\, homenaje al flamencólogo pontanés Juan Ortega Chacón\n Día del Niño: desde las 21:30 h\, ¡atracciones a precios reducidos!\n\n\n Tradición\, música y alegría para inaugurar la semana más esperada del verano en Puente Genil.\n\n\n#FeriaPuenteGenil2025 #FestivalCanteGrandeFosforito #PuenteGenilEsFeria #VeranoPontanés #PuenteGenilconGanas
URL:https://visitpuentegenil.es/evento/agenda-de-feria-real-14-de-agosto/
LOCATION:Caseta Municipal Puente Genil\, Puente Genil\, Córdoba\, 14500
CATEGORIES:Feria Real,Festival,Flamenco
ATTACH;FMTTYPE=image/jpeg:https://visitpuentegenil.es/wp-content/uploads/2025/08/agenda-14-de-agosto.jpg
END:VEVENT
BEGIN:VEVENT
DTSTART;TZID=Europe/Madrid:20250814T100000
DTEND;TZID=Europe/Madrid:20250817T100000
DTSTAMP:20260422T232209
CREATED:20250814T075854Z
LAST-MODIFIED:20250814T090211Z
UID:17042-1755165600-1755424800@visitpuentegenil.es
SUMMARY:Aviso Importante Camela Aplazado al 28 de Septiembre
DESCRIPTION:Aviso importante – Concierto de Camela en Puente Genil \n\n\nEl concierto de Camela\, previsto para este domingo 17 de agosto en la Caseta Municipal\, se aplaza al domingo 28 de septiembre de 2025 a las 19:30h debido a problemas de salud de Dionisio Martín “Dioni”.\n\n\n Entradas\n\n\nSeguirán siendo válidas para la nueva fecha.\n\n\nPodrás solicitar la devolución desde el jueves 14 de agosto a través de eventick.es o escribiendo a soporte@eventick.es con el asunto “Solicitud devolución Camela” y el email usado en la compra.\n\n\nEl reintegro se realizará en un máximo de 30 días.\n\n\n Enviamos nuestros mejores deseos de recuperación a Dioni y agradecemos vuestra comprensión.
URL:https://visitpuentegenil.es/evento/aviso-importante-camela-aplazado-al-28-de-septiembre/
LOCATION:Caseta Municipal Puente Genil\, Puente Genil\, Córdoba\, 14500
CATEGORIES:Conciertos,Música
ATTACH;FMTTYPE=image/jpeg:https://visitpuentegenil.es/wp-content/uploads/2025/08/Camela-septiembre-actualizacion-de-hora.jpg
END:VEVENT
BEGIN:VEVENT
DTSTART;TZID=Europe/Madrid:20250814T223000
DTEND;TZID=Europe/Madrid:20250814T223000
DTSTAMP:20260422T232209
CREATED:20250728T113324Z
LAST-MODIFIED:20250728T113324Z
UID:16809-1755210600-1755210600@visitpuentegenil.es
SUMMARY:59º Festival de Cante Grande Fosforito
DESCRIPTION:La 59º edición del Festival de Cante Grande Fosforito ya está calentando motores\, ya puedes comprar tus entradas en la Casa Ciudadana\, de lunes a viernes de 9:00h a 14:00h. \nEste año el festival rinde homenaje al flamencólogo local Juan Ortega Chacón y tenemos un cartel de lujo\, con artistas como Arcángel\, Julián Estrada\, La Fabi\, Pedro el Granaíno y muchos más\, bajo el toque y el compás de grandes figuras. \n¡No te lo puedes perder! \n📌 Caseta Municipal\n📅 Jueves 14 de agosto a las 22:30h \n 🎟Entradas: \n15€ ( Individuales Numeradas y No Numeradas )\n25€ (Pareja)\n10€  (Pensionistas y jóvenes con carnet de estudiante) \nPara más información llamar a la Casa Ciudadana ☎️957609161
URL:https://visitpuentegenil.es/evento/59o-festival-de-cante-grande-fosforito/
LOCATION:Caseta Municipal Puente Genil\, Puente Genil\, Córdoba\, 14500
CATEGORIES:Feria Real,Festival,Flamenco
ATTACH;FMTTYPE=image/jpeg:https://visitpuentegenil.es/wp-content/uploads/2025/07/FESTIVAL-CANTE-GRANDE.jpg
END:VEVENT
BEGIN:VEVENT
DTSTART;TZID=Europe/Madrid:20250815T090000
DTEND;TZID=Europe/Madrid:20250816T100000
DTSTAMP:20260422T232209
CREATED:20250805T094953Z
LAST-MODIFIED:20250805T094953Z
UID:16894-1755248400-1755338400@visitpuentegenil.es
SUMMARY:Tirada Feria Real
DESCRIPTION:El Club de Tiro Olímpico Francisco Góngora y la Delegación de Festejos del Ayuntamiento de Puente Genil organiza en el Club Tiro Olímpico Pontanés (Carretera Casariche) la tradicional Tirada Feria Real con diferentes categorías y premios: \n-Tirada Autonómica Stándar \n📌Club Tiro Olímpico Pontanés \n📅Viernes\, 15 de agosto\n⏰9:00 horas. \n-Tirada Aire Comprimido \n📌Club Tiro Olímpico Pontanés \n📅Sábado\, 16 de agosto\n⏰10:00 horas. \nLa tirada se regirá según Reglamento de la F.A.T.O.
URL:https://visitpuentegenil.es/evento/tirada-feria-real/
LOCATION:Club Tiro Olímpico Pontanés
CATEGORIES:Feria Real,Tirada
ATTACH;FMTTYPE=image/jpeg:https://visitpuentegenil.es/wp-content/uploads/2025/07/Tirada-Feria-Real.jpg
END:VEVENT
BEGIN:VEVENT
DTSTART;TZID=Europe/Madrid:20250815T100000
DTEND;TZID=Europe/Madrid:20250815T140000
DTSTAMP:20260422T232209
CREATED:20250812T075033Z
LAST-MODIFIED:20250812T075033Z
UID:17021-1755252000-1755266400@visitpuentegenil.es
SUMMARY:Villa Romana de Fuente Álamo Horario Especial 15 de Agosto
DESCRIPTION:Tu viaje a la antigua Roma empieza aquí. \nEste fin de semana\, visita la Villa Romana de Fuente Álamo y no te limites a imaginarlo: ¡vívelo! Con nuestras recreaciones virtuales 3D\, verás el yacimiento cobrar vida ante tus ojos. \nHorarios Especiales: \n\n15 de Agosto (Mañana): 10:00 – 14:00h\nSonido Nocturno (15\, 16 y 17 de Agosto): 21:00 – 23:00h\n\nNo pierdas tiempo. Compra tu entrada online de forma rápida y segura. COMPRA ENTRADA VISITA AUDIOGUIADA \nPara visitas privadas\, escríbenos a puentegenil@ciudadesmedias.org. o compra aquí: COMPRA ONLINE ENTRADAS VISITA GUIADA
URL:https://visitpuentegenil.es/evento/villa-romana-de-fuente-alamo-horario-especial-15-de-agosto/
LOCATION:Villa Romana de Fuente Álamo\, cv-297 km 3\, Puente Genil\, Córdoba\, 14500\, España
CATEGORIES:Historia,Noches en la Villa,Visitas con audio guía,Visitas guiadas,Visitas nocturnas
ATTACH;FMTTYPE=image/png:https://visitpuentegenil.es/wp-content/uploads/2025/08/VILLA-ROMANA-DE-FUENTE-ALAMO-DEL-15-AL-17-AGOSTO-HORARIO-.png
END:VEVENT
BEGIN:VEVENT
DTSTART;TZID=Europe/Madrid:20250815T210000
DTEND;TZID=Europe/Madrid:20250817T230000
DTSTAMP:20260422T232209
CREATED:20250811T074750Z
LAST-MODIFIED:20250811T074750Z
UID:17016-1755291600-1755471600@visitpuentegenil.es
SUMMARY:Noches en la Villa 2025. El Sonido Nocturno
DESCRIPTION:🌙 Fuente Álamo bajo las estrellas \nNo es habitual que un yacimiento arqueológico abra sus puertas por la noche…\nPero el 15\, 16 y 17 de agosto\, la Villa Romana de Fuente Álamo te ofrece una experiencia única: \n Pasea entre mosaicos milenarios mientras la noche cae sobre el pasado.\n Déjate guiar por los sonidos de la historia y descubre el yacimiento como nunca antes.\n Puedes hacerlo con audioguía a tu ritmo o acompañado de un guía en grupo. \n¡Ven a disfrutar de las Noches en la Villa! \n 15\,16 y 17 de agosto\n De 21:00 h a 23:00 h\n Villa Romana Fuente Álamo \nNo necesita inscripción previa.
URL:https://visitpuentegenil.es/evento/noches-en-la-villa-2025-el-sonido-nocturno/
LOCATION:Villa Romana de Fuente Álamo\, cv-297 km 3\, Puente Genil\, Córdoba\, 14500\, España
CATEGORIES:Noches en la Villa,Visitas con audio guía,Visitas nocturnas
ATTACH;FMTTYPE=image/png:https://visitpuentegenil.es/wp-content/uploads/2025/07/Sonido-Nocturno-Agosto-y-Sept.png
END:VEVENT
BEGIN:VEVENT
DTSTART;TZID=Europe/Madrid:20250815T230000
DTEND;TZID=Europe/Madrid:20250815T230000
DTSTAMP:20260422T232209
CREATED:20250730T094746Z
LAST-MODIFIED:20250730T094746Z
UID:16857-1755298800-1755298800@visitpuentegenil.es
SUMMARY:Muero por la Copla en Puente Genil el viernes 15 de agosto.
DESCRIPTION:Un año más la Copla tendrá un lugar destacado en la Feria Real 2025 de Puente Genil. \nUna Noche de Copla que este año contará con María Espinosa \, Cristian Coto\, Ismael Rodríguez\, Jesús González\, Laura Mª Larrea y las pontanesas Carmen Cabezas e Inma Palomo\,  acompañados por la Orquesta de Fran Rivero. \nEste evento cuenta con la colaboración de las empresas locales Cooperativa Vitivinícola La Purísima\, Membrillo La Góndola\, Calzados Kike y Productos Cabezas Rivas. \n¡Ven a disfrutar de nuestra música en #PuenteGenil! \n📍 Caseta Municipal. Recinto Ferial.\n📅 Viernes\, 15 de agosto.\n⏰ 23:00h \n🎟 Entrada libre hasta completar aforo.  \nOrganiza: Delegación de Festejos del Ayuntamiento de Puente Genil
URL:https://visitpuentegenil.es/evento/muero-por-la-copla-en-puente-genil-el-viernes-15-de-agosto/
LOCATION:Caseta Municipal Puente Genil\, Puente Genil\, Córdoba\, 14500
CATEGORIES:Copla,Feria Real,Gala,Música
ATTACH;FMTTYPE=image/jpeg:https://visitpuentegenil.es/wp-content/uploads/2025/07/15-Muero-por-la-Copla.jpg
END:VEVENT
BEGIN:VEVENT
DTSTART;TZID=Europe/Madrid:20250816T210000
DTEND;TZID=Europe/Madrid:20250816T210000
DTSTAMP:20260422T232209
CREATED:20250814T105902Z
LAST-MODIFIED:20250814T105902Z
UID:17058-1755378000-1755378000@visitpuentegenil.es
SUMMARY:Agenda de Feria Real 16 de Agosto
DESCRIPTION:¡La Feria Real 2025 se llena de puro rock el 𝘀𝗮́𝗯𝗮𝗱𝗼 𝟭𝟲 𝗱𝗲 𝗮𝗴𝗼𝘀𝘁𝗼!\n\n\nA partir de las 𝟮𝟭:𝟬𝟬 𝗵\, disfruta de una noche inolvidable con dos grandes tributos:\n\n\n Tributo a 𝗕𝗿𝘂𝗰𝗲 𝗦𝗽𝗿𝗶𝗻𝗴𝘀𝘁𝗲𝗲𝗻\n Tributo a 𝗠𝗶𝗴𝘂𝗲𝗹 𝗥𝛊́𝗼𝘀 con la banda “Rock&Ríos”\n\n\nUn espectáculo para los amantes del rock clásico… ¡y para todo el que quiera pasarlo bien!\n ¡Nos vemos en el Recinto Ferial de Puente Genil!\n\n\nOrganiza: Delegación de Festejos – Ayuntamiento de Puente Genil
URL:https://visitpuentegenil.es/evento/agenda-de-feria-real-16-de-agosto/
LOCATION:Caseta Municipal Puente Genil\, Puente Genil\, Córdoba\, 14500
CATEGORIES:Conciertos,Feria Real,Música
ATTACH;FMTTYPE=image/jpeg:https://visitpuentegenil.es/wp-content/uploads/2025/08/agenda-16-de-agosto.jpg
END:VEVENT
BEGIN:VEVENT
DTSTART;TZID=Europe/Madrid:20250817T230000
DTEND;TZID=Europe/Madrid:20250817T230000
DTSTAMP:20260422T232209
CREATED:20250730T083953Z
LAST-MODIFIED:20250806T101312Z
UID:16847-1755471600-1755471600@visitpuentegenil.es
SUMMARY:Feria Real Puente Genil 2025. Camela en concierto con su gira + de 30 en Puente Genil.
DESCRIPTION:¿Quién no ha cantado alguna vez una canción de Camela a pleno pulmón?\nSeguro que tú también tienes una historia con su música… \n\n\n El próximo 17 de agosto\, Feria Real 2025\, esa historia puede continuar en directo\, en la Caseta Municipal de Puente Genil.\nPrepárate para cantar\, sentir y revivir todos esos recuerdos que solo Camela sabe despertar. \nY además podrás disfrutar de los DJs Gálvez & Arbona y DJ Valdi\, conocido por su participación en el programa de A3 “El hormiguero.”\n\n\n\n ¡No te quedes sin tu entrada! Consíguela aquí https://eventick.es/concierto-camela-puente-genil-entradas/
URL:https://visitpuentegenil.es/evento/camela-en-concierto-con-su-gira-de-30-en-puente-genil/
LOCATION:Caseta Municipal Puente Genil\, Puente Genil\, Córdoba\, 14500
CATEGORIES:Conciertos,Feria Real,Música
ATTACH;FMTTYPE=image/jpeg:https://visitpuentegenil.es/wp-content/uploads/2025/07/17-Camela.jpg
END:VEVENT
BEGIN:VEVENT
DTSTART;TZID=Europe/Madrid:20250818T200000
DTEND;TZID=Europe/Madrid:20250818T200000
DTSTAMP:20260422T232209
CREATED:20250814T104553Z
LAST-MODIFIED:20250814T104553Z
UID:17061-1755547200-1755547200@visitpuentegenil.es
SUMMARY:Agenda de Feria Real 18 de Agosto
DESCRIPTION:𝗟𝘂𝗻𝗲𝘀 𝟭𝟴 𝗱𝗲 𝗮𝗴𝗼𝘀𝘁𝗼 – ¡La Feria Real 2025 se llena de colores\, lunares y música dentro de siete días!\n 𝟮𝟬:𝟬𝟬 𝗵 – Desfile del 𝗗𝛊́𝗮 𝗱𝗲 𝗹𝗮𝘀 𝗠𝘂𝗷𝗲𝗿𝗲𝘀 desde el Parque del Tropezón.\n 𝟮𝟭:𝟬𝟬 𝗵 – Tributo a 𝗥𝗮𝗽𝗵𝗮𝗲𝗹 y concierto de 𝗥𝗮𝗳𝗮 𝗦𝗮́𝗻𝗰𝗵𝗲𝘇\, ex vocalista de 𝗟𝗮 𝗨𝗻𝗶𝗼́𝗻.\n Después\, seguimos bailando con la 𝗢𝗿𝗾𝘂𝗲𝘀𝘁𝗮 𝗦𝘁𝘆𝗹𝗼.\nUna noche para celebrar\, cantar y disfrutar juntos en Puente Genil.
URL:https://visitpuentegenil.es/evento/agenda-de-feria-real-18-de-agosto/
LOCATION:Caseta Municipal Puente Genil\, Puente Genil\, Córdoba\, 14500
CATEGORIES:Conciertos,Feria Real,Música
ATTACH;FMTTYPE=image/jpeg:https://visitpuentegenil.es/wp-content/uploads/2025/08/agenda-18-de-agosto.jpg
END:VEVENT
BEGIN:VEVENT
DTSTART;TZID=Europe/Madrid:20250819T210000
DTEND;TZID=Europe/Madrid:20250819T210000
DTSTAMP:20260422T232209
CREATED:20250813T075424Z
LAST-MODIFIED:20250814T104812Z
UID:17032-1755637200-1755637200@visitpuentegenil.es
SUMMARY:Agenda Feria Real 19 de Agosto
DESCRIPTION:¡La Feria Real 2025 nos regala una noche mágica para cerrar las fiestas!\n 𝗠𝗮𝗿𝘁𝗲𝘀 𝟭𝟵 𝗱𝗲 𝗮𝗴𝗼𝘀𝘁𝗼\n A partir de las 𝟮𝟭:𝟬𝟬 𝗵: disfruta de la música en directo con 𝗟𝗼𝘀 𝗠𝗶𝗰𝗸𝗶𝘀 y la 𝗢𝗿𝗾𝘂𝗲𝘀𝘁𝗮 𝗦𝘁𝘆𝗹𝗼.\n Y para cerrar la noche por todo lo alto\, a las 𝟭:𝟯𝟬 𝗵… ¡espectacular 𝘀𝗵𝗼𝘄 𝗱𝗲 𝗳𝘂𝗲𝗴𝗼𝘀 𝗮𝗿𝘁𝗶𝗳𝗶𝗰𝗶𝗮𝗹𝗲𝘀ⵑ\nVen\, vive y siente la Feria de Puente Genil.
URL:https://visitpuentegenil.es/evento/puente-genil-feria-real-dia-19-de-agosto/
LOCATION:Caseta Municipal Puente Genil\, Puente Genil\, Córdoba\, 14500
CATEGORIES:Conciertos,Feria Real,Música,Orquestas
ATTACH;FMTTYPE=image/jpeg:https://visitpuentegenil.es/wp-content/uploads/2025/08/feria-real-ultimo-dia.jpg
END:VEVENT
BEGIN:VEVENT
DTSTART;TZID=Europe/Madrid:20250822T213000
DTEND;TZID=Europe/Madrid:20250822T230000
DTSTAMP:20260422T232209
CREATED:20250818T100229Z
LAST-MODIFIED:20250818T100229Z
UID:17067-1755898200-1755903600@visitpuentegenil.es
SUMMARY:Noches en la Villa. La Cerámica en Al Andalus (Taller Infantil)
DESCRIPTION: La cerámica en Al Andalus (Taller infantil).  Los andalusíes dejaron su huella en este lugar\, como muestran los restos de cerámica encontrados.Con este taller\, los niños descubrirán cómo era la vida en Al-Ándalus y decorarán cerámica con técnicas y motivos andalusíes.  \n  22 de agosto – 21:30 h \n\n  Villa Romana de Fuente Álamo – Puente Genil \n\n\n Inscríbete aquí: https://fuentealamovillaromana.com/noches-en-la-villa/
URL:https://visitpuentegenil.es/evento/noches-en-la-villa-la-ceramica-en-al-andalus-taller-infantil/
LOCATION:Villa Romana de Fuente Álamo\, cv-297 km 3\, Puente Genil\, Córdoba\, 14500\, España
CATEGORIES:Noches en la Villa,Talleres
ATTACH;FMTTYPE=image/png:https://visitpuentegenil.es/wp-content/uploads/2025/08/Taller-Ceramica-en-Al-Andalus.-22-agosto.png
END:VEVENT
BEGIN:VEVENT
DTSTART;TZID=Europe/Madrid:20250823T213000
DTEND;TZID=Europe/Madrid:20250823T230000
DTSTAMP:20260422T232209
CREATED:20250818T101945Z
LAST-MODIFIED:20250818T101945Z
UID:17071-1755984600-1755990000@visitpuentegenil.es
SUMMARY:Noches en la Villa. Mitos en el cielo (Público Familiar)
DESCRIPTION:  Mitos en el cielo (Público Familiar). Buena parte de las constelaciones  que observamos tienen un vínculo mitológico \, pues en el pasado mujeres y hombres trataban de buscar explicación a fenómenos especiales a través de sus creencias. \n\n   23 de agosto – 21:30 h.\n\n\n\n Villa Romana de Fuente Álamo – Puente genil  \n Inscríbete aquí: https://fuentealamovillaromana.com/noches-en-la-villa/
URL:https://visitpuentegenil.es/evento/noches-en-la-villa-mitos-en-el-cielo-publico-familiar/
LOCATION:Villa Romana de Fuente Álamo\, cv-297 km 3\, Puente Genil\, Córdoba\, 14500\, España
CATEGORIES:Historia,Mitología,Noches en la Villa,Visitas nocturnas
ATTACH;FMTTYPE=image/png:https://visitpuentegenil.es/wp-content/uploads/2025/08/Mitos-en-el-cielo.-23-Agosto.png
END:VEVENT
BEGIN:VEVENT
DTSTART;TZID=Europe/Madrid:20250824T210000
DTEND;TZID=Europe/Madrid:20250824T230000
DTSTAMP:20260422T232209
CREATED:20250818T105638Z
LAST-MODIFIED:20250818T105638Z
UID:17074-1756069200-1756076400@visitpuentegenil.es
SUMMARY:Noches en la Villa. El Sonido Nocturno de la Historia
DESCRIPTION: Sonido Nocturno de la Historia  ¡El pasado cobra vida en mitad de la noche! Ven a descubrir la historia y los mosaicos de la Villa Romana de Fuente Álamo bajo las estrellas  \n  24 de agosto\, apertura de 21:00 h a 23:00 h. \n  Villa Romana de Fuente Álamo – Puente Genil \n   No necesita inscripción.
URL:https://visitpuentegenil.es/evento/noches-en-la-villa-el-sonido-nocturno-de-la-historia/
LOCATION:Villa Romana de Fuente Álamo\, cv-297 km 3\, Puente Genil\, Córdoba\, 14500\, España
CATEGORIES:Mosaicos,Noches en la Villa,Patrimonio,Visitas nocturnas
ATTACH;FMTTYPE=image/png:https://visitpuentegenil.es/wp-content/uploads/2025/08/Sonido-Nocturno-24-agosto.png
END:VEVENT
BEGIN:VEVENT
DTSTART;TZID=Europe/Madrid:20250829T210000
DTEND;TZID=Europe/Madrid:20250829T230000
DTSTAMP:20260422T232209
CREATED:20250822T092318Z
LAST-MODIFIED:20250822T092318Z
UID:17081-1756501200-1756508400@visitpuentegenil.es
SUMMARY:Noches en la Villa 2025. 🌙 Sonido Nocturno de la Historia ✨
DESCRIPTION:🌙 Sonido Nocturno de la Historia ✨ \n¡El pasado cobra vida en mitad de la noche! Ven a descubrir la historia y los mosaicos de la Villa Romana de Fuente Álamo bajo las estrellas 🌙 🧱 \n🗓️ 29 de agosto\, apertura de ⏰21:00 h a 23:00 h. \n📍 Villa Romana de Fuente Álamo – Puente Genil \n🎟 Entrada general: 3\,50€. Reducida – (4 a 14 años\, carnet joven \, desempleados\, mayores de 65 años): 2€\nNo necesita inscripción.
URL:https://visitpuentegenil.es/evento/noches-en-la-villa-2025-%f0%9f%8c%99-sonido-nocturno-de-la-historia-%e2%9c%a8-2/
LOCATION:Villa Romana de Fuente Álamo\, cv-297 km 3\, Puente Genil\, Córdoba\, 14500\, España
CATEGORIES:Arqueología,Visitas con audio guía,Visitas nocturnas
ATTACH;FMTTYPE=image/png:https://visitpuentegenil.es/wp-content/uploads/2025/08/Sonido-Nocturno-29-Agosto.png
END:VEVENT
BEGIN:VEVENT
DTSTART;TZID=Europe/Madrid:20250830T213000
DTEND;TZID=Europe/Madrid:20250830T230000
DTSTAMP:20260422T232209
CREATED:20250822T094037Z
LAST-MODIFIED:20250829T104959Z
UID:17084-1756589400-1756594800@visitpuentegenil.es
SUMMARY:Noches en la Villa 2025. 🍷🍇 In vino veritas (Público Adulto). Visita tematizada.
DESCRIPTION:🍷🍇 In vino veritas (Público Adulto). Visita guiada + degustación de vino. \nExplicación de la presencia del vino en la sociedad y cultura romana y su vínculo con la villa romana de Fuente Álamo: origen\, cultivo 🌱\, tipos de vinos consumidos\, curiosidades\, etc. 🤗🍷 \n🗓️ 30 de agosto – ⏰21:30 h \n📍 Villa Romana de Fuente Álamo – Puente Genil\n👉 Inscríbete aquí: https://fuentealamovillaromana.com/noches-en-la-villa/
URL:https://visitpuentegenil.es/evento/noches-en-la-villa-2025-%f0%9f%8d%b7%f0%9f%8d%87-in-vino-veritas-publico-adulto-visita-tematizada/
LOCATION:Villa Romana de Fuente Álamo\, cv-297 km 3\, Puente Genil\, Córdoba\, 14500\, España
CATEGORIES:Arqueología,Gastronomía,Vino,Visitas guiadas,Visitas teatralizadas
ATTACH;FMTTYPE=image/png:https://visitpuentegenil.es/wp-content/uploads/2025/08/PLAZAS-AGOTADAS-IN-VINO-VERITAS.png
END:VEVENT
BEGIN:VEVENT
DTSTART;TZID=Europe/Madrid:20250831T210000
DTEND;TZID=Europe/Madrid:20250831T233000
DTSTAMP:20260422T232209
CREATED:20250822T094730Z
LAST-MODIFIED:20250827T091416Z
UID:17088-1756674000-1756683000@visitpuentegenil.es
SUMMARY:Noches en la Villa 2025. Escape Room.
DESCRIPTION:🔐⏳ Escape room (Actividad Familiar\, + 12 años). \nUn grupo de personas ha entrado en el yacimiento arqueológico de Fuente Álamo en mitad de la noche 🙀. Un trabajador descubre que algo ha ocurrido. Los intrusos huyeron dejando atrás algunos indicios 🎒 🔍. ¿Estará ahí la clave para descubrir el misterio? 👣 \n📅 31 de agosto – Pases: ⏰21:00 h / ⏰22:30 h\n📍 Villa Romana de Fuente Álamo – Puente Genil \n👉 Inscríbete aquí: https://fuentealamovillaromana.com/noches-en-la-villa/
URL:https://visitpuentegenil.es/evento/noches-en-la-villa-2025-escape-room-2/
LOCATION:Villa Romana de Fuente Álamo\, cv-297 km 3\, Puente Genil\, Córdoba\, 14500\, España
CATEGORIES:Arqueología,Escape Room
ATTACH;FMTTYPE=image/png:https://visitpuentegenil.es/wp-content/uploads/2025/08/Aforo-Completo-Escape-Room-2.png
END:VEVENT
END:VCALENDAR