BEGIN:VCALENDAR
VERSION:2.0
PRODID:-//Visit Puente Genil - ECPv6.15.20//NONSGML v1.0//EN
CALSCALE:GREGORIAN
METHOD:PUBLISH
X-ORIGINAL-URL:https://visitpuentegenil.es
X-WR-CALDESC:Eventos para Visit Puente Genil
REFRESH-INTERVAL;VALUE=DURATION:PT1H
X-Robots-Tag:noindex
X-PUBLISHED-TTL:PT1H
BEGIN:VTIMEZONE
TZID:Europe/Madrid
BEGIN:DAYLIGHT
TZOFFSETFROM:+0100
TZOFFSETTO:+0200
TZNAME:CEST
DTSTART:20240331T010000
END:DAYLIGHT
BEGIN:STANDARD
TZOFFSETFROM:+0200
TZOFFSETTO:+0100
TZNAME:CET
DTSTART:20241027T010000
END:STANDARD
BEGIN:DAYLIGHT
TZOFFSETFROM:+0100
TZOFFSETTO:+0200
TZNAME:CEST
DTSTART:20250330T010000
END:DAYLIGHT
BEGIN:STANDARD
TZOFFSETFROM:+0200
TZOFFSETTO:+0100
TZNAME:CET
DTSTART:20251026T010000
END:STANDARD
BEGIN:DAYLIGHT
TZOFFSETFROM:+0100
TZOFFSETTO:+0200
TZNAME:CEST
DTSTART:20260329T010000
END:DAYLIGHT
BEGIN:STANDARD
TZOFFSETFROM:+0200
TZOFFSETTO:+0100
TZNAME:CET
DTSTART:20261025T010000
END:STANDARD
END:VTIMEZONE
BEGIN:VEVENT
DTSTART;TZID=Europe/Madrid:20250905T210000
DTEND;TZID=Europe/Madrid:20250905T223000
DTSTAMP:20260422T200103
CREATED:20250829T115112Z
LAST-MODIFIED:20250829T115112Z
UID:17165-1757106000-1757111400@visitpuentegenil.es
SUMMARY:Noches en la Villa 2025. 🎨 Taller de Mosaicos (Público infantil).
DESCRIPTION:🎨 Taller de Mosaicos (Público infantil). \n¿Sabías que la Villa Romana de Fuente Álamo cuenta con mosaicos únicos y de gran belleza? 😍 A través de este taller los más pequeños conocerán el arte del mosaico y harán el suyo propio. \n¡Te convertirás en un todo un maestro musivario! 💫 🤗 \n🗓️ 5 de septiembre – ⏰21:00 h \n📍 Villa Romana de Fuente Álamo – Puente Genil\n👉 Inscríbete aquí: https://fuentealamovillaromana.com/noches-en-la-villa/
URL:https://visitpuentegenil.es/evento/noches-en-la-villa-2025-%f0%9f%8e%a8-taller-de-mosaicos-publico-infantil/
LOCATION:Villa Romana de Fuente Álamo\, cv-297 km 3\, Puente Genil\, Córdoba\, 14500\, España
CATEGORIES:Actividades infantiles,Arqueología,Mosaicos,Talleres
ATTACH;FMTTYPE=image/png:https://visitpuentegenil.es/wp-content/uploads/2025/08/Taller-Mosaicos.-5-Septiembre.png
END:VEVENT
BEGIN:VEVENT
DTSTART;TZID=Europe/Madrid:20250906T103000
DTEND;TZID=Europe/Madrid:20250906T120000
DTSTAMP:20260422T200103
CREATED:20250903T100135Z
LAST-MODIFIED:20250903T100135Z
UID:17193-1757154600-1757160000@visitpuentegenil.es
SUMMARY:Visita con anfitrión en la Villa Romana de Fuente Álamo.
DESCRIPTION:¿Buscas un plan diferente este fin de semana? \nVen a #PuenteGenil y descubre el yacimiento arqueológico “Villa Romana de Fuente Álamo”  a través de una visita con anfitrión. Un lugar con mucha #historia donde te haremos viajar al pasado.\n\n\n\nVen a contemplar sus increíbles #mosaicos y siente cómo la #historia cobra vida a tu alrededor….  todo ello de la mano de un guía anfitrión dispuesto a contestar todas tus preguntas.\n¡Ven a conocer una de las colecciones de #mosaicos más importantes de toda España!\n\n\n¡Haz tu reserva ya! ¡Te esperamos!\n 6 de septiembre  10:30 h. Villa Romana de Fuente Alamo. Puente Genil 5 € por persona.957 60 50 34 ext. 0 380 / puentegenil@ciudadesmedias.org
URL:https://visitpuentegenil.es/evento/visita-con-anfitrion-en-la-villa-romana-de-fuente-alamo-19/
LOCATION:Villa Romana de Fuente Álamo\, cv-297 km 3\, Puente Genil\, Córdoba\, 14500\, España
CATEGORIES:Arqueología,Patrimonio,Visitas guiadas
ATTACH;FMTTYPE=image/png:https://visitpuentegenil.es/wp-content/uploads/2025/09/Visita-Anfitrion.-6-Septiembre.png
ORGANIZER;CN="Ciudades Medias":MAILTO:puentegenil@ciudadesmedias.org
END:VEVENT
BEGIN:VEVENT
DTSTART;TZID=Europe/Madrid:20250906T213000
DTEND;TZID=Europe/Madrid:20250906T230000
DTSTAMP:20260422T200103
CREATED:20250829T115750Z
LAST-MODIFIED:20250829T115941Z
UID:17168-1757194200-1757199600@visitpuentegenil.es
SUMMARY:Noches en la Villa 2025. 🍇🌱 Visita guiada: Fundus (Todos los Públicos).
DESCRIPTION:🍇🌱 Visita guiada: Fundus (Todos los Públicos).  \nVisita guiada basada en el análisis y explicación de los trabajos agrícolas que hubo en torno a las grandes propiedades romanas: tipos de cultivos\, organización del trabajo\, propiedad de la tierra\, agricultura y ganadería en el bajo Imperio. 🤗 🧑‍🌾 \n📅 6 de septiembre – ⏰21:30 h\n📍 Villa Romana de Fuente Álamo – Puente genil \n👉 Inscríbete aquí: https://fuentealamovillaromana.com/noches-en-la-villa/
URL:https://visitpuentegenil.es/evento/noches-en-la-villa-2025-%f0%9f%8d%87%f0%9f%8c%b1-visita-guiada-fundus-todos-los-publicos/
LOCATION:Villa Romana de Fuente Álamo\, cv-297 km 3\, Puente Genil\, Córdoba\, 14500\, España
CATEGORIES:Arqueología,Visitas guiadas,Visitas nocturnas,Visitas tematizadas
ATTACH;FMTTYPE=image/png:https://visitpuentegenil.es/wp-content/uploads/2025/08/Visita-Fundus.-6-Septiembre.png
END:VEVENT
BEGIN:VEVENT
DTSTART;TZID=Europe/Madrid:20250906T213000
DTEND;TZID=Europe/Madrid:20250906T230000
DTSTAMP:20260422T200103
CREATED:20250902T074230Z
LAST-MODIFIED:20250902T074230Z
UID:17186-1757194200-1757199600@visitpuentegenil.es
SUMMARY:Mónica Molerr presenta su disco "Feelings" en el Patio de Los Frailes.
DESCRIPTION:La cantautora pontanesa Mónica Molerr presenta en acústico su disco “Feelings.” 🌼🌼🌼 \nA pesar de su juventud esta joven de Puente Genil compone y sube sus canciones a distintas plataformas para hacerlas llegar a aquellas personas que aman la música tanto como ella. 🌿🎶💕 \n🌟Si quieres verla en sus proximos conciertos y te gustan sus canciones puedes escucharla en Spotify\, Youtube\, Tiktok… 🎧 \n¡No te la pierdas!✌🏽💕🌼 \n📅 Sábado\, 6 de septiembre 🕐 21:30 h.\n📍 Conjunto Histórico de Los Frailes.\n🎫 Entrada libre hasta completar aforo.\n 
URL:https://visitpuentegenil.es/evento/monica-molerr-presenta-su-disco-feelings-en-el-patio-de-los-frailes/
LOCATION:Conjunto Histórico de los Frailes\, Callle Contralmirante Delgado Parejo s/n\, Puente Genil\, Córdoba\, 14500\, Spain
CATEGORIES:Conciertos,Música,Presentaciones discos
ATTACH;FMTTYPE=image/jpeg:https://visitpuentegenil.es/wp-content/uploads/2025/09/6-Monica-Molero.jpg
END:VEVENT
BEGIN:VEVENT
DTSTART;TZID=Europe/Madrid:20250907T210000
DTEND;TZID=Europe/Madrid:20250907T230000
DTSTAMP:20260422T200103
CREATED:20250829T123954Z
LAST-MODIFIED:20250903T091607Z
UID:17172-1757278800-1757286000@visitpuentegenil.es
SUMMARY:Noches en la Villa 2025. 🌙 Sonido Nocturno de la Historia ✨
DESCRIPTION:🌙 Sonido Nocturno de la Historia ✨ \n¡El pasado cobra vida en mitad de la noche! Ven a descubrir la historia y los mosaicos de la Villa Romana de Fuente Álamo bajo las estrellas 🌙 🧱 \n🗓️ 7 de septiembre\, apertura de ⏰21:00 h a 23:00 h. \n📍 Villa Romana de Fuente Álamo – Puente Genil  \nNo necesita inscripción. \nPrecio entrada general 3\,50€. Reducida 2€
URL:https://visitpuentegenil.es/evento/noches-en-la-villa-2025-%f0%9f%8c%99-sonido-nocturno-de-la-historia-%e2%9c%a8-3/
LOCATION:Villa Romana de Fuente Álamo\, cv-297 km 3\, Puente Genil\, Córdoba\, 14500\, España
CATEGORIES:Arqueología,Mosaicos,Visitas con audio guía,Visitas nocturnas
ATTACH;FMTTYPE=image/png:https://visitpuentegenil.es/wp-content/uploads/2025/08/Sonido-Nocturno-septiembre-1.png
END:VEVENT
BEGIN:VEVENT
DTSTART;TZID=Europe/Madrid:20250910T200000
DTEND;TZID=Europe/Madrid:20250910T213000
DTSTAMP:20260422T200103
CREATED:20250909T122431Z
LAST-MODIFIED:20250909T124438Z
UID:17302-1757534400-1757539800@visitpuentegenil.es
SUMMARY:Encuentro sobre Salud Ambiental en la Noche Europea de los investigadores.
DESCRIPTION:𝐋𝐚 𝐍𝐨𝐜𝐡𝐞 𝐄𝐮𝐫𝐨𝐩𝐞𝐚 𝐝𝐞 𝐥𝐨𝐬/𝐚𝐬 𝐢𝐧𝐯𝐞𝐬𝐭𝐢𝐠𝐚𝐝𝐨𝐫𝐞𝐬/𝐚𝐬 𝐥𝐥𝐞𝐠𝐚 𝐚 𝐏𝐮𝐞𝐧𝐭𝐞 𝐆𝐞𝐧𝐢𝐥 𝐜𝐨𝐧 𝐮𝐧 𝐞𝐧𝐜𝐮𝐞𝐧𝐭𝐫𝐨 𝐬𝐨𝐛𝐫𝐞 𝐬𝐚𝐥𝐮𝐝 𝐚𝐦𝐛𝐢𝐞𝐧𝐭𝐚𝐥.\n\n\n\nTe invitamos a descubrir el lado más humano de la investigación a través de un contacto directo con los propios expertos y expertas.\n\n\nEn Puente Genil contaremos con Marina Barbudo Lunar y Verónica I. Luna Guerrero\, del grupo “Biología molecular de los mecanismos de respuesta a estrés”y con Miriam Chávez Peraza y Rafael del Caño Ochoa\, del grupo “Físicoquímica biológica” de la Universidad de Córdoba.\n\nCon ellos hablaremos sobre la salud ambiental y los sensores que cuidan del planeta para poder medir los cambios en el medio ambiente.\nEs una actividad gratuita\, para todos los públicos.\n\n\n\n Inscripciones gratuitas: https://eventos.uco.es/…/puente-genil-noche-europea-de…\n\n\n 10 de septiembre\n\n\n A las 20:00h\n\n\n Salón de actos Biblioteca Municipal Ricardo Molina\, Parque Los Pinos
URL:https://visitpuentegenil.es/evento/encuentro-sobre-salud-ambiental-en-la-noche-europea-de-los-investigadores/
LOCATION:Biblioteca Pública Municipal Ricardo Molina\, Parque los Pinos\, s/n\, Puente Genil\, Córdoba\, 14500\, España
CATEGORIES:Charla,Conferencia
ATTACH;FMTTYPE=image/jpeg:https://visitpuentegenil.es/wp-content/uploads/2025/09/salud-ambiental.jpg
ORGANIZER;CN="Centro Universitario de Desarrollo Tecnol%C3%B3gico de Puente Genil":MAILTO:cudtpuentegenil@uco.es
END:VEVENT
BEGIN:VEVENT
DTSTART;TZID=Europe/Madrid:20250912T203000
DTEND;TZID=Europe/Madrid:20250912T230000
DTSTAMP:20260422T200103
CREATED:20250909T080236Z
LAST-MODIFIED:20250909T080236Z
UID:17225-1757709000-1757718000@visitpuentegenil.es
SUMMARY:Noches en la Villa 2025.  🔐⏳ "Escape Room" Actividad Familiar +12 años
DESCRIPTION:🔐⏳ Escape room (Actividad Familiar\, + 16 años).\nUn grupo de personas ha entrado en el yacimiento de Fuente Álamo en mitad de la noche 🙀. Un trabajador descubre que algo ha ocurrido. Los intrusos huyeron dejando atrás algunos indicios 🎒 🔍. ¿Estará ahí la clave para descubrir el misterio? 👣 \n🗓️ 12 de septiembre – Pases: ⏰20:30 h / 22:00 h \n📍 Villa Romana de Fuente Álamo – Puente Genil\n👉 Inscríbete aquí: https://fuentealamovillaromana.com/noches-en-la-villa/
URL:https://visitpuentegenil.es/evento/noches-en-la-villa-2025-%f0%9f%94%90%e2%8f%b3-escape-room-actividad-familiar-12-anos/
LOCATION:Villa Romana de Fuente Álamo\, cv-297 km 3\, Puente Genil\, Córdoba\, 14500\, España
CATEGORIES:Escape Room,Historia,Mosaicos,Noches en la Villa
ATTACH;FMTTYPE=image/png:https://visitpuentegenil.es/wp-content/uploads/2025/09/Escape-Room.-12-septiembre.png
END:VEVENT
BEGIN:VEVENT
DTSTART;TZID=Europe/Madrid:20250913T180000
DTEND;TZID=Europe/Madrid:20250913T193000
DTSTAMP:20260422T200103
CREATED:20250909T115602Z
LAST-MODIFIED:20250909T120512Z
UID:17295-1757786400-1757791800@visitpuentegenil.es
SUMMARY:Entrevista a Tivi Mizu en el Nº11.
DESCRIPTION:El Microespacio Cultural N11 abre la temporada con la escritora sevillana de cuentos y literatura juvenil  Tivi Mizu. \nCon un estilo visual y emocional que conecta con el público joven\, Tivi Mizu representa un movimiento de autoras independientes que se autopublican con sello propio. En su obra se tratan temas tan importantes como la superación\, el autodescubrimiento y el primer amor desde una óptica\, mágica\, cercana y juvenil. Su comunidad está creciendo entre los lectores del manga\, el anime y la literatura romántica y juvenil. \nReserva tu plaza en: espaciomicroculturaln11@gmail.com \n\n Microespacio Cultural en Aguilar nº11\n\n\n Sábado 13 de septiembre\n 18:00h\n\n\nEn colaboración con el Ayuntamiento de Puente Genil y la Diputación de Córdoba.
URL:https://visitpuentegenil.es/evento/entrevista-a-tivi-mizu-en-el-no11/
LOCATION:Espacio Microcultural Nº 11\, Calle Aguilar\, 11\, Puente Genil\, Córdoba\, 14500\, España
CATEGORIES:Entrevista,Mujer
ATTACH;FMTTYPE=image/jpeg:https://visitpuentegenil.es/wp-content/uploads/2025/09/numero-11.jpg
ORGANIZER;CN="Espacio microcultural N%C2%BA11":MAILTO:espaciomicroculturaln11@gmail.com
END:VEVENT
BEGIN:VEVENT
DTSTART;TZID=Europe/Madrid:20250913T210000
DTEND;TZID=Europe/Madrid:20250913T223000
DTSTAMP:20260422T200103
CREATED:20250909T075906Z
LAST-MODIFIED:20250909T075943Z
UID:17234-1757797200-1757802600@visitpuentegenil.es
SUMMARY:Noches en la Villa 2025 👬"Adelpoiesis" Todos los públicos
DESCRIPTION:👬 Adelpoiesis (Todos los Públicos). \nEsta actividad ofrecerá una visión de cómo se valoraban y formalizaban los lazos afectivos en el cristianismo temprano\, buscando un reconocimiento sagrado para estas uniones fraternales. Este rito establecía un vínculo formal con implicaciones espirituales y sociales\, buscando crear una hermandad santificada. 💫 \n📅 13 de septiembre – ⏰21:00 h\n📍 Villa Romana de Fuente Álamo – Puente Genil \n👉 Inscríbete aquí: https://fuentealamovillaromana.com/noches-en-la-villa/
URL:https://visitpuentegenil.es/evento/noches-en-la-villa-2025-%f0%9f%91%acadelpoiesis-todos-los-publicos/
LOCATION:Villa Romana de Fuente Álamo\, cv-297 km 3\, Puente Genil\, Córdoba\, 14500\, España
CATEGORIES:Historia,Noches en la Villa
ATTACH;FMTTYPE=image/png:https://visitpuentegenil.es/wp-content/uploads/2025/09/Adelfopoiesis.-13-septiembre.png
END:VEVENT
BEGIN:VEVENT
DTSTART;TZID=Europe/Madrid:20250913T210000
DTEND;TZID=Europe/Madrid:20250913T223000
DTSTAMP:20260422T200103
CREATED:20250909T100450Z
LAST-MODIFIED:20250909T100450Z
UID:17260-1757797200-1757802600@visitpuentegenil.es
SUMMARY:Concierto Bandas Sonoras por Cuarteto Isbilya
DESCRIPTION:¡La magia del cine llega al Teatro Circo!\n\n\nEste sábado 13 de septiembre a las 21:00h\, el Cuarteto Isbilya nos hará viajar por las mejores bandas sonoras con un concierto único\, gratuito y abierto a todos los públicos. \n\n\nFormado por jóvenes talentos andaluces con proyección internacional\, el cuarteto ha brillado en escenarios como el Ateneo de Sevilla o el Espacio Turina\, y ahora nos regalará una noche inolvidable en Puente Genil.\n\n\n Una oportunidad para disfrutar de música clásica de calidad\, cercana y emocionante\, en el corazón de nuestra ciudad.\n\n\n\nTeatro Circo\n Sábado 13 de septiembre\n 21:00h\n Entrada libre hasta completar aforo\n\n\n\n¡No te lo pierdas! Comparte la cita y ven a vivir este concierto especial. \n\n\n\n\n\n\n\n\n\n\n\n\n\n\n\n\n\n\n 
URL:https://visitpuentegenil.es/evento/concierto-bandas-sonoras-por-cuarteto-isbilya/
LOCATION:Teatro Circo\, C/ Jesús\, s/n\, Puente Genil\, Córdoba\, 14500\, España
CATEGORIES:Conciertos,Música
ATTACH;FMTTYPE=image/jpeg:https://visitpuentegenil.es/wp-content/uploads/2025/09/bandas-sonoras.jpg
END:VEVENT
BEGIN:VEVENT
DTSTART;TZID=Europe/Madrid:20250914T210000
DTEND;TZID=Europe/Madrid:20250914T230000
DTSTAMP:20260422T200103
CREATED:20250909T075259Z
LAST-MODIFIED:20250909T075259Z
UID:17247-1757883600-1757890800@visitpuentegenil.es
SUMMARY:Noches en la Villa 2025. 🌙 Sonido Nocturno de la Historia ✨
DESCRIPTION:🌙 Sonido Nocturno de la Historia ✨ \n¡El pasado cobra vida en mitad de la noche! Ven a descubrir la historia y los mosaicos de la Villa Romana de Fuente Álamo bajo las estrellas 🌙 🧱 \n🗓️ 14 de septiembre\, apertura de ⏰21:00 h a 23:00 h. \n📍 Villa Romana de Fuente Álamo – Puente Genil \nNo necesita inscripción.
URL:https://visitpuentegenil.es/evento/noches-en-la-villa-2025-%f0%9f%8c%99-sonido-nocturno-de-la-historia-%e2%9c%a8-4/
LOCATION:Villa Romana de Fuente Álamo\, cv-297 km 3\, Puente Genil\, Córdoba\, 14500\, España
CATEGORIES:Arqueología,Noches en la Villa,Visitas nocturnas
ATTACH;FMTTYPE=image/png:https://visitpuentegenil.es/wp-content/uploads/2025/09/Sonido-Nocturno-14-septiembre.png
END:VEVENT
BEGIN:VEVENT
DTSTART;TZID=Europe/Madrid:20250919T213000
DTEND;TZID=Europe/Madrid:20250919T223000
DTSTAMP:20260422T200103
CREATED:20250917T110623Z
LAST-MODIFIED:20250917T110623Z
UID:17399-1758317400-1758321000@visitpuentegenil.es
SUMMARY:Rosario Vespertino de la Semana Santa a la Purísima Concepción
DESCRIPTION:La Agrupación de Cofradías\, Hermandades y Corporaciones Bíblicas de Puente Genil celebrará un Rosario Vespertino de la Semana Santa a la Purísima Concepción\, con los estandartes e insignias de Cofradías y Hermandades\, en peregrinación hacia el Santuario de la Concepción\, con motivo del 375 aniversario de su Patronazgo y del año jubilar de la Esperanza. \nTendrá lugar el viernes 19 de septiembre a las 21:30h\, desde la sede de la Agrupación de Cofradías (Exconvento de los Frailes) hasta el Santuario de la Concepción\, discurrirá por Don Gonzalo\, Cuesta Borrego y Antonio Baena. \nIntervendrán la Schola Cantorum Santa Cecilia y Rondalla de Puente Genil. \n📍Los Frailes\n📅Viernes\, 19 de septiembre\n⏰21:30h
URL:https://visitpuentegenil.es/evento/rosario-vespertino-de-la-semana-santa-a-la-purisima-concepcion/
LOCATION:Conjunto Histórico de los Frailes\, Callle Contralmirante Delgado Parejo s/n\, Puente Genil\, Córdoba\, 14500\, Spain
CATEGORIES:Cofradías
ATTACH;FMTTYPE=image/jpeg:https://visitpuentegenil.es/wp-content/uploads/2025/09/rosario-vespertino.jpg
ORGANIZER;CN="Agrupaci%C3%B3n de Cofrad%C3%ADas y Corporaciones B%C3%ADblicas de Puente Genil":MAILTO:secretaria@agrupacioncofradias.es
END:VEVENT
BEGIN:VEVENT
DTSTART;TZID=Europe/Madrid:20250920T160000
DTEND;TZID=Europe/Madrid:20250920T200000
DTSTAMP:20260422T200103
CREATED:20250916T092612Z
LAST-MODIFIED:20250916T092612Z
UID:17371-1758384000-1758398400@visitpuentegenil.es
SUMMARY:Torneo Magic the Gathering de La Guardia Lúdica.
DESCRIPTION:🔥🧙‍♂ ¡Se viene torneo de Magic: The Gathering en formato Jumpstart! 🧙‍♂🔥 \nLa Asociación La Guardia Lúdica con la colaboración del Ayuntamiento de Puente Genil y la Diputación de Córdoba organiza este encuentro para jugar al famoso juego de cartas coleccionables con más de seis millones de jugadores en 52 países diferentes.\n⁣⁣\n¿Te mola Magic pero no tienes mazo preparado? No pasa nada: en Jumpstart todo el mundo empieza de cero. Solo tienes que venir con ganas de jugar.\n⁣\n🎁 Premios:\n🏆 1º puesto: ¡una baraja Commander!\n🎁 Solo por participar te llevas tu baraja Jumpstart\n⁣\n💸 Inscripción:\n🟢 Socios = GRATIS\n🔴 No socios = 10 €\n⁣\n¿Te apuntas? ¡Nos vemos en la mesa! \n📅 20 de septiembre\n🕓 A las 16:00h\n📍 En la Casa del Ciudadano\, Puente Genil – Taller 2\n⁣
URL:https://visitpuentegenil.es/evento/torneo-magic-the-gathering-de-la-guardia-ludica/
LOCATION:Casa Ciudadana\, Antonio Fernández Díaz\, "Fosforito\," s/n\, Puente Genil\, Córdoba\, 14500\, España
CATEGORIES:Juegos de mesa,Juegos de rol,Juventud
ATTACH;FMTTYPE=image/jpeg:https://visitpuentegenil.es/wp-content/uploads/2025/09/20-mAGIC-THE-gATHERING.jpg
ORGANIZER;CN="La Guardia L%C3%BAdica":MAILTO:laguardialudicaweb@gmail.com
END:VEVENT
BEGIN:VEVENT
DTSTART;TZID=Europe/Madrid:20250920T210000
DTEND;TZID=Europe/Madrid:20250920T230000
DTSTAMP:20260422T200103
CREATED:20250913T114958Z
LAST-MODIFIED:20250915T104458Z
UID:17336-1758402000-1758409200@visitpuentegenil.es
SUMMARY:Concierto Grupo Capachos.
DESCRIPTION:El Auditorio Municipal “Hermanos Cuenca” acogerá el próximo sábado 20 de septiembre a partir de las 21:00h\, un concierto del Grupo Capachos. \nEste grupo está compuesto por unos 20 músicos\, que mediante la combinación precisa de innovación y tradición\, consigue descubrir en cada nota musical la clave con la que hace aflorar los sentimientos y las sensaciones que las canciones encierran. \n\n Auditorio Municipal Hermanos Cuenca\n\n\n Sábado 20 de septiembre\n 21:00h\n Entrada Gratuita hasta completar aforo
URL:https://visitpuentegenil.es/evento/concierto-grupo-capachos/
LOCATION:Auditorio “Hermanos Cuenca”\, Calle Pinar de San Rafael\, s/n\, Puente Genil\, Córdoba\, 14500\, España
CATEGORIES:Conciertos,Música
ATTACH;FMTTYPE=image/jpeg:https://visitpuentegenil.es/wp-content/uploads/2025/09/capachos.jpg
END:VEVENT
BEGIN:VEVENT
DTSTART;TZID=Europe/Madrid:20250921T110000
DTEND;TZID=Europe/Madrid:20250921T140000
DTSTAMP:20260422T200103
CREATED:20250913T101850Z
LAST-MODIFIED:20250915T085155Z
UID:17322-1758452400-1758463200@visitpuentegenil.es
SUMMARY:XI Campeonato de Andalucía Prueba de Obstáculos de Enganches
DESCRIPTION:¡Puente Genil vuelve a ser escenario del mejor deporte ecuestre!\nEste 𝗱𝗼𝗺𝗶𝗻𝗴𝗼 𝟮𝟭 𝗱𝗲 𝘀𝗲𝗽𝘁𝗶𝗲𝗺𝗯𝗿𝗲\, el 𝗟𝗹𝗮𝗻𝗼 𝗱𝗲𝗹 𝗔𝗿𝗲𝗻𝗮𝗹 (𝗮𝗻𝘁𝗶𝗴𝘂𝗼 𝗥𝗲𝗰𝗶𝗻𝘁𝗼 𝗙𝗲𝗿𝗶𝗮𝗹) acoge el 𝗫𝗜 𝗖𝗮𝗺𝗽𝗲𝗼𝗻𝗮𝘁𝗼 𝗱𝗲 𝗔𝗻𝗱𝗮𝗹𝘂𝗰𝛊́𝗮 𝗱𝗲 𝗣𝗿𝘂𝗲𝗯𝗮 𝗱𝗲 𝗢𝗯𝘀𝘁𝗮́𝗰𝘂𝗹𝗼𝘀 𝗱𝗲 𝗘𝗻𝗴𝗮𝗻𝗰𝗵𝗲𝘀\, organizado por el Ayuntamiento de Puente Genil\, C.D. de Enganches Interprovincial Córdoba-Jaén-Granada y Roditec. U\nUna cita espectacular donde la destreza y la pasión por los caballos se dan la mano.\n Ven y disfruta de una jornada única con la emoción de una competición andaluza de primer nivel.\n\n 📍  Lugar: Llano del Arenal\, Puente Genil\n🗓️ Domingo 21 de septiembre\n\n\n Hora: 11:00h\n Con servicio de bar
URL:https://visitpuentegenil.es/evento/xi-campeonato-de-andalucia-prueba-de-obstaculos-de-enganches/
LOCATION:Llano del Arenal
CATEGORIES:Caballistas,Campeonato
ATTACH;FMTTYPE=image/jpeg:https://visitpuentegenil.es/wp-content/uploads/2025/09/Enganches.jpg
END:VEVENT
END:VCALENDAR