BEGIN:VCALENDAR
VERSION:2.0
PRODID:-//Visit Puente Genil - ECPv6.15.20//NONSGML v1.0//EN
CALSCALE:GREGORIAN
METHOD:PUBLISH
X-WR-CALNAME:Visit Puente Genil
X-ORIGINAL-URL:https://visitpuentegenil.es
X-WR-CALDESC:Eventos para Visit Puente Genil
REFRESH-INTERVAL;VALUE=DURATION:PT1H
X-Robots-Tag:noindex
X-PUBLISHED-TTL:PT1H
BEGIN:VTIMEZONE
TZID:Europe/Madrid
BEGIN:DAYLIGHT
TZOFFSETFROM:+0100
TZOFFSETTO:+0200
TZNAME:CEST
DTSTART:20240331T010000
END:DAYLIGHT
BEGIN:STANDARD
TZOFFSETFROM:+0200
TZOFFSETTO:+0100
TZNAME:CET
DTSTART:20241027T010000
END:STANDARD
BEGIN:DAYLIGHT
TZOFFSETFROM:+0100
TZOFFSETTO:+0200
TZNAME:CEST
DTSTART:20250330T010000
END:DAYLIGHT
BEGIN:STANDARD
TZOFFSETFROM:+0200
TZOFFSETTO:+0100
TZNAME:CET
DTSTART:20251026T010000
END:STANDARD
BEGIN:DAYLIGHT
TZOFFSETFROM:+0100
TZOFFSETTO:+0200
TZNAME:CEST
DTSTART:20260329T010000
END:DAYLIGHT
BEGIN:STANDARD
TZOFFSETFROM:+0200
TZOFFSETTO:+0100
TZNAME:CET
DTSTART:20261025T010000
END:STANDARD
END:VTIMEZONE
BEGIN:VEVENT
DTSTART;TZID=Europe/Madrid:20251031T213000
DTEND;TZID=Europe/Madrid:20251101T213000
DTSTAMP:20260422T121207
CREATED:20251014T094554Z
LAST-MODIFIED:20251023T081639Z
UID:17821-1761946200-1762032600@visitpuentegenil.es
SUMMARY:#PuentedeNoviembre: Puente Genil Oscura.
DESCRIPTION:El próximo Puente de todos los santos tienes una cita con el Puente Genil más negro. No te puedes perder nuestra Ruta Nocturna sobre crímenes\, leyendas y fenómenos inexplicables en Puente Genil. ¿Te atreves a descubrir lo que nadie se atreve a contar? \nComenzaremos en la Plaza del Calvario (Iglesia de Jesús Nazareno) y finalizaremos en el casco histórico. \n\n📅 Viernes 31 de octubre a las 21:30h\n📅 Sábado 1 de noviembre a las 21:30h\nDuración: 2 horas\n\n\nPrecio: 8 euros\n\nNo recomendada a menores de 16 años \nCompra online aquí \nMás información 📞957 605 034 Ext.380 📩 puentegenil@ciudadesmedias.org \n 
URL:https://visitpuentegenil.es/evento/puentedenoviembre-puente-genil-oscura/
LOCATION:PUENTE GENIL\, Puente Genil\, CÓRDOBA\, 14500
CATEGORIES:Rutas,Visitas guiadas,Visitas nocturnas
ATTACH;FMTTYPE=image/jpeg:https://visitpuentegenil.es/wp-content/uploads/2025/10/31-PLAZAS.jpg
ORGANIZER;CN="Ciudades Medias":MAILTO:puentegenil@ciudadesmedias.org
END:VEVENT
BEGIN:VEVENT
DTSTART;TZID=Europe/Madrid:20251031T213000
DTEND;TZID=Europe/Madrid:20251102T150000
DTSTAMP:20260422T121207
CREATED:20251029T134833Z
LAST-MODIFIED:20251029T134833Z
UID:17947-1761946200-1762095600@visitpuentegenil.es
SUMMARY:Buuuuh Buuuuh Festival 2025.
DESCRIPTION:El próximo fin de semana Puente Genil se llena de rock y disfraces en la noche más terrorífica.👻🎃🧟‍♀️🐈‍⬛ \nEl viernes 31 de octubre y sábado 1 de noviembre\, la Caseta Municipal del Recinto Ferial de Puente Genil volverá a vibrar con una nueva edición del Buuuuh Buuuuh Festival\, una cita imprescindible para los amantes del rock y las noches de Halloween. \nCon entrada totalmente gratuita\, el festival ofrecerá dos días de música en directo\, disfraces y un ambiente festivo incomparable. \n🧨 Viernes 31 de octubre \nLa primera jornada del festival contará con la energía de tres potentes bandas: \n⏰21:30 – 22:30 → desde Montilla llega Taipan \n⏰23:00 – 00:30 →tendremos a  4 de Copas \n⏰01:00 – 02:30 → y como fin de fiesta T-Reviento desde Córdoba. \n¡¡Una noche para abrir el festival a lo grande\, con puro rock y mucha adrenalina!!🎸 🎸 🎸 🎸 \n  \n🥁 Sábado 1 de noviembre – Fiesta de disfraces \nEl sábado llega la esperada Fiesta de Disfraces\, con seis grupos que harán temblar el escenario: \n⏰20:00 – 21:00 → Gaucho Rock \n⏰21:15 – 22:00 → The Solar Baby \n⏰22:15 – 23:00 → Galgo \n⏰23:15 – 00:15 → desde Jaén Santo Rostro \n⏰00:30 – 01:30 → desde Málaga The Silver Linings \n⏰01:45 – 02:45 → desde Bilbao The Covenant \nPrepárate para una noche de disfraces\, guitarras y diversión hasta altas horas. \n  \n🎸 Organiza: Contracultura\n🏛 Patrocina: Diputación de Córdoba\n🏙 Colabora: Ayuntamiento de Puente Genil
URL:https://visitpuentegenil.es/evento/buuuuh-buuuuh-festival-2025/
LOCATION:Caseta Municipal Puente Genil\, Puente Genil\, Córdoba\, 14500
CATEGORIES:Conciertos,Festival,Música
ATTACH;FMTTYPE=image/jpeg:https://visitpuentegenil.es/wp-content/uploads/2025/10/31-1-Buuuh-Festival.jpg
ORGANIZER;CN="Contracultura":MAILTO:asociacioncontracultura@gmail.com
END:VEVENT
BEGIN:VEVENT
DTSTART;TZID=Europe/Madrid:20251101T080000
DTEND;TZID=Europe/Madrid:20251109T170000
DTSTAMP:20260422T121207
CREATED:20251028T103017Z
LAST-MODIFIED:20251028T103017Z
UID:17930-1761984000-1762707600@visitpuentegenil.es
SUMMARY:Catas a ciegas en Bodegas Delgado con motivo del Día del Enoturismo.
DESCRIPTION:🍷 ¡Vive una experiencia única! 🍇Llega la CATA A CIEGAS de Bodegas Delgado\, una forma diferente y original de disfrutar sus mejores vinos.👀 Ponte el antifaz\, agudiza tus sentidos y déjate llevar… ¡la diversión está asegurada! \n📅 Del 1 al 9 de noviembre de 2025💶 35 € por persona📍 Bodegas Delgado – Ruta del Vino Montilla-Moriles \n📲 Reserva previa:📞 34 677 74 55 62📧 visitas@bodegasdelgado.com \n✨ ¡No te lo pierdas! Ven y descubre el vino como nunca antes lo habías hecho.
URL:https://visitpuentegenil.es/evento/catas-a-ciegas-en-bodegas-delgado-con-motivo-del-dia-del-enoturismo/
LOCATION:Bodegas Delgado\, C/ Cosano 2\, Puente Genil\, Córdoba\, 14500\, Spain
CATEGORIES:Catas,Gastronomía,Vino
ATTACH;FMTTYPE=image/jpeg:https://visitpuentegenil.es/wp-content/uploads/2025/10/1-9-Bodegas-Delgado.jpg
ORGANIZER;CN="Bodegas Delgado":MAILTO:visitas@bodegasdelgado.com
END:VEVENT
BEGIN:VEVENT
DTSTART;TZID=Europe/Madrid:20251115T210000
DTEND;TZID=Europe/Madrid:20251115T230000
DTSTAMP:20260422T121207
CREATED:20251104T105052Z
LAST-MODIFIED:20251104T110701Z
UID:17955-1763240400-1763247600@visitpuentegenil.es
SUMMARY:Puente Genil oscura.
DESCRIPTION:¿Quieres recorrer las calles y rincones llenos de misterio y escalofriantes historias en Puente Genil? \n¡Ve a disfrutar de esta ruta nocturna con nosotros!  Adéntrate en Puente Genil Oscura  \n\nUna ruta enigmática donde la historia oculta y el mietrio se revelan. Entre callejones silenciosos y edificios que han perdurado a lo largo del tiempo\, descubrirás crímenes sin resolver\, leyendas antiguas y fenómenos que desafían la razón. \n\n\n Una experiencia única para quienes se atreven a mirar más allá de lo visible. ¿Te atreves a descubrir lo que nadie se atreve a contar?\n\n\n Sábado\, 15 de noviembre\, a las ⏰21:00 h.\n\nCompra ya  tu entrada online: https://ciudadesmedias.org/experiencia/puente-genil-oscura\n\n\n 957 60 50 34 Ext. 380\n No recomendado para menores de 16 años.
URL:https://visitpuentegenil.es/evento/puente-genil-oscura/
LOCATION:Córdoba
CATEGORIES:Visitas guiadas,Visitas nocturnas,Visitas teatralizadas
ATTACH;FMTTYPE=image/png:https://visitpuentegenil.es/wp-content/uploads/2025/11/15-Puente-Genil-Oscura-2-NOV.png
ORGANIZER;CN="Ciudades Medias":MAILTO:puentegenil@ciudadesmedias.org
END:VEVENT
BEGIN:VEVENT
DTSTART;TZID=Europe/Madrid:20251122T100000
DTEND;TZID=Europe/Madrid:20251122T233000
DTSTAMP:20260422T121207
CREATED:20251121T115315Z
LAST-MODIFIED:20251121T115315Z
UID:18105-1763805600-1763854200@visitpuentegenil.es
SUMMARY:#Navidad2025. Tributo a Dire Straits
DESCRIPTION:🎸✨ ¡Puente Genil vibra con la magia de la música de Dire Straits! ✨🎸 \nEste 22 de noviembre a las 22:00 h\, la Calle Don Gonzalo se llena de música con Alchemy Project\, uno de los tributos más potentes y fieles al sonido de Dire Straits.Un show espectacular\, lleno de energía\, emociones y guitarras que te llevarán directo a la época dorada del rock. \nSi eres amante de temas míticos como Sultans of Swing\, Money for Nothing o Brothers in Arms\, ¡este concierto es para ti! 🔥 \n📍 Puente Genil🕘 22 de noviembre – 22:00h¡No te lo pierdas! Vive una noche inolvidable y comparte la música que marcó a toda una generación. 🎶🤟
URL:https://visitpuentegenil.es/evento/navidad2025-tributo-a-dire-straits/
LOCATION:Calle Don Gonzalo\, Calle Don Gonzalo\, s/n\, Puente Genil\, Córdoba\, 14500\, Spain
CATEGORIES:Conciertos,Música,Tributo
ATTACH;FMTTYPE=image/jpeg:https://visitpuentegenil.es/wp-content/uploads/2025/11/Alchemy-Tributo.jpg
ORGANIZER;CN="Delegaci%C3%B3n de Festejos":MAILTO:festejos@aytopuentegenil.es
END:VEVENT
BEGIN:VEVENT
DTSTART;TZID=Europe/Madrid:20251128T200000
DTEND;TZID=Europe/Madrid:20251128T210000
DTSTAMP:20260422T121207
CREATED:20251126T095549Z
LAST-MODIFIED:20251126T095549Z
UID:18161-1764360000-1764363600@visitpuentegenil.es
SUMMARY:🎶 Jesús Cabello en concierto en Puente Genil 🎤✨
DESCRIPTION:La Parroquia Ntra. Sra. de la Purificación será el escenario de un emocionante concierto a cargo de Jesús Cabello\, dentro de los actos organizados por la Pontificia y Real Cofradía de la Purísima Concepción. \nUna oportunidad única para disfrutar de su música en un entorno incomparable y vivir una experiencia cargada de emoción\, espiritualidad y talento.\n \n📍 Parroquia Ntra. Sra. de la Purificación – Puente Genil\n📅Viernes 28 de noviembre ⏰20:00 h \n🎼 Entrada libre hasta completar aforo. \n¡No te lo pierdas! Vive la cultura\, la música y la tradición en un ambiente único.Puente Genil te espera #DondeElSolSeHaceDulce ☀️💛
URL:https://visitpuentegenil.es/evento/%f0%9f%8e%b6-jesus-cabello-en-concierto-en-puente-genil-%f0%9f%8e%a4%e2%9c%a8/
LOCATION:Parroquia Ntra. Sra. de la Purificación\, C/ Don Gonzalo 18\, Puente Genil\, Córdoba\, 14500
CATEGORIES:Cofradías,Conciertos,Música
ATTACH;FMTTYPE=image/jpeg:https://visitpuentegenil.es/wp-content/uploads/2025/11/28-Concierto-Jesus-Cabello.jpg
ORGANIZER;CN="Cofradia de la  Pur%C3%ADsima":MAILTO:patronadepuentegenil@gmail.com
END:VEVENT
BEGIN:VEVENT
DTSTART;TZID=Europe/Madrid:20251129T110000
DTEND;TZID=Europe/Madrid:20251130T170000
DTSTAMP:20260422T121207
CREATED:20251120T130134Z
LAST-MODIFIED:20251120T131455Z
UID:18098-1764414000-1764522000@visitpuentegenil.es
SUMMARY:Llega la séptima edición de LUDERE.
DESCRIPTION:¿Eres fan de los juegos de mesa\, el rol o las miniaturas? ¡Este es tu evento! \n🎲✨ ¡Vuelve Ludere VII\, el gran festival de juegos de mesa de Puente Genil! ✨🎲 \nLos días 29 y 30 de noviembre\, la Biblioteca Pública Municipal Ricardo Molina se convierte en el punto de encuentro para amantes de los juegos de mesa\, la estrategia\, la fantasía y la diversión en familia.🕙 Horario: de 10:00 a 21:00 h \nAdemás\, el sábado 29 te espera una programación espectacular: \n🐉 11:00 – Rol: Dungeons & Dragons 5ª edición 🕌 11:00 – Juego de mesa: Tabriz🚢 17:00 – Juego de mesa: Insondable🕰️ 17:30 – Blood on the Clocktower🔐 19:00 – Torneo de Kryptex \nY el domingo 30 más… \n \n🐉 11:00 – Destino de la Comunidad (ESDLA)🕌 11:00 – Rol de Blasphemous🚢 17:00 – Juego de mesa: Wingspan🕰️ 17:00 – Blood on the Clocktower¿Y tú a qué te vas a apuntar? ¡No te quedes sin plaza!🔗 Inscríbete ya en el Formulario y asegura tu sitio en las actividades que más te gusten. \nLa Asociación La Guardia Lúdica te invita a jugar\, aprender\, reír y compartir una experiencia única con jugadores de todas las edades.¡Nos vemos en Ludere VII! 🎉♟️ \n  \n 
URL:https://visitpuentegenil.es/evento/llega-la-septima-edicion-de-ludere/
LOCATION:Biblioteca Pública Municipal Ricardo Molina\, Parque los Pinos\, s/n\, Puente Genil\, Córdoba\, 14500\, España
CATEGORIES:Juegos de mesa,Juegos de rol,Juventud
ATTACH;FMTTYPE=image/jpeg:https://visitpuentegenil.es/wp-content/uploads/2025/11/29-30-LUDERE.jpg
ORGANIZER;CN="La Guardia L%C3%BAdica":MAILTO:laguardialudicaweb@gmail.com
END:VEVENT
END:VCALENDAR