BEGIN:VCALENDAR
VERSION:2.0
PRODID:-//Visit Puente Genil - ECPv6.15.20//NONSGML v1.0//EN
CALSCALE:GREGORIAN
METHOD:PUBLISH
X-ORIGINAL-URL:https://visitpuentegenil.es
X-WR-CALDESC:Eventos para Visit Puente Genil
REFRESH-INTERVAL;VALUE=DURATION:PT1H
X-Robots-Tag:noindex
X-PUBLISHED-TTL:PT1H
BEGIN:VTIMEZONE
TZID:Europe/Madrid
BEGIN:DAYLIGHT
TZOFFSETFROM:+0100
TZOFFSETTO:+0200
TZNAME:CEST
DTSTART:20240331T010000
END:DAYLIGHT
BEGIN:STANDARD
TZOFFSETFROM:+0200
TZOFFSETTO:+0100
TZNAME:CET
DTSTART:20241027T010000
END:STANDARD
BEGIN:DAYLIGHT
TZOFFSETFROM:+0100
TZOFFSETTO:+0200
TZNAME:CEST
DTSTART:20250330T010000
END:DAYLIGHT
BEGIN:STANDARD
TZOFFSETFROM:+0200
TZOFFSETTO:+0100
TZNAME:CET
DTSTART:20251026T010000
END:STANDARD
BEGIN:DAYLIGHT
TZOFFSETFROM:+0100
TZOFFSETTO:+0200
TZNAME:CEST
DTSTART:20260329T010000
END:DAYLIGHT
BEGIN:STANDARD
TZOFFSETFROM:+0200
TZOFFSETTO:+0100
TZNAME:CET
DTSTART:20261025T010000
END:STANDARD
END:VTIMEZONE
BEGIN:VEVENT
DTSTART;VALUE=DATE:20250507
DTEND;VALUE=DATE:20250513
DTSTAMP:20260423T095211
CREATED:20250507T095853Z
LAST-MODIFIED:20250507T095853Z
UID:15745-1746576000-1747094399@visitpuentegenil.es
SUMMARY:Abierto el plazo para el Concurso Cruces de Mayo 2025
DESCRIPTION:Ya está abierto el plazo de inscripción para participar en el Concurso de Cruces de Mayo 2025. \nEl plazo estará abierto hasta el lunes 12 de mayo en la sede electrónica del Ayuntamiento. \nEste año el concurso contará con los siguientes premios: \n1º Premio : 400 euros \n2º Premio : 300 euros \n3º Premio : 100 euros \nY además contará con accésit honorífico a las cruces que lo merezcan por su valor artístico o simbólico. \n¡Te invitamos a participar!💃💃
URL:https://visitpuentegenil.es/evento/abierto-el-plazo-para-el-concurso-cruces-de-mayo-2025/
LOCATION:PUENTE GENIL\, Puente Genil\, CÓRDOBA\, 14500
CATEGORIES:Concurso,Cruces de Mayo
ATTACH;FMTTYPE=image/jpeg:https://visitpuentegenil.es/wp-content/uploads/2025/04/Cruces-de-Mayo-2025-980x551-1.jpg
ORGANIZER;CN="Delegaci%C3%B3n de Festejos":MAILTO:festejos@aytopuentegenil.es
END:VEVENT
BEGIN:VEVENT
DTSTART;VALUE=DATE:20250509
DTEND;VALUE=DATE:20250512
DTSTAMP:20260423T095211
CREATED:20250506T085250Z
LAST-MODIFIED:20260130T102459Z
UID:15697-1746748800-1747007999@visitpuentegenil.es
SUMMARY:Fiestas de la Primavera en honor de Ntra. Sra. de los Desamparados
DESCRIPTION:Continuamos con nuestro mayo festivo en Puente Genil con las tradicionales Fiestas de  Primavera de la  Hermandad y Cofradía de Ntra. Sra. de los Desamparados en honor a su Titular. \n¡¡¡Ven a disfrutar con nosotros de la alegría y el buen ambiente!!! \nTe esperamos del 9 al 11 de mayo con magnificas actuaciones en directo el viernes 9 y el sábado 10 de mayo\, con la Banda Imposible y Daniel González DJ. \nSábado mediodía paella gratis. \nPrecios populares. \n¡¡No te lo pierdas!!🤗🤗🤗 \n \nEl Ayuntamiento de Puente Genil ha recibido una ayuda de la Diputación Provincial de Córdoba dentro del Plan Provincial Diputación Invierte 2025\, para la ejecución del proyecto Navidad 2025.
URL:https://visitpuentegenil.es/evento/fiestas-de-la-primavera-en-honor-de-ntra-sra-de-los-desamparados/
LOCATION:PUENTE GENIL\, Puente Genil\, CÓRDOBA\, 14500
CATEGORIES:Fiestas de Primavera
ATTACH;FMTTYPE=image/jpeg:https://visitpuentegenil.es/wp-content/uploads/2025/05/Fiesta-Primavera-Desamparados.jpg
ORGANIZER;CN="Hermandad de los Desamparados":MAILTO:desamparadospgenil@gmail.com
END:VEVENT
END:VCALENDAR