BEGIN:VCALENDAR
VERSION:2.0
PRODID:-//Visit Puente Genil - ECPv6.15.20//NONSGML v1.0//EN
CALSCALE:GREGORIAN
METHOD:PUBLISH
X-WR-CALNAME:Visit Puente Genil
X-ORIGINAL-URL:https://visitpuentegenil.es
X-WR-CALDESC:Eventos para Visit Puente Genil
REFRESH-INTERVAL;VALUE=DURATION:PT1H
X-Robots-Tag:noindex
X-PUBLISHED-TTL:PT1H
BEGIN:VTIMEZONE
TZID:Europe/Madrid
BEGIN:DAYLIGHT
TZOFFSETFROM:+0100
TZOFFSETTO:+0200
TZNAME:CEST
DTSTART:20240331T010000
END:DAYLIGHT
BEGIN:STANDARD
TZOFFSETFROM:+0200
TZOFFSETTO:+0100
TZNAME:CET
DTSTART:20241027T010000
END:STANDARD
BEGIN:DAYLIGHT
TZOFFSETFROM:+0100
TZOFFSETTO:+0200
TZNAME:CEST
DTSTART:20250330T010000
END:DAYLIGHT
BEGIN:STANDARD
TZOFFSETFROM:+0200
TZOFFSETTO:+0100
TZNAME:CET
DTSTART:20251026T010000
END:STANDARD
BEGIN:DAYLIGHT
TZOFFSETFROM:+0100
TZOFFSETTO:+0200
TZNAME:CEST
DTSTART:20260329T010000
END:DAYLIGHT
BEGIN:STANDARD
TZOFFSETFROM:+0200
TZOFFSETTO:+0100
TZNAME:CET
DTSTART:20261025T010000
END:STANDARD
END:VTIMEZONE
BEGIN:VEVENT
DTSTART;TZID=Europe/Madrid:20250620T210000
DTEND;TZID=Europe/Madrid:20250621T160000
DTSTAMP:20260423T065225
CREATED:20250618T101927Z
LAST-MODIFIED:20250618T101927Z
UID:16212-1750453200-1750521600@visitpuentegenil.es
SUMMARY:Verbena de San Juan Bautista
DESCRIPTION:Un año más la Asociación de Vecinos del Barrio La Isla celebra su tradicional Verbena de San Juan Bautista el fin de semana del 20 y 21 de junio\, buen ambiente\, magnífica repostería\, crepería Carmen María\, Churrería Moncada y atracciones para los más pequeños. \nEl viernes 20 la Verbena estará amenizada por el Cuarteto Stylo y el sábado 21 contaremos con la gran Orquesta Local de 7 componentes Orquesta Stylo dónde nos presentarán su espectáculo “UTOPIA“\, con un montaje de luz y sonido espectacular\, te esperamos en la Caseta de las Fiestas\, lugar Parque de La Galana. \n¡Ven a disfrutar con nosotros\, te esperamos en el fin de semana más mágico del año! \n📌 Parque de la Galana\n📅 Viernes 20 y sábado 21 de junio
URL:https://visitpuentegenil.es/evento/verbena-de-san-juan-bautista/
LOCATION:parque de la Galana\, C/ La Huerta\, 26\, Puente Genil\, Córdoba\, 14500\, España
CATEGORIES:Fiesta,Música,Orquestas,Verbenas
ATTACH;FMTTYPE=image/jpeg:https://visitpuentegenil.es/wp-content/uploads/2025/06/verbena-de-san-Juan-2025.jpg
END:VEVENT
BEGIN:VEVENT
DTSTART;TZID=Europe/Madrid:20250621T220000
DTEND;TZID=Europe/Madrid:20250621T233000
DTSTAMP:20260423T065225
CREATED:20250616T123303Z
LAST-MODIFIED:20250616T123348Z
UID:16198-1750543200-1750548600@visitpuentegenil.es
SUMMARY:Noches en la Villa 2025. "In vino veritas."
DESCRIPTION: Vino y cultura en el mundo romano \n\n¿Sabías que el vino era una pieza clave en la vida cotidiana de Roma?\nTe invitamos a una visita guiada muy especial\, que culmina con una degustación de vino\, donde descubrirás: \n El papel del vino en la sociedad romana\n Su cultivo y elaboración en villas como la nuestra\n Tipos de vinos que consumían… ¡y curiosidades que te sorprenderán! \nVive la historia con los cinco sentidos. \n 21 de junio a las 22:00 h \n Villa Romana de Fuente Álamo. \n Inscríbete aquí: In Vino Veritas
URL:https://visitpuentegenil.es/evento/noches-en-la-villa-2025-in-vino-veritas/
LOCATION:Villa Romana de Fuente Álamo\, cv-297 km 3\, Puente Genil\, Córdoba\, 14500\, España
CATEGORIES:Enología,Noches en la Villa,Visitas nocturnas,Visitas tematizadas
ATTACH;FMTTYPE=image/png:https://visitpuentegenil.es/wp-content/uploads/2025/06/21-In-vino-Veritas.png
END:VEVENT
END:VCALENDAR