BEGIN:VCALENDAR
VERSION:2.0
PRODID:-//Visit Puente Genil - ECPv6.15.20//NONSGML v1.0//EN
CALSCALE:GREGORIAN
METHOD:PUBLISH
X-ORIGINAL-URL:https://visitpuentegenil.es
X-WR-CALDESC:Eventos para Visit Puente Genil
REFRESH-INTERVAL;VALUE=DURATION:PT1H
X-Robots-Tag:noindex
X-PUBLISHED-TTL:PT1H
BEGIN:VTIMEZONE
TZID:Europe/Madrid
BEGIN:DAYLIGHT
TZOFFSETFROM:+0100
TZOFFSETTO:+0200
TZNAME:CEST
DTSTART:20240331T010000
END:DAYLIGHT
BEGIN:STANDARD
TZOFFSETFROM:+0200
TZOFFSETTO:+0100
TZNAME:CET
DTSTART:20241027T010000
END:STANDARD
BEGIN:DAYLIGHT
TZOFFSETFROM:+0100
TZOFFSETTO:+0200
TZNAME:CEST
DTSTART:20250330T010000
END:DAYLIGHT
BEGIN:STANDARD
TZOFFSETFROM:+0200
TZOFFSETTO:+0100
TZNAME:CET
DTSTART:20251026T010000
END:STANDARD
BEGIN:DAYLIGHT
TZOFFSETFROM:+0100
TZOFFSETTO:+0200
TZNAME:CEST
DTSTART:20260329T010000
END:DAYLIGHT
BEGIN:STANDARD
TZOFFSETFROM:+0200
TZOFFSETTO:+0100
TZNAME:CET
DTSTART:20261025T010000
END:STANDARD
END:VTIMEZONE
BEGIN:VEVENT
DTSTART;TZID=Europe/Madrid:20250627T213000
DTEND;TZID=Europe/Madrid:20250627T233000
DTSTAMP:20260423T082412
CREATED:20250623T124742Z
LAST-MODIFIED:20250623T124742Z
UID:16259-1751059800-1751067000@visitpuentegenil.es
SUMMARY:Reapertura Plaza de Abastos Paseo del Romeral
DESCRIPTION:¡Vuelve el corazón del comercio pontanés! \nTrás casi 2 años de espera\, el Mercado de Abastos de Puente-Genil reabre sus puertas éste viernes 27 de junio a las 21:30h\, le damos la bienvenida a un mercado preparado para el presente y el futuro\, combinando tradición\, hostelería\, comercio local y proyección turística. Un espacio renovado\, moderno y lleno de vida que vuelve a latir en el centro del municipio. \nY para celebrar este momento ¡ Concierto Gratuito del cantaor granadino Kiki Morente ! \nA las 22:00h en el Romeral viviremos una noche flamenca al aire libre. \n¡Ven con tu familia\, ven con tus amigos\, ven a redescubrir el alma de Puente-Genil! \n📌Paseo  de El Romeral.\n📅Viernes 27 de junio.\n⏰21:30h. \nEntrada Libre
URL:https://visitpuentegenil.es/evento/reapertura-plaza-de-abastos-paseo-del-romeral/
LOCATION:Paseo del Romeral\, Paseo del Romeral s/n\, Puente Genil\, Córdoba\, 14500\, España
CATEGORIES:Conciertos,Flamenco,Música,Recitales
ATTACH;FMTTYPE=image/jpeg:https://visitpuentegenil.es/wp-content/uploads/2025/06/Kiki-Morente.jpg
END:VEVENT
END:VCALENDAR