BEGIN:VCALENDAR
VERSION:2.0
PRODID:-//Visit Puente Genil - ECPv6.15.20//NONSGML v1.0//EN
CALSCALE:GREGORIAN
METHOD:PUBLISH
X-WR-CALNAME:Visit Puente Genil
X-ORIGINAL-URL:https://visitpuentegenil.es
X-WR-CALDESC:Eventos para Visit Puente Genil
REFRESH-INTERVAL;VALUE=DURATION:PT1H
X-Robots-Tag:noindex
X-PUBLISHED-TTL:PT1H
BEGIN:VTIMEZONE
TZID:Europe/Madrid
BEGIN:DAYLIGHT
TZOFFSETFROM:+0100
TZOFFSETTO:+0200
TZNAME:CEST
DTSTART:20240331T010000
END:DAYLIGHT
BEGIN:STANDARD
TZOFFSETFROM:+0200
TZOFFSETTO:+0100
TZNAME:CET
DTSTART:20241027T010000
END:STANDARD
BEGIN:DAYLIGHT
TZOFFSETFROM:+0100
TZOFFSETTO:+0200
TZNAME:CEST
DTSTART:20250330T010000
END:DAYLIGHT
BEGIN:STANDARD
TZOFFSETFROM:+0200
TZOFFSETTO:+0100
TZNAME:CET
DTSTART:20251026T010000
END:STANDARD
BEGIN:DAYLIGHT
TZOFFSETFROM:+0100
TZOFFSETTO:+0200
TZNAME:CEST
DTSTART:20260329T010000
END:DAYLIGHT
BEGIN:STANDARD
TZOFFSETFROM:+0200
TZOFFSETTO:+0100
TZNAME:CET
DTSTART:20261025T010000
END:STANDARD
END:VTIMEZONE
BEGIN:VEVENT
DTSTART;TZID=Europe/Madrid:20251003T190000
DTEND;TZID=Europe/Madrid:20251017T210000
DTSTAMP:20260422T193226
CREATED:20250925T113214Z
LAST-MODIFIED:20250929T085054Z
UID:17639-1759518000-1760734800@visitpuentegenil.es
SUMMARY:Presentación del libro "Jardín de Invierno."
DESCRIPTION:El próximo miércoles\, 3 de octubre\, a las 19:00h en la Biblioteca Ricardo Molina se presentará en Puente Genil el libro Jardín de Invierno de Adriana Manuela Ruiz Gómez y Yaiza Martínez . \nEn esta ocasión además del libro\, también se expondrá la obra gráfica de edición limitada y firmada por las autoras\, que estará abierta hasta el 17 de octubre en los bajos de la Biblioteca Ricardo Molina. A este transitar se sigue sumando entusiasmo\, esta vez junto al poeta Fabián Trigos Baena\, Alicia Baena y Nameless en la música. \n¡No os lo podéis perder! \n\n Biblioteca Ricardo Molina\n Viernes 3 de octubre\n\n\n 19:00h
URL:https://visitpuentegenil.es/evento/presentacion-del-libro-jardin-de-invierno/
LOCATION:Biblioteca Pública Municipal Ricardo Molina\, Parque los Pinos\, s/n\, Puente Genil\, Córdoba\, 14500\, España
CATEGORIES:Exposiciones,Literatura,Música,Poesía,Presentaciones libros
ATTACH;FMTTYPE=image/jpeg:https://visitpuentegenil.es/wp-content/uploads/2025/09/Jardin-de-invierno.jpg
ORGANIZER;CN="Contracultura":MAILTO:asociacioncontracultura@gmail.com
END:VEVENT
BEGIN:VEVENT
DTSTART;TZID=Europe/Madrid:20251007T093000
DTEND;TZID=Europe/Madrid:20251020T140000
DTSTAMP:20260422T193226
CREATED:20251008T110927Z
LAST-MODIFIED:20251008T110927Z
UID:17766-1759829400-1760968800@visitpuentegenil.es
SUMMARY:Exposición Fotográfica Javier Pastoriza Muñoz
DESCRIPTION:La Escuela Politécnica Superior de Bélmez de la Universidad de Córdoba\, en conmemoración por su 100 aniversario\, organiza una Exposición Fotográfica del creador digital Javier Pastoriza Muñoz\, en la Casa de la Cultura de Puente Genil del 7 al 20 de octubre de 2025 en horario de 9:30h a 14:00h. \n\n Casa de la Cultura de Puente Genil\n Del 7 al 20 de octubre\n\n\n De 09:30h a 14:00h
URL:https://visitpuentegenil.es/evento/exposicion-fotografica-javier-pastoriza-munoz/
LOCATION:Casa de la Cultura\, Calle Cruz del Estudiante\, 35\, Puente Genil\, Córdoba\, 14500\, España
CATEGORIES:Exposiciones,Fotografía
ATTACH;FMTTYPE=image/jpeg:https://visitpuentegenil.es/wp-content/uploads/2025/10/Exposicion-Fotografica.jpg
ORGANIZER;CN="Universidad de C%C3%B3rdoba":MAILTO:informacion@uco.es
END:VEVENT
BEGIN:VEVENT
DTSTART;TZID=Europe/Madrid:20251015T100000
DTEND;TZID=Europe/Madrid:20251019T203000
DTSTAMP:20260422T193226
CREATED:20251014T102037Z
LAST-MODIFIED:20251014T102037Z
UID:17826-1760522400-1760905800@visitpuentegenil.es
SUMMARY:Exposición " Devoción Coronada"
DESCRIPTION:Exposición de coronas\n\n\n\nCon motivo del 375 aniversario del nombramiento de la Purísima Concepción como Patrona de Puente Genil\, el Santuario de la Concepción acogerá la exposición “Devoción Coronada” del 15 al 19 de octubre.\n\n\nUna muestra que reúne las principales coronas de las devociones marianas de la Semana Santa pontanesa\, junto a la corona de oro de la Coronación Canónica de la Purísima Concepción.\n\n\nUna oportunidad única para descubrir y admirar el patrimonio mariano\, artístico y devocional de nuestro pueblo.\n\n\n\n Horario:\nDe 10:00 a 13:30 h\nDe 17:30 a 20:30 h
URL:https://visitpuentegenil.es/evento/exposicion-devocion-coronada/
LOCATION:Santuario de la Concepción\, Calle Madre de Dios\, 2\, Puente Genil
CATEGORIES:Cofradías,Exposiciones
ATTACH;FMTTYPE=image/jpeg:https://visitpuentegenil.es/wp-content/uploads/2025/10/coronas.jpg
ORGANIZER;CN="Cofradia de la  Pur%C3%ADsima":MAILTO:patronadepuentegenil@gmail.com
END:VEVENT
BEGIN:VEVENT
DTSTART;TZID=Europe/Madrid:20251016T200000
DTEND;TZID=Europe/Madrid:20251019T120000
DTSTAMP:20260422T193226
CREATED:20251001T120157Z
LAST-MODIFIED:20251001T120259Z
UID:17701-1760644800-1760875200@visitpuentegenil.es
SUMMARY:I Jornadas Culturales de la Agrupación de Cofradías\, Hermandades y Corporaciones Bíblicas de Puente Genil.
DESCRIPTION: ¡Llegan las I Jornadas Culturales de la Agrupación de Cofradías\, Hermandades y Corporaciones Bíblicas de Puente Genil  Del 16 al 19 de octubre viviremos unos días muy especiales\, en los que la cultura y nuestra Semana Santa serán las grandes protagonistas. Conferencias\, mesas redondas\, visitas guiadas y conciertos nos harán descubrir la Semana Santa de Puente Genil desde una perspectiva única\, llena de historia\, arte y emoción. 📅Jueves 16 – ⏰20:00h Conferencia de Francisco Manuel Pérez Márquez en el Teatro Circo y ⏰21:30h Concierto inaugural de la Banda de Música Inmaculada Concepción. 📅Viernes 17 –⏰20:00h En la Villa Romana de Fuente Álamo: charla de Manuel Delgado Torres y visita guiada a los impresionantes restos arqueológicos. 📅Sábado 18 –⏰10:30h Jornada en el Exconvento de los Frailes: desayuno\, proyección vídeo promocional\, mesa redonda “Puente Genil\, cuna de artistas”\, “La devoción y el arte bajos los pasos\,” tertulia y convivencia cofrade. 📅Domingo 19 –⏰12:00h Clausura en el Teatro Circo con la Joven Orquesta Filarmónica “Campos Andaluces” de Jerez\, ganadora del 1º premio internacional en el World Orchestra Festival de Viena. Una oportunidad única para vivir y sentir\, desde la cultura\, la grandeza de nuestra Semana Santa. ¡No faltes! Te esperamos en cada cita de esta apasionante primera edición. \nMás información en Agrupación de Cofradías Puente Genil.
URL:https://visitpuentegenil.es/evento/i-jornadas-culturales-de-la-agrupacion-de-cofradias-hermandades-y-corporaciones-biblicas-de-puente-genil/
LOCATION:PUENTE GENIL\, Puente Genil\, CÓRDOBA\, 14500
CATEGORIES:Cofradías,Jornadas,Semana Santa
ATTACH;FMTTYPE=image/jpeg:https://visitpuentegenil.es/wp-content/uploads/2025/10/16-Cartel-Jornadas-Agrupacion.jpg
ORGANIZER;CN="Agrupaci%C3%B3n de Cofrad%C3%ADas y Corporaciones B%C3%ADblicas de Puente Genil":MAILTO:secretaria@agrupacioncofradias.es
END:VEVENT
END:VCALENDAR