BEGIN:VCALENDAR
VERSION:2.0
PRODID:-//Visit Puente Genil - ECPv6.15.20//NONSGML v1.0//EN
CALSCALE:GREGORIAN
METHOD:PUBLISH
X-ORIGINAL-URL:https://visitpuentegenil.es
X-WR-CALDESC:Eventos para Visit Puente Genil
REFRESH-INTERVAL;VALUE=DURATION:PT1H
X-Robots-Tag:noindex
X-PUBLISHED-TTL:PT1H
BEGIN:VTIMEZONE
TZID:Europe/Madrid
BEGIN:DAYLIGHT
TZOFFSETFROM:+0100
TZOFFSETTO:+0200
TZNAME:CEST
DTSTART:20240331T010000
END:DAYLIGHT
BEGIN:STANDARD
TZOFFSETFROM:+0200
TZOFFSETTO:+0100
TZNAME:CET
DTSTART:20241027T010000
END:STANDARD
BEGIN:DAYLIGHT
TZOFFSETFROM:+0100
TZOFFSETTO:+0200
TZNAME:CEST
DTSTART:20250330T010000
END:DAYLIGHT
BEGIN:STANDARD
TZOFFSETFROM:+0200
TZOFFSETTO:+0100
TZNAME:CET
DTSTART:20251026T010000
END:STANDARD
BEGIN:DAYLIGHT
TZOFFSETFROM:+0100
TZOFFSETTO:+0200
TZNAME:CEST
DTSTART:20260329T010000
END:DAYLIGHT
BEGIN:STANDARD
TZOFFSETFROM:+0200
TZOFFSETTO:+0100
TZNAME:CET
DTSTART:20261025T010000
END:STANDARD
END:VTIMEZONE
BEGIN:VEVENT
DTSTART;TZID=Europe/Madrid:20251203T080000
DTEND;TZID=Europe/Madrid:20251205T140000
DTSTAMP:20260422T121916
CREATED:20251203T100427Z
LAST-MODIFIED:20251203T100427Z
UID:18230-1764748800-1764943200@visitpuentegenil.es
SUMMARY:Concurso de Belenes #Navidad2025.
DESCRIPTION:✨ ¡Participa en el Concurso de Belenes de Puente Genil 2025! ✨ \nLa Navidad en Puente Genil se vive con tradición\, creatividad y mucha ilusión. Ya está abierto el plazo de inscripción para el Concurso de Belenes\, una oportunidad única para mostrar tu talento y formar parte de una de las iniciativas más entrañables de estas fiestas. \n📅 Inscripciones abiertas hasta el 5 de diciembre📍 Puedes apuntarte en el Ayuntamiento\, en la Casa Ciudadana o a través de www.puentegenil.es \n🎄 Si te apasiona el arte belenista\, la decoración navideña o simplemente quieres mantener viva esta hermosa tradición\, ¡no dejes pasar la oportunidad! \n👉 Consulta  las bases y forma parte de una Navidad llena de luz\, creatividad y espíritu pontanés.
URL:https://visitpuentegenil.es/evento/concurso-de-belenes-navidad2025/
LOCATION:Casa Ciudadana\, Antonio Fernández Díaz\, "Fosforito\," s/n\, Puente Genil\, Córdoba\, 14500\, España
CATEGORIES:Belenes,Concurso
ATTACH;FMTTYPE=image/jpeg:https://visitpuentegenil.es/wp-content/uploads/2025/12/3-Concurso-Belenes.jpg
ORGANIZER;CN="Delegaci%C3%B3n de Festejos":MAILTO:festejos@aytopuentegenil.es
END:VEVENT
BEGIN:VEVENT
DTSTART;TZID=Europe/Madrid:20251203T080000
DTEND;TZID=Europe/Madrid:20251215T140000
DTSTAMP:20260422T121916
CREATED:20251203T103540Z
LAST-MODIFIED:20251203T103540Z
UID:18237-1764748800-1765807200@visitpuentegenil.es
SUMMARY:Cabalgata de Reyes Magos 2026 #Navidad2025.
DESCRIPTION:🎉 ¡Ya están publicadas las bases para participar en la Cabalgata de Reyes Magos 2026 de Puente Genil!Si quieres formar parte de uno de los eventos más mágicos del año\, ¡este es el momento de inscribirte! ✨ \nEl Ayuntamiento de Puente Genil abre el plazo para que peñas\, asociaciones\, colectivos y particulares puedan presentar su solicitud y participar con su carroza en la Cabalgata del próximo 5 de enero. \n🎠 Requisitos principales:✔ Carrozas adaptadas y decoradas con temática navideña.✔ Remolques con un máximo de 7 toneladas y medidas de seguridad obligatorias.✔ Responsables adultos acreditados para el acompañamiento.✔ Reparto de caramelos blandos para mayor seguridad del público. \n📅 Plazo de inscripción: hasta el 15 de diciembre.📍 Reunión informativa: del 15 al 19 de diciembre en la Biblioteca Municipal\, donde se fijará el orden de salida y se entregarán los caramelos oficiales. \n✨ Vive la magia\, participa en la tradición y forma parte de una de las fiestas más esperadas de Puente Genil. \n📨 Más información y hoja de inscripción en www.puentegenil.es¡Inscríbete y da vida a la ilusión de la Cabalgata 2026!
URL:https://visitpuentegenil.es/evento/cabalgata-de-reyes-magos-2026-navidad2025/
LOCATION:PUENTE GENIL\, Puente Genil\, CÓRDOBA\, 14500
CATEGORIES:Actividades infantiles,Cabalgata de Reyes,Navidad
ATTACH;FMTTYPE=image/jpeg:https://visitpuentegenil.es/wp-content/uploads/2025/12/5-Cabalgata-Reyes-Magos.jpg
ORGANIZER;CN="Delegaci%C3%B3n de Festejos":MAILTO:festejos@aytopuentegenil.es
END:VEVENT
END:VCALENDAR