BEGIN:VCALENDAR
VERSION:2.0
PRODID:-//Visit Puente Genil - ECPv6.15.20//NONSGML v1.0//EN
CALSCALE:GREGORIAN
METHOD:PUBLISH
X-ORIGINAL-URL:https://visitpuentegenil.es
X-WR-CALDESC:Eventos para Visit Puente Genil
REFRESH-INTERVAL;VALUE=DURATION:PT1H
X-Robots-Tag:noindex
X-PUBLISHED-TTL:PT1H
BEGIN:VTIMEZONE
TZID:Europe/Madrid
BEGIN:DAYLIGHT
TZOFFSETFROM:+0100
TZOFFSETTO:+0200
TZNAME:CEST
DTSTART:20240331T010000
END:DAYLIGHT
BEGIN:STANDARD
TZOFFSETFROM:+0200
TZOFFSETTO:+0100
TZNAME:CET
DTSTART:20241027T010000
END:STANDARD
BEGIN:DAYLIGHT
TZOFFSETFROM:+0100
TZOFFSETTO:+0200
TZNAME:CEST
DTSTART:20250330T010000
END:DAYLIGHT
BEGIN:STANDARD
TZOFFSETFROM:+0200
TZOFFSETTO:+0100
TZNAME:CET
DTSTART:20251026T010000
END:STANDARD
BEGIN:DAYLIGHT
TZOFFSETFROM:+0100
TZOFFSETTO:+0200
TZNAME:CEST
DTSTART:20260329T010000
END:DAYLIGHT
BEGIN:STANDARD
TZOFFSETFROM:+0200
TZOFFSETTO:+0100
TZNAME:CET
DTSTART:20261025T010000
END:STANDARD
END:VTIMEZONE
BEGIN:VEVENT
DTSTART;TZID=Europe/Madrid:20251114T190000
DTEND;TZID=Europe/Madrid:20251116T210000
DTSTAMP:20260424T161459
CREATED:20251111T093259Z
LAST-MODIFIED:20251111T132637Z
UID:18030-1763146800-1763326800@visitpuentegenil.es
SUMMARY:"Donde no se escucha el llanto\," exposición en el Microespacio Cultural Nº11.
DESCRIPTION:Un año más en vísperas del 25N\, el Espacio Microcultural número 11 rechaza la violencia en cualquiera de sus formas\, por eso\, no te puedes perder esta exposición que invita a la reflexión que organiza en colaboración con el Ayuntamiento de Puente Genil y la Diputación de Córdoba. \n“Donde no se escucha el llanto” visibiliza la infancia silenciada”\, a cargo de la artista de Fernán Núñez\, María López Jurado\, (Desgarrarte.) Una obra que brota del afecto y la ternura\, pero también del dolor y la denuncia.\nDesgarrarte entiende el arte como herramienta de escucha\, cuidado y transformación. Esta exposición no busca explicaciones sino provocar preguntas; porque cuando el arte nace del compromiso\, habla por sí solo.\n\nEsta exposición se podrá visitar del 14 al 16 de noviembre en el Espacio Microcultural Número 11. \n\n\n\n Espacio Microcultural Nº11.\n Viernes\, 14 y sábado 15 de noviembre.  19:00h a 23:00h\n Domingo\, 16 de noviembre.  18:00h a 21:00h
URL:https://visitpuentegenil.es/evento/donde-no-se-escucha-el-llanto-exposicion-en-el-microespacio-cultural-no11/
LOCATION:Espacio Microcultural Nº 11\, Calle Aguilar\, 11\, Puente Genil\, Córdoba\, 14500\, España
CATEGORIES:Exposiciones
ATTACH;FMTTYPE=image/jpeg:https://visitpuentegenil.es/wp-content/uploads/2025/11/14-No11-Expo.jpg
ORGANIZER;CN="Espacio microcultural N%C2%BA11":MAILTO:espaciomicroculturaln11@gmail.com
END:VEVENT
BEGIN:VEVENT
DTSTART;TZID=Europe/Madrid:20251121T200000
DTEND;TZID=Europe/Madrid:20251121T220000
DTSTAMP:20260424T161459
CREATED:20251121T122753Z
LAST-MODIFIED:20251121T122820Z
UID:18121-1763755200-1763762400@visitpuentegenil.es
SUMMARY:Exposición "Bodegones y limones" en el Número 11.
DESCRIPTION:🎨 ¡Nueva exposición en el Microespacio Cultural Nº11!Este mes tenemos el placer de acoger la muestra “Bodegones y Limones”\, una colección de obras del artista Jesús Ruiz Calzado\, que destaca por su sensibilidad\, técnica y belleza en la pintura de bodegones. \n🍋 Si te apasiona el arte\, la luz y los detalles cuidados\, no puedes perderte esta exposición en Calle Aguilar nº 11\, Puente Genil. \n🗓 Fechas y horarios: \n\n\n21 de noviembre: 20:00 a 22:00 \n\n\n22 de noviembre: 18:00 a 22:00 \n\n\n23 de noviembre: 17:00 a 22:00 \n\n\n✨ ¡Te esperamos en el Microespacio Cultural Nº11 para disfrutar del arte en un ambiente cercano y especial!
URL:https://visitpuentegenil.es/evento/exposicion-bodegones-y-limones-en-el-numero-11/
LOCATION:Espacio Microcultural Nº 11\, Calle Aguilar\, 11\, Puente Genil\, Córdoba\, 14500\, España
CATEGORIES:Exposiciones,Pintura
ATTACH;FMTTYPE=image/jpeg:https://visitpuentegenil.es/wp-content/uploads/2025/11/21-23-Bodegones.jpg
ORGANIZER;CN="Espacio microcultural N%C2%BA11":MAILTO:espaciomicroculturaln11@gmail.com
END:VEVENT
END:VCALENDAR