BEGIN:VCALENDAR
VERSION:2.0
PRODID:-//Visit Puente Genil - ECPv6.15.20//NONSGML v1.0//EN
CALSCALE:GREGORIAN
METHOD:PUBLISH
X-ORIGINAL-URL:https://visitpuentegenil.es
X-WR-CALDESC:Eventos para Visit Puente Genil
REFRESH-INTERVAL;VALUE=DURATION:PT1H
X-Robots-Tag:noindex
X-PUBLISHED-TTL:PT1H
BEGIN:VTIMEZONE
TZID:Europe/Madrid
BEGIN:DAYLIGHT
TZOFFSETFROM:+0100
TZOFFSETTO:+0200
TZNAME:CEST
DTSTART:20240331T010000
END:DAYLIGHT
BEGIN:STANDARD
TZOFFSETFROM:+0200
TZOFFSETTO:+0100
TZNAME:CET
DTSTART:20241027T010000
END:STANDARD
BEGIN:DAYLIGHT
TZOFFSETFROM:+0100
TZOFFSETTO:+0200
TZNAME:CEST
DTSTART:20250330T010000
END:DAYLIGHT
BEGIN:STANDARD
TZOFFSETFROM:+0200
TZOFFSETTO:+0100
TZNAME:CET
DTSTART:20251026T010000
END:STANDARD
BEGIN:DAYLIGHT
TZOFFSETFROM:+0100
TZOFFSETTO:+0200
TZNAME:CEST
DTSTART:20260329T010000
END:DAYLIGHT
BEGIN:STANDARD
TZOFFSETFROM:+0200
TZOFFSETTO:+0100
TZNAME:CET
DTSTART:20261025T010000
END:STANDARD
END:VTIMEZONE
BEGIN:VEVENT
DTSTART;TZID=Europe/Madrid:20251220T170000
DTEND;TZID=Europe/Madrid:20251220T200000
DTSTAMP:20260423T092435
CREATED:20251211T120440Z
LAST-MODIFIED:20251211T120440Z
UID:18360-1766250000-1766260800@visitpuentegenil.es
SUMMARY:#Navidad2025. XXVII Torneo de Ajedrez - Open de Navidad 2025
DESCRIPTION:♟️ ¡Vuelve el gran torneo navideño de ajedrez a Puente Genil! 🎄 \nEste sábado 20 de diciembre a las 17:00 h\, la Biblioteca Ricardo Molina se convierte en el epicentro del ajedrez andaluz con el XXVII Torneo de Ajedrez – Open de Navidad 2025. Un evento oficial válido para Elo FADA\, con sistema suizo a 6 rondas y ritmo de juego 8+3. \n🏆 Premios en metálico\, trofeos\, vales y regalos para todas las categorías: \n\nGeneral\nTramos de Elo <1200 y <1600\nJugadores locales\nMenores (sub08 a sub18)\, Supra50\, Supra65 y Féminas\n\n🎁 ¡Sorteo de regalos entre todos los participantes! \n📌 Inscripciones: \n\nFederados: 5 €\nNo federados: 8 €\nRequiere estar federado o registrado como transeúnte en FADAJEDREZ.com\n\n📞 Info: Rafael Lozano Arroyo (639389472) | Árbitro: Manuel Soria Morales (647721516) \n📍Organiza:  Enroque Corto Sahaldau 🤝 Con la colaboración del Ayuntamiento de Puente Genil y la Diputación de Córdoba \n✨ ¡Ven a disfrutar del ajedrez\, la cultura y la Navidad en Puente Genil! \n 
URL:https://visitpuentegenil.es/evento/navidad2025-xxvii-torneo-de-ajedrez-open-de-navidad-2025/
LOCATION:Biblioteca Pública Municipal Ricardo Molina\, Parque los Pinos\, s/n\, Puente Genil\, Córdoba\, 14500\, España
ATTACH;FMTTYPE=image/jpeg:https://visitpuentegenil.es/wp-content/uploads/2025/12/20-Torneo-Ajedrez.jpg
END:VEVENT
END:VCALENDAR