BEGIN:VCALENDAR
VERSION:2.0
PRODID:-//Visit Puente Genil - ECPv6.15.20//NONSGML v1.0//EN
CALSCALE:GREGORIAN
METHOD:PUBLISH
X-ORIGINAL-URL:https://visitpuentegenil.es
X-WR-CALDESC:Eventos para Visit Puente Genil
REFRESH-INTERVAL;VALUE=DURATION:PT1H
X-Robots-Tag:noindex
X-PUBLISHED-TTL:PT1H
BEGIN:VTIMEZONE
TZID:Europe/Madrid
BEGIN:DAYLIGHT
TZOFFSETFROM:+0100
TZOFFSETTO:+0200
TZNAME:CEST
DTSTART:20220327T010000
END:DAYLIGHT
BEGIN:STANDARD
TZOFFSETFROM:+0200
TZOFFSETTO:+0100
TZNAME:CET
DTSTART:20221030T010000
END:STANDARD
BEGIN:DAYLIGHT
TZOFFSETFROM:+0100
TZOFFSETTO:+0200
TZNAME:CEST
DTSTART:20230326T010000
END:DAYLIGHT
BEGIN:STANDARD
TZOFFSETFROM:+0200
TZOFFSETTO:+0100
TZNAME:CET
DTSTART:20231029T010000
END:STANDARD
BEGIN:DAYLIGHT
TZOFFSETFROM:+0100
TZOFFSETTO:+0200
TZNAME:CEST
DTSTART:20240331T010000
END:DAYLIGHT
BEGIN:STANDARD
TZOFFSETFROM:+0200
TZOFFSETTO:+0100
TZNAME:CET
DTSTART:20241027T010000
END:STANDARD
END:VTIMEZONE
BEGIN:VEVENT
DTSTART;TZID=Europe/Madrid:20230624T220000
DTEND;TZID=Europe/Madrid:20230624T233000
DTSTAMP:20260424T015831
CREATED:20230620T122959Z
LAST-MODIFIED:20230620T122959Z
UID:12240-1687644000-1687649400@visitpuentegenil.es
SUMMARY:Los Mundos de Mario.
DESCRIPTION:El Centro de Baile Sens pone en escena “Los Mundos de Mario”\, una muestra de todo el trabajo realizado a lo largo del curso por el alumnado del centro y que tiene como hilo conductor a Mario Bros y varios personajes del videojuego. \nSe recorrerán distintas fases del juego y cada una ella será escenificada con un baile que recorre desde la danza urbana hasta el flamenco fusión. ¡No te lo pierdas! \nPuedes adquirir las entradas en: Centro de Baile Sens. C/ Marquinistas\, 5 al precio de 10€.  \n📌Auditorio Hermanos Cuenca\n📅 Sábado\, 24 de junio.\n⏰ A partir de las 22:00h.
URL:https://visitpuentegenil.es/evento/los-mundos-de-mario/
LOCATION:Auditorio “Hermanos Cuenca”\, Calle Pinar de San Rafael\, s/n\, Puente Genil\, Córdoba\, 14500\, España
CATEGORIES:Festival
ATTACH;FMTTYPE=image/png:https://visitpuentegenil.es/wp-content/uploads/2023/06/24-cartel_los_mundos_de_mario.png
ORGANIZER;CN="Centro de baile 'SENS'":MAILTO:info@centrosens.com
END:VEVENT
END:VCALENDAR