BEGIN:VCALENDAR
VERSION:2.0
PRODID:-//Visit Puente Genil - ECPv6.15.20//NONSGML v1.0//EN
CALSCALE:GREGORIAN
METHOD:PUBLISH
X-WR-CALNAME:Visit Puente Genil
X-ORIGINAL-URL:https://visitpuentegenil.es
X-WR-CALDESC:Eventos para Visit Puente Genil
REFRESH-INTERVAL;VALUE=DURATION:PT1H
X-Robots-Tag:noindex
X-PUBLISHED-TTL:PT1H
BEGIN:VTIMEZONE
TZID:Europe/Madrid
BEGIN:DAYLIGHT
TZOFFSETFROM:+0100
TZOFFSETTO:+0200
TZNAME:CEST
DTSTART:20250330T010000
END:DAYLIGHT
BEGIN:STANDARD
TZOFFSETFROM:+0200
TZOFFSETTO:+0100
TZNAME:CET
DTSTART:20251026T010000
END:STANDARD
BEGIN:DAYLIGHT
TZOFFSETFROM:+0100
TZOFFSETTO:+0200
TZNAME:CEST
DTSTART:20260329T010000
END:DAYLIGHT
BEGIN:STANDARD
TZOFFSETFROM:+0200
TZOFFSETTO:+0100
TZNAME:CET
DTSTART:20261025T010000
END:STANDARD
BEGIN:DAYLIGHT
TZOFFSETFROM:+0100
TZOFFSETTO:+0200
TZNAME:CEST
DTSTART:20270328T010000
END:DAYLIGHT
BEGIN:STANDARD
TZOFFSETFROM:+0200
TZOFFSETTO:+0100
TZNAME:CET
DTSTART:20271031T010000
END:STANDARD
END:VTIMEZONE
BEGIN:VEVENT
DTSTART;TZID=Europe/Madrid:20260220T210000
DTEND;TZID=Europe/Madrid:20260220T220000
DTSTAMP:20260421T230441
CREATED:20260218T131427Z
LAST-MODIFIED:20260218T132213Z
UID:18558-1771621200-1771624800@visitpuentegenil.es
SUMMARY:Conferencia: “Las Figuras Bíblicas entre la tradición y la manifestación de fe popular.”
DESCRIPTION:Dentro de los actos conmemorativos de su 50 Aniversario  La Historia de Tobías – El Pez (1976–2026) acoge una interesante conferencia que invita a profundizar en el valor cultural\, histórico y devocional de nuestras figuras bíblicas. \nEl acto estará a cargo del Rvd. Padre D. José Juan Jiménez Güeto\, Delegado para las Cofradías y Hermandades del Obispado de Córdoba\, quien ofrecerá una reflexión sobre la tradición y la manifestación de la fe popular en torno a estos personajes que forman parte esencial de nuestra identidad. \n📅 Viernes\, 20 de febrero🕘 21:00 horas📍 Cuartel “La Historia de Tobías – El Pez” (Calle Santos\, 3)🎟 Entrada libre \nUna cita imprescindible para cofrades\, amantes de la tradición\, estudiosos de la religiosidad popular y todas aquellas personas interesadas en el patrimonio cultural de Puente Genil.
URL:https://visitpuentegenil.es/evento/conferencia-las-figuras-biblicas-entre-la-tradicion-y-la-manifestacion-de-fe-popular/
LOCATION:Corporación Bíblica “La historia de Tobías – El Pez.”\, C/ Santos\, 3\, Puente Genil\, Córdoba\, 14500\, Spain
CATEGORIES:Cofradías,Conferencia,Cuaresma
ATTACH;FMTTYPE=image/jpeg:https://visitpuentegenil.es/wp-content/uploads/2026/02/FORMATO-ACTOS-50-ANIVERSARIO-EL-PEZ.jpg
ORGANIZER;CN="Corporaci%C3%B3n B%C3%ADblica 'La historia de Tob%C3%ADas - El pez.'":MAILTO:lahistoriadetobias@gmail.com
END:VEVENT
END:VCALENDAR