BEGIN:VCALENDAR
VERSION:2.0
PRODID:-//Visit Puente Genil - ECPv6.15.20//NONSGML v1.0//EN
CALSCALE:GREGORIAN
METHOD:PUBLISH
X-ORIGINAL-URL:https://visitpuentegenil.es
X-WR-CALDESC:Eventos para Visit Puente Genil
REFRESH-INTERVAL;VALUE=DURATION:PT1H
X-Robots-Tag:noindex
X-PUBLISHED-TTL:PT1H
BEGIN:VTIMEZONE
TZID:Europe/Madrid
BEGIN:DAYLIGHT
TZOFFSETFROM:+0100
TZOFFSETTO:+0200
TZNAME:CEST
DTSTART:20210328T010000
END:DAYLIGHT
BEGIN:STANDARD
TZOFFSETFROM:+0200
TZOFFSETTO:+0100
TZNAME:CET
DTSTART:20211031T010000
END:STANDARD
BEGIN:DAYLIGHT
TZOFFSETFROM:+0100
TZOFFSETTO:+0200
TZNAME:CEST
DTSTART:20220327T010000
END:DAYLIGHT
BEGIN:STANDARD
TZOFFSETFROM:+0200
TZOFFSETTO:+0100
TZNAME:CET
DTSTART:20221030T010000
END:STANDARD
BEGIN:DAYLIGHT
TZOFFSETFROM:+0100
TZOFFSETTO:+0200
TZNAME:CEST
DTSTART:20230326T010000
END:DAYLIGHT
BEGIN:STANDARD
TZOFFSETFROM:+0200
TZOFFSETTO:+0100
TZNAME:CET
DTSTART:20231029T010000
END:STANDARD
END:VTIMEZONE
BEGIN:VEVENT
DTSTART;TZID=Europe/Madrid:20220318T220000
DTEND;TZID=Europe/Madrid:20220318T233000
DTSTAMP:20260423T002315
CREATED:20220314T102810Z
LAST-MODIFIED:20220314T102810Z
UID:10099-1647640800-1647646200@visitpuentegenil.es
SUMMARY:La Judea\, 125 años de historia.
DESCRIPTION:La Corporación Bíblica “La autoridades de Jerusalén – La Judea” ha tenido que esperar dos años para celebrar el 125 aniversario de su fundación. La pandemia obligó a su aplazamiento. \nContará con la colaboración de la Schola Cantorum y el piano de Daniel Matas. \nUn evento que aunará poesía\, con la presentación de un libro de versos de La Judea\,  y música. \n📌 Teatro Circo de Puente Genil \n📅 Viernes\, 18 de marzo. \n⏰ 22:00h \n\n\n\n\nEntrada libre hasta completar aforo \nActividad organizada bajo las medidas preventivas Covid-19 vigentes
URL:https://visitpuentegenil.es/evento/la-judea-125-anos-de-historia/
LOCATION:Teatro Circo\, C/ Jesús\, s/n\, Puente Genil\, Córdoba\, 14500\, España
ATTACH;FMTTYPE=image/jpeg:https://visitpuentegenil.es/wp-content/uploads/2022/03/18-La-Judea.jpeg
ORGANIZER;CN="Agrupaci%C3%B3n de Cofrad%C3%ADas y Corporaciones B%C3%ADblicas de Puente Genil":MAILTO:secretaria@agrupacioncofradias.es
END:VEVENT
END:VCALENDAR