BEGIN:VCALENDAR
VERSION:2.0
PRODID:-//Visit Puente Genil - ECPv6.15.20//NONSGML v1.0//EN
CALSCALE:GREGORIAN
METHOD:PUBLISH
X-WR-CALNAME:Visit Puente Genil
X-ORIGINAL-URL:https://visitpuentegenil.es
X-WR-CALDESC:Eventos para Visit Puente Genil
REFRESH-INTERVAL;VALUE=DURATION:PT1H
X-Robots-Tag:noindex
X-PUBLISHED-TTL:PT1H
BEGIN:VTIMEZONE
TZID:Europe/Madrid
BEGIN:DAYLIGHT
TZOFFSETFROM:+0100
TZOFFSETTO:+0200
TZNAME:CEST
DTSTART:20210328T010000
END:DAYLIGHT
BEGIN:STANDARD
TZOFFSETFROM:+0200
TZOFFSETTO:+0100
TZNAME:CET
DTSTART:20211031T010000
END:STANDARD
BEGIN:DAYLIGHT
TZOFFSETFROM:+0100
TZOFFSETTO:+0200
TZNAME:CEST
DTSTART:20220327T010000
END:DAYLIGHT
BEGIN:STANDARD
TZOFFSETFROM:+0200
TZOFFSETTO:+0100
TZNAME:CET
DTSTART:20221030T010000
END:STANDARD
BEGIN:DAYLIGHT
TZOFFSETFROM:+0100
TZOFFSETTO:+0200
TZNAME:CEST
DTSTART:20230326T010000
END:DAYLIGHT
BEGIN:STANDARD
TZOFFSETFROM:+0200
TZOFFSETTO:+0100
TZNAME:CET
DTSTART:20231029T010000
END:STANDARD
END:VTIMEZONE
BEGIN:VEVENT
DTSTART;TZID=Europe/Madrid:20221225T203000
DTEND;TZID=Europe/Madrid:20221225T220000
DTSTAMP:20260419T203208
CREATED:20221216T113446Z
LAST-MODIFIED:20221216T115038Z
UID:11096-1672000200-1672005600@visitpuentegenil.es
SUMMARY:XXXI Concierto de Navidad Coral "Miguel Gant."
DESCRIPTION:Un año más la Coral “Miguel Gant\,” dirigida por Rafael Sánchez y con el piano de Antonio López\, nos deleitarán interpretando villancicos clásicos y populares en su tradicional Concierto de Navidad. \n📍 Santuario de Jesús Nazareno \n📅 Domingo\, 25 de diciembre\, ⏰ 20:30h \nEntrada libre hasta completar aforo \nOrganiza: Coral Miguel Gant. \nColabora: Ayuntamiento de Puente Genil
URL:https://visitpuentegenil.es/evento/xxxi-concierto-de-navidad-coral-miguel-gant/
LOCATION:Santuario Ntro. Padre Jesús Nazareno\, Plaza del Calvario\, s/n\, Puente Genil\, Córdoba\, 14500\, España
CATEGORIES:Conciertos,Música,Navidad
ATTACH;FMTTYPE=image/jpeg:https://visitpuentegenil.es/wp-content/uploads/2022/12/Concierto-de-Navidad-Miguel-Gant.jpeg
END:VEVENT
BEGIN:VEVENT
DTSTART;TZID=Europe/Madrid:20221226T183000
DTEND;TZID=Europe/Madrid:20221226T203000
DTSTAMP:20260419T203208
CREATED:20221219T130825Z
LAST-MODIFIED:20221219T130825Z
UID:11116-1672079400-1672086600@visitpuentegenil.es
SUMMARY:¿Quién robó la Navidad?
DESCRIPTION:El Centro de Baile Sens nos trae su peculiar versión del el cuento del Grinch con ¿Quién robó la Navidad? \n¡Ven a pasar un rato divertido! \n\n\n\n\nPrecio de la entrada: 10 euros \nInformación y venta anticipada en la sede del Centro de Baile Sens en C/Maquinistas\, 5 \n📌 Teatro Circo de Puente Genil \n\n\n\n\n📅 Lunes\, 26 de diciembre\, ⏰18:30h
URL:https://visitpuentegenil.es/evento/quien-robo-la-navidad/
LOCATION:Teatro Circo\, C/ Jesús\, s/n\, Puente Genil\, Córdoba\, 14500\, España
CATEGORIES:Baile,Música,Teatro
ATTACH;FMTTYPE=image/jpeg:https://visitpuentegenil.es/wp-content/uploads/2022/12/26-Quien-robo-la-Navidad-scaled.jpg
ORGANIZER;CN="Centro de baile 'SENS'":MAILTO:info@centrosens.com
END:VEVENT
BEGIN:VEVENT
DTSTART;TZID=Europe/Madrid:20221230T083000
DTEND;TZID=Europe/Madrid:20221230T223000
DTSTAMP:20260419T203208
CREATED:20221216T132437Z
LAST-MODIFIED:20221216T132437Z
UID:11111-1672389000-1672439400@visitpuentegenil.es
SUMMARY:Gran Concierto Sinfónico de Fin de Año.
DESCRIPTION:El Gran concierto de Fin de año contará con la actuación de la Orquesta Sinfónica de Jaén\, interpretando obras de Adams\, Tchaikovsky\, Lehar y Strauss. \n📍 Teatro Circo de Puente Genil \n📅 Viernes\, 30 de diciembre\, ⏰20:30h \nEntradas numeradas a 10 euros en venta anticipada y 12 en taquilla \nVenta y reservas en el teléfono: 617-453061 \nOrganiza: Ayuntamiento de Puente Genil. \nColabora: Asociación Amigos de la Música
URL:https://visitpuentegenil.es/evento/gran-concierto-sinfonico-de-fin-de-ano/
LOCATION:Teatro Circo\, C/ Jesús\, s/n\, Puente Genil\, Córdoba\, 14500\, España
ATTACH;FMTTYPE=image/jpeg:https://visitpuentegenil.es/wp-content/uploads/2022/12/30-Gram-concierto-Sinfonico.jpg
END:VEVENT
END:VCALENDAR