BEGIN:VCALENDAR
VERSION:2.0
PRODID:-//Visit Puente Genil - ECPv6.15.20//NONSGML v1.0//EN
CALSCALE:GREGORIAN
METHOD:PUBLISH
X-ORIGINAL-URL:https://visitpuentegenil.es
X-WR-CALDESC:Eventos para Visit Puente Genil
REFRESH-INTERVAL;VALUE=DURATION:PT1H
X-Robots-Tag:noindex
X-PUBLISHED-TTL:PT1H
BEGIN:VTIMEZONE
TZID:Europe/Madrid
BEGIN:DAYLIGHT
TZOFFSETFROM:+0100
TZOFFSETTO:+0200
TZNAME:CEST
DTSTART:20180325T010000
END:DAYLIGHT
BEGIN:STANDARD
TZOFFSETFROM:+0200
TZOFFSETTO:+0100
TZNAME:CET
DTSTART:20181028T010000
END:STANDARD
BEGIN:DAYLIGHT
TZOFFSETFROM:+0100
TZOFFSETTO:+0200
TZNAME:CEST
DTSTART:20190331T010000
END:DAYLIGHT
BEGIN:STANDARD
TZOFFSETFROM:+0200
TZOFFSETTO:+0100
TZNAME:CET
DTSTART:20191027T010000
END:STANDARD
BEGIN:DAYLIGHT
TZOFFSETFROM:+0100
TZOFFSETTO:+0200
TZNAME:CEST
DTSTART:20200329T010000
END:DAYLIGHT
BEGIN:STANDARD
TZOFFSETFROM:+0200
TZOFFSETTO:+0100
TZNAME:CET
DTSTART:20201025T010000
END:STANDARD
END:VTIMEZONE
BEGIN:VEVENT
DTSTART;TZID=Europe/Madrid:20191221T190000
DTEND;TZID=Europe/Madrid:20191221T203000
DTSTAMP:20260421T194902
CREATED:20191219T095105Z
LAST-MODIFIED:20191219T095105Z
UID:7255-1576954800-1576960200@visitpuentegenil.es
SUMMARY:Espectáculo Gospel It en la Plaza de España.
DESCRIPTION:La céntrica Plaza de España – San José – será el escenario para pasar un buen rato de música el próximo sábado 21 de diciembre. \nA las 19:00h. el coro malagueño “Gospel it” festejará la #Navidad dirigido por su fundador el pontanés Rafael Estepa. En el espectáculo también participará Alba Aguilar\, finalista del programa televisivo “La voz Kids”. \n 
URL:https://visitpuentegenil.es/evento/espectaculo-gospel-it-en-la-plaza-de-espana/
LOCATION:Plaza de España\, Plaza de España\, s/n\, Puente Genil\, Córdoba\, 14500\, España
CATEGORIES:Conciertos,Música,Navidad
ATTACH;FMTTYPE=image/jpeg:https://visitpuentegenil.es/wp-content/uploads/2019/12/21-gospel-it-scaled.jpg
END:VEVENT
END:VCALENDAR