BEGIN:VCALENDAR
VERSION:2.0
PRODID:-//Visit Puente Genil - ECPv6.15.20//NONSGML v1.0//EN
CALSCALE:GREGORIAN
METHOD:PUBLISH
X-WR-CALNAME:Visit Puente Genil
X-ORIGINAL-URL:https://visitpuentegenil.es
X-WR-CALDESC:Eventos para Visit Puente Genil
REFRESH-INTERVAL;VALUE=DURATION:PT1H
X-Robots-Tag:noindex
X-PUBLISHED-TTL:PT1H
BEGIN:VTIMEZONE
TZID:Europe/Madrid
BEGIN:DAYLIGHT
TZOFFSETFROM:+0100
TZOFFSETTO:+0200
TZNAME:CEST
DTSTART:20200329T010000
END:DAYLIGHT
BEGIN:STANDARD
TZOFFSETFROM:+0200
TZOFFSETTO:+0100
TZNAME:CET
DTSTART:20201025T010000
END:STANDARD
BEGIN:DAYLIGHT
TZOFFSETFROM:+0100
TZOFFSETTO:+0200
TZNAME:CEST
DTSTART:20210328T010000
END:DAYLIGHT
BEGIN:STANDARD
TZOFFSETFROM:+0200
TZOFFSETTO:+0100
TZNAME:CET
DTSTART:20211031T010000
END:STANDARD
BEGIN:DAYLIGHT
TZOFFSETFROM:+0100
TZOFFSETTO:+0200
TZNAME:CEST
DTSTART:20220327T010000
END:DAYLIGHT
BEGIN:STANDARD
TZOFFSETFROM:+0200
TZOFFSETTO:+0100
TZNAME:CET
DTSTART:20221030T010000
END:STANDARD
END:VTIMEZONE
BEGIN:VEVENT
DTSTART;TZID=Europe/Madrid:20211107T130000
DTEND;TZID=Europe/Madrid:20211107T140000
DTSTAMP:20260425T162610
CREATED:20211109T092702Z
LAST-MODIFIED:20211109T093359Z
UID:9779-1636290000-1636293600@visitpuentegenil.es
SUMMARY:Ven a conocer el Complejo Industrial La Alianza
DESCRIPTION:¿Aún no conoces el complejo industrial “La Alianza”? \nDescubre el desarrollo industrial de #PuenteGenil con una visita guiada por uno de nuestros edificios más emblemáticos del siglo XIX.\n ¡Ven y conoce su historia!\n Domingo\, 14 de noviembre.  13:00 h.\n 675 93 95 33/ 957 60 50 34 Ext. 380 /puentegenil@tuhistoria.org\nAbierto de fines de semana y festivos de 10:00 a 14:00 h.\nEntrada Gratuita.
URL:https://visitpuentegenil.es/evento/ven-a-conocer-el-complejo-industrial-la-alianza/
LOCATION:Complejo industrial La Alianza\, Plaza Nacional\, s/n\, Puente Genil\, Córdoba\, 14500\, España
CATEGORIES:Historia,Patrimonio,Visitas guiadas
ATTACH;FMTTYPE=image/png:https://visitpuentegenil.es/wp-content/uploads/2021/11/14-Visita-Alianza-14-NOV.png
END:VEVENT
BEGIN:VEVENT
DTSTART;TZID=Europe/Madrid:20211117T180000
DTEND;TZID=Europe/Madrid:20211117T193000
DTSTAMP:20260425T162610
CREATED:20211115T105000Z
LAST-MODIFIED:20211115T110654Z
UID:9829-1637172000-1637177400@visitpuentegenil.es
SUMMARY:Lectura Poética.
DESCRIPTION:Lectura poética con las voces de Concha García y Rafael Saravia con la creatividad y el arte de Ginés Liébana de testigo. \n📌 Casa de la Cultura Alcalde Manuel Baena Jiménez. \n📅 Miércoles\, 17 de noviembre. ⏰ 18:00h \nEl martes 16 de noviembre\, a partir de las 18:00h\, estarán firmando sus libros en Papelería Delibes.  \nAsociación Cultural Poética Fundación Juan Rejano
URL:https://visitpuentegenil.es/evento/lectura-poetica/
LOCATION:Casa de la Cultura\, Calle Cruz del Estudiante\, 35\, Puente Genil\, Córdoba\, 14500\, España
CATEGORIES:Poesía,Presentaciones libros
ATTACH;FMTTYPE=image/jpeg:https://visitpuentegenil.es/wp-content/uploads/2021/11/17-Lectura-Poetica.jpg
END:VEVENT
BEGIN:VEVENT
DTSTART;TZID=Europe/Madrid:20211121T130000
DTEND;TZID=Europe/Madrid:20211121T140000
DTSTAMP:20260425T162610
CREATED:20211117T104020Z
LAST-MODIFIED:20211117T104020Z
UID:9872-1637499600-1637503200@visitpuentegenil.es
SUMMARY:Visita guiada a #LaAlianza.
DESCRIPTION:Descubre el desarrollo industrial de #PuenteGenil con una visita guiada por uno de los edificios más emblemáticos del siglo XIX \, el complejo industrial “La Alianza” \n¡Ven y conoce su #historia! \n Domingo\, 21 de noviembre.\n 13:00 h.\n 675 93 95 33 / 957 60 50 34 Ext. 380 /puentegenil@tuhistoria.org\nAbierto de fines de semana y festivos de 10:00 a 14:00 h.\nEntrada Gratuita. #Noviembre #patrimonioindustrial #cultura
URL:https://visitpuentegenil.es/evento/visita-guiada-a-laalianza/
LOCATION:Complejo industrial La Alianza\, Plaza Nacional\, s/n\, Puente Genil\, Córdoba\, 14500\, España
CATEGORIES:Patrimonio,Visitas guiadas
ATTACH;FMTTYPE=image/jpeg:https://visitpuentegenil.es/wp-content/uploads/2021/11/21-La-Alianza.jpg
END:VEVENT
END:VCALENDAR