BEGIN:VCALENDAR
VERSION:2.0
PRODID:-//Visit Puente Genil - ECPv6.15.20//NONSGML v1.0//EN
CALSCALE:GREGORIAN
METHOD:PUBLISH
X-ORIGINAL-URL:https://visitpuentegenil.es
X-WR-CALDESC:Eventos para Visit Puente Genil
REFRESH-INTERVAL;VALUE=DURATION:PT1H
X-Robots-Tag:noindex
X-PUBLISHED-TTL:PT1H
BEGIN:VTIMEZONE
TZID:Europe/Madrid
BEGIN:DAYLIGHT
TZOFFSETFROM:+0100
TZOFFSETTO:+0200
TZNAME:CEST
DTSTART:20240331T010000
END:DAYLIGHT
BEGIN:STANDARD
TZOFFSETFROM:+0200
TZOFFSETTO:+0100
TZNAME:CET
DTSTART:20241027T010000
END:STANDARD
BEGIN:DAYLIGHT
TZOFFSETFROM:+0100
TZOFFSETTO:+0200
TZNAME:CEST
DTSTART:20250330T010000
END:DAYLIGHT
BEGIN:STANDARD
TZOFFSETFROM:+0200
TZOFFSETTO:+0100
TZNAME:CET
DTSTART:20251026T010000
END:STANDARD
BEGIN:DAYLIGHT
TZOFFSETFROM:+0100
TZOFFSETTO:+0200
TZNAME:CEST
DTSTART:20260329T010000
END:DAYLIGHT
BEGIN:STANDARD
TZOFFSETFROM:+0200
TZOFFSETTO:+0100
TZNAME:CET
DTSTART:20261025T010000
END:STANDARD
END:VTIMEZONE
BEGIN:VEVENT
DTSTART;TZID=Europe/Madrid:20251108T120000
DTEND;TZID=Europe/Madrid:20251108T153000
DTSTAMP:20260423T031834
CREATED:20251105T093450Z
LAST-MODIFIED:20251105T093450Z
UID:17965-1762603200-1762615800@visitpuentegenil.es
SUMMARY:Noviembre Flamenco: Master Class de Guitarra.
DESCRIPTION:Con motivo del Día Internacional del Flamenco\, el Ayuntamiento de Puente Genil\,  con la colaboración de la Agencia Andaluza de Instituciones Culturales\, ha organizado una completa programación que\, con el título “Noviembre Flamenco\,” que se desarrollará entre los días 8 y 22 de noviembre\, combinando formación\, arte\, reflexión y espectáculos en torno a este patrimonio cultural inmaterial de la humanidad. \nEl programa arranca este sábado\, 8 de noviembre con una master class de guitarra a cargo de Rafael Rodríguez “El Cabeza”\, que se celebrará en el “Aula Flamenca Fosforito” del Casino Pontanés. La Master Class tendrá dos niveles: medio y avanzado; en cada nivel habrá un máximo de 15 plazas. \n\n ¡Vuelve el arte flamenco a Puente Genil! ¡Ven a celebrar los 15 años de 𝘌𝘭 𝘍𝘭𝘢𝘮𝘦𝘯𝘤𝘰 𝘦𝘯 𝘵𝘶 𝘢𝘶𝘭𝘢 ! \n¡No te lo pierdas!\n\n\n\n 𝘊𝘢𝘴𝘪𝘯𝘰 𝘗𝘰𝘯𝘵𝘢𝘯𝘦́𝘴 “𝘈𝘶𝘭𝘢 𝘍𝘭𝘢𝘮𝘦𝘯𝘤𝘢 𝘍𝘰𝘴𝘧𝘰𝘳𝘪𝘵𝘰”\n 8 de noviembre de 2025\n Nivel medio: 12:00–13:30 h\n Nivel profesional: 14:35–15:15 h\n Inscripción gratuita en Casa Ciudadana desde el 5 de noviembre.
URL:https://visitpuentegenil.es/evento/noviembre-flamenco-master-class-de-guitarra/
LOCATION:Casino Liceo Pontanés\, Plaza Nacional\, 6\, Puente Genil\, CÓRDOBA\, 14500\, España
CATEGORIES:Flamenco,Master Class
ATTACH;FMTTYPE=image/jpeg:https://visitpuentegenil.es/wp-content/uploads/2025/11/8-master-Class-Guitarra-Noviembre-Flamenco.jpeg
END:VEVENT
BEGIN:VEVENT
DTSTART;TZID=Europe/Madrid:20251111T100000
DTEND;TZID=Europe/Madrid:20251126T140000
DTSTAMP:20260423T031834
CREATED:20251106T132754Z
LAST-MODIFIED:20251110T100036Z
UID:18015-1762855200-1764165600@visitpuentegenil.es
SUMMARY:Noviembre Flamenco. Exposición "Genealogía Flamenca" de Julia Hidalgo.
DESCRIPTION:Con motivo de la celebración del ·Noviembre Flamenco· el Ayuntamiento de Puente Genil nos trae la Exposición de la pintora cordobesa Julia Hidalgo Quejo “Genealogía Flamenca\,” que forma parte del proyecto Botí Itinerante de la Fundación de Artes Plásticas “Rafael Boti” y la Diputación de Córdoba. \nPintura y flamenco se funden en la nueva propuesta expositiva de la artista\, nacida en Córdoba en 1948 y considerada como una de las creadoras contemporáneas más destacadas del panorama andaluz. En ‘Genealogía flamenca’\, y a través de 31 obras de diversos formatos y técnicas\, la pintora se aproxima a la peculiar atmósfera del flamenco con la que tanto ha disfrutado durante las últimas décadas. \nCantaores\, guitarristas\, bailaoras se dan cita en este singular ‘tablao pictórico’\, en el que la artista\, con apenas unos trazos muy expresivos\, consigue trasladarnos a este ambiente tan especial. \n\n¡No te la pierdas!\n\n\n\n Casa de la Cultura “Manuel Baena Jiménez.” \n 11 al 26 de noviembre de 2025\n Nivel medio: 12:00–13:30 h
URL:https://visitpuentegenil.es/evento/noviembre-flamenco-exposicion-genealogia-flamenca-de-julia-hidalgo/
LOCATION:Casa de la Cultura “Manuel Baena Jiménez”\, Cruz del Estudiante 35\, Puente Genil\, Córdoba\, 14500\, España
CATEGORIES:Exposiciones,Flamenco,Pintura
ATTACH;FMTTYPE=image/jpeg:https://visitpuentegenil.es/wp-content/uploads/2025/11/CARTEL-EXPOSICION-JULIA-HIDALGO.jpeg
END:VEVENT
BEGIN:VEVENT
DTSTART;TZID=Europe/Madrid:20251114T203000
DTEND;TZID=Europe/Madrid:20251114T220000
DTSTAMP:20260423T031834
CREATED:20251106T120252Z
LAST-MODIFIED:20251114T113451Z
UID:17996-1763152200-1763157600@visitpuentegenil.es
SUMMARY:Noviembre Flamenco. Conferencia: "Fosforito\, una obra maestra."
DESCRIPTION:APLAZADO\nContinuamos con el Noviembre Flamenco en Puente Genil con una conferencia que glosará la obra de la última Llave de Oro del Flamenco\, Antonio Fernández Día\, “Fosforito.” \nLa conferencia\, impartida por Miguel Ángel Jiménez\, se celebrará el viernes\, 14 de noviembre a las 20:30h en la Sala de Exposiciones del Mercado Municipal. \n Sala de Exposiciones del Mercado Municipal.\n Viernes\, 14 de noviembre.\n 20:30h\n Entrada libre hasta completar aforo.
URL:https://visitpuentegenil.es/evento/noviembre-flamenco-conferencia-fosforito-una-obra-maestra/
LOCATION:Sala Exposiciones Mercado Municipal\, Paseo del Romeral\, s/n\, Puente Genil\, Córdoba\, 14500\, Spain
CATEGORIES:Flamenco
ATTACH;FMTTYPE=image/jpeg:https://visitpuentegenil.es/wp-content/uploads/2025/11/14-Conferencia-APLAZADO.jpg
END:VEVENT
BEGIN:VEVENT
DTSTART;TZID=Europe/Madrid:20251115T203000
DTEND;TZID=Europe/Madrid:20251115T220000
DTSTAMP:20260423T031834
CREATED:20251106T123949Z
LAST-MODIFIED:20251114T113213Z
UID:18002-1763238600-1763244000@visitpuentegenil.es
SUMMARY:Presentación del disco "El primer llanto."
DESCRIPTION:APLAZADO\nEl Instituto Andaluz del Flamenco y la Cátedra de Flamencología de la Universidad de Córdoba se suman a la celebración del XV Aniversario de la inclusión del Flamenco en la Lista Representativa del Patrimonio Cultural Inmaterial de la Humanidad por la UNESCO\, con la presentación del disco ‘El primer llanto’\, del guitarrista Alejandro Hurtado en el Teatro Circo. \nLa guitarra de Alejandro Hurtado en este nuevo trabajo se ha rodeado de un excelente elenco de músicos como David Domínguez (percusión y palmas)\, Javier Márquez (vientos)\, Inmaculada Salomón (castañuelas) y ha contado con Lauren Serrano como ingeniero de sonido. En esta ocasión le acompaña como segunda guitarra José Tomás. \nEl itinerario sonoro que recorre Alejandro en este su tercer disco en solitario va desde el Impromptu\, que abre el disco\, a la soleá\, sevillanas\, habaneras\, serranas\, panaderos\, petenera\, bulerías\, mazurca\, tango y nana. Un collage de creaciones que muestra muy a las claras la versatibilidad de la guitarra del protagonista. \n Teatro Circo.\n Sábado\, 15 de noviembre.\n 20:30h\n Entrada libre hasta completar aforo.
URL:https://visitpuentegenil.es/evento/noviembre-flamenco-presentacion-de-el-primer-llanto/
LOCATION:Teatro Circo\, C/ Jesús\, s/n\, Puente Genil\, Córdoba\, 14500\, España
CATEGORIES:Conciertos,Flamenco,Presentaciones discos
ATTACH;FMTTYPE=image/jpeg:https://visitpuentegenil.es/wp-content/uploads/2025/11/15-El-ultimo-llanto.jpg
ORGANIZER;CN="Instituto Andaluz del Flamenco":MAILTO:institutoandaluz.flamenco@juntadeandalucia.es
END:VEVENT
BEGIN:VEVENT
DTSTART;TZID=Europe/Madrid:20251116T200000
DTEND;TZID=Europe/Madrid:20251116T213000
DTSTAMP:20260423T031834
CREATED:20251106T130214Z
LAST-MODIFIED:20251106T130214Z
UID:18010-1763323200-1763328600@visitpuentegenil.es
SUMMARY:Noviembre Flamenco. "El Pele" en concierto en el Teatro Circo.
DESCRIPTION:Dentro de la programación ·Noviembre Flamenco· del Ayuntamiento de Puente Genil llega el plato fuerte: Manuel Moreno Maya\, “El Pele” presenta en el Teatro Circo su espectáculo “Jondo.” \nJondo es un viaje a la raíz del flamenco\, donde solo caben aquellos que lo sienten. No hay concesiones ni artificios. Solo el cante en su estado más puro\, desnudo de todo adorno\, sostenido por la verdad de quien lo ha vivido. Soleás\, siguiriyas\, alegrías\, malagueñas\, tonás… cantes que no entienden de tiempos ni modas\, que solo responden al pulso del alma. \n\n Teatro Circo.\n Domingo\, 16 de noviembre.\n 20:00h\n Entrada libre hasta completar aforo.\n\n\n\n\n\n\n\n\n 
URL:https://visitpuentegenil.es/evento/noviembre-flamenco-el-pele-en-concierto-en-el-teatro-circo/
LOCATION:Teatro Circo\, C/ Jesús\, s/n\, Puente Genil\, Córdoba\, 14500\, España
CATEGORIES:Conciertos,Flamenco
ATTACH;FMTTYPE=image/jpeg:https://visitpuentegenil.es/wp-content/uploads/2025/11/16-El-Pele.jpg
END:VEVENT
BEGIN:VEVENT
DTSTART;TZID=Europe/Madrid:20251121T170000
DTEND;TZID=Europe/Madrid:20251122T140000
DTSTAMP:20260423T031834
CREATED:20251106T140222Z
LAST-MODIFIED:20251107T111503Z
UID:18019-1763744400-1763820000@visitpuentegenil.es
SUMMARY:Noviembre Flamenco. Master Class con la bailaora "La Lupi."
DESCRIPTION:La bailaora y coreógrafa Susana Lupiáñez Pinto\, “la Lupi\,” ofrecerá una Master Class de Baile dentro de las actividades programadas por el Ayuntamiento de Puente Genil en colaboración con el Instituto Andaluz del Flamenco para el ·Noviembre Flamenco·. \nLa Master Class se impartirá los días 21 y 22 de noviembre en la Academia Sens de Puente Genil y habrá nivel medio y avanzado con 20 plazas cada uno. \n¡Vuelve el arte flamenco a Puente Genil! ¡Ven a celebrar los 15 años del Flamenco Patrimonio Inmaterial de la Humanidad! \n Academia de Baile “Sens”\n 21 de noviembre de 2025\n Nivel medio: 16:00–17:30 h\n Nivel avanzado: 17:45–19:15 h\n\n\n 22 de noviembre de 2025\n Nivel medio: 10:30–12:00 h\n Nivel avanzado: 12:15–13:45 h\n\n\n Inscripción gratuita en Casa Ciudadana a partir del 14 de noviembre\, en horario de 9:00 a 14:00h.
URL:https://visitpuentegenil.es/evento/noviembre-flamenco-master-class-con-la-bailaora-la-lupi/
LOCATION:Academia de Baile Sens\, Calle Maquinistas\, 5\, Puente Genil\, Córdoba\, 14500\, Spain
CATEGORIES:Baile,Flamenco,Master Class
ATTACH;FMTTYPE=image/jpeg:https://visitpuentegenil.es/wp-content/uploads/2025/11/21-22-CARTEL-LA-LUPI.jpeg
END:VEVENT
END:VCALENDAR