BEGIN:VCALENDAR
VERSION:2.0
PRODID:-//Visit Puente Genil - ECPv6.15.20//NONSGML v1.0//EN
CALSCALE:GREGORIAN
METHOD:PUBLISH
X-ORIGINAL-URL:https://visitpuentegenil.es
X-WR-CALDESC:Eventos para Visit Puente Genil
REFRESH-INTERVAL;VALUE=DURATION:PT1H
X-Robots-Tag:noindex
X-PUBLISHED-TTL:PT1H
BEGIN:VTIMEZONE
TZID:Europe/Madrid
BEGIN:DAYLIGHT
TZOFFSETFROM:+0100
TZOFFSETTO:+0200
TZNAME:CEST
DTSTART:20250330T010000
END:DAYLIGHT
BEGIN:STANDARD
TZOFFSETFROM:+0200
TZOFFSETTO:+0100
TZNAME:CET
DTSTART:20251026T010000
END:STANDARD
BEGIN:DAYLIGHT
TZOFFSETFROM:+0100
TZOFFSETTO:+0200
TZNAME:CEST
DTSTART:20260329T010000
END:DAYLIGHT
BEGIN:STANDARD
TZOFFSETFROM:+0200
TZOFFSETTO:+0100
TZNAME:CET
DTSTART:20261025T010000
END:STANDARD
BEGIN:DAYLIGHT
TZOFFSETFROM:+0100
TZOFFSETTO:+0200
TZNAME:CEST
DTSTART:20270328T010000
END:DAYLIGHT
BEGIN:STANDARD
TZOFFSETFROM:+0200
TZOFFSETTO:+0100
TZNAME:CET
DTSTART:20271031T010000
END:STANDARD
END:VTIMEZONE
BEGIN:VEVENT
DTSTART;TZID=Europe/Madrid:20260321T120000
DTEND;TZID=Europe/Madrid:20260321T140000
DTSTAMP:20260421T190634
CREATED:20260316T093951Z
LAST-MODIFIED:20260316T111544Z
UID:18644-1774094400-1774101600@visitpuentegenil.es
SUMMARY:Pregón Semana Santa 2026.
DESCRIPTION:La Agrupación de Cofradías y Corporaciones Bíblicas de Puente Genil celebrará el próximo sábado 21 de marzo\, el Pregón de la Semana Santa 2026 de la localidad. \nEl acto se realizará en el Teatro Circo de Puente Genil a las 12:00 horas y estará a cargo de D. Antonio Luis Ortiz Rodríguez. \nLas entradas necesarias para el evento serán gratuitas. Se proporcionará una por persona el viernes 20 de marzo de 17:00 a 19:00 horas en la taquilla del Teatro Circo hasta completar el aforo. \n📌Teatro Circo.\n📅Sábado\, 5 de abril.\n⏰12:00 horas.  \n 
URL:https://visitpuentegenil.es/evento/pregon-semana-santa-2026/
LOCATION:Teatro Circo\, C/ Jesús\, s/n\, Puente Genil\, Córdoba\, 14500\, España
CATEGORIES:Pregón,Semana Santa
ATTACH;FMTTYPE=image/jpeg:https://visitpuentegenil.es/wp-content/uploads/2026/03/21-Pregon.jpg
ORGANIZER;CN="Agrupaci%C3%B3n de Cofrad%C3%ADas y Corporaciones B%C3%ADblicas de Puente Genil":MAILTO:secretaria@agrupacioncofradias.es
END:VEVENT
BEGIN:VEVENT
DTSTART;TZID=Europe/Madrid:20260327T223000
DTEND;TZID=Europe/Madrid:20260328T020000
DTSTAMP:20260421T190634
CREATED:20260326T114325Z
LAST-MODIFIED:20260326T114420Z
UID:18703-1774650600-1774663200@visitpuentegenil.es
SUMMARY:#Mananta2026. Viernes de Dolores noche.
DESCRIPTION:✨ La emoción ya se siente en las calles de Puente Genil… \n🕯️ Silencio\, devoción y tradición se unen en el recorrido de la Hermandad de San Juan\, con Ntro Padre Jesús del Perdón y María Stma. Reina de los Mártires que partirá a las 22:30h desde el Santuario de Ntro. Padre Jesús Nazareno para regresar sobre las 2:00h tras haber realizado su estación de penitencia. \nUna noche para vivir nuestra Mananta y para descubrir la esencia más pura de nuestra tierra ❤️ \n👉 ¿Te lo vas a perder? \n📍 Puente Genil🗓️ 27 marzo 2026🕤 22:30 h
URL:https://visitpuentegenil.es/evento/mananta2026-viernes-de-dolores-noche/
LOCATION:Santuario Ntro. Padre Jesús Nazareno\, Plaza del Calvario\, s/n\, Puente Genil\, Córdoba\, 14500\, España
CATEGORIES:Procesión,Semana Santa
ATTACH;FMTTYPE=image/jpeg:https://visitpuentegenil.es/wp-content/uploads/2026/03/27-Jesus-del-Perdon.jpg
ORGANIZER;CN="Agrupaci%C3%B3n de Cofrad%C3%ADas y Corporaciones B%C3%ADblicas de Puente Genil":MAILTO:secretaria@agrupacioncofradias.es
END:VEVENT
BEGIN:VEVENT
DTSTART;TZID=Europe/Madrid:20260329T110000
DTEND;TZID=Europe/Madrid:20260329T150000
DTSTAMP:20260421T190634
CREATED:20260326T123330Z
LAST-MODIFIED:20260326T123330Z
UID:18719-1774782000-1774796400@visitpuentegenil.es
SUMMARY:#Mananta2026. Domingo de Ramos.
DESCRIPTION:✨ El Domingo de Ramos es la Cofradía de “La Borriquita” y Mª Stma. de la Estrella la que llena de color y alegría las calles de Puente Genil\, saliendo de la Parroquia de San José a las 11:15h para realizar su recorrido procesional y volver al templo sobre las 15:00h. \n¡Ven a descubrir y a disfrutar de nuestra Semana Mananta! ❤️ \n👉 ¿Te lo vas a perder? \n📍 Puente Genil🗓️ 29 marzo 2026🕤 11:15h
URL:https://visitpuentegenil.es/evento/mananta2026-domingo-de-ramos/
LOCATION:Parroquia de San José\, Plaza de España\, s/n\, Puente Genil\, Córdoba\, 14500\, España
CATEGORIES:Procesión,Semana Santa
ATTACH;FMTTYPE=image/jpeg:https://visitpuentegenil.es/wp-content/uploads/2026/03/29-Borriquita.jpg
ORGANIZER;CN="Agrupaci%C3%B3n de Cofrad%C3%ADas y Corporaciones B%C3%ADblicas de Puente Genil":MAILTO:secretaria@agrupacioncofradias.es
END:VEVENT
BEGIN:VEVENT
DTSTART;TZID=Europe/Madrid:20260329T200000
DTEND;TZID=Europe/Madrid:20260329T210000
DTSTAMP:20260421T190634
CREATED:20260326T124354Z
LAST-MODIFIED:20260326T124354Z
UID:18724-1774814400-1774818000@visitpuentegenil.es
SUMMARY:#Mananta2026. Domingo de Ramos tarde.
DESCRIPTION:Traslado de la imagen del Santísimo Cristo de la Buena Muerte desde la Parroquia de Santiago el Mayor a las 20:00h hasta la ermita del Dulce Nombre de Jesús\, desde donde realizará su estación de penitencia el Viernes Santo. \n¡Ven a descubrir nuestra Mananta! ❤️ \n👉 ¿Te lo vas a perder? \n📍 Puente Genil🗓️ 29 marzo 2026🕤 20:00h
URL:https://visitpuentegenil.es/evento/mananta2026-domingo-de-ramos-tarde/
LOCATION:Parroquia de Santiago el Mayor\, Plaza Santiago\, 38\, Puente Genil
CATEGORIES:Procesión,Semana Santa,Traslado
ATTACH;FMTTYPE=image/png:https://visitpuentegenil.es/wp-content/uploads/2026/03/29-Cristo-Buena-Muerte.png
ORGANIZER;CN="Agrupaci%C3%B3n de Cofrad%C3%ADas y Corporaciones B%C3%ADblicas de Puente Genil":MAILTO:secretaria@agrupacioncofradias.es
END:VEVENT
END:VCALENDAR