BEGIN:VCALENDAR
VERSION:2.0
PRODID:-//Visit Puente Genil - ECPv6.15.20//NONSGML v1.0//EN
CALSCALE:GREGORIAN
METHOD:PUBLISH
X-ORIGINAL-URL:https://visitpuentegenil.es
X-WR-CALDESC:Eventos para Visit Puente Genil
REFRESH-INTERVAL;VALUE=DURATION:PT1H
X-Robots-Tag:noindex
X-PUBLISHED-TTL:PT1H
BEGIN:VTIMEZONE
TZID:Europe/Madrid
BEGIN:DAYLIGHT
TZOFFSETFROM:+0100
TZOFFSETTO:+0200
TZNAME:CEST
DTSTART:20230326T010000
END:DAYLIGHT
BEGIN:STANDARD
TZOFFSETFROM:+0200
TZOFFSETTO:+0100
TZNAME:CET
DTSTART:20231029T010000
END:STANDARD
BEGIN:DAYLIGHT
TZOFFSETFROM:+0100
TZOFFSETTO:+0200
TZNAME:CEST
DTSTART:20240331T010000
END:DAYLIGHT
BEGIN:STANDARD
TZOFFSETFROM:+0200
TZOFFSETTO:+0100
TZNAME:CET
DTSTART:20241027T010000
END:STANDARD
BEGIN:DAYLIGHT
TZOFFSETFROM:+0100
TZOFFSETTO:+0200
TZNAME:CEST
DTSTART:20250330T010000
END:DAYLIGHT
BEGIN:STANDARD
TZOFFSETFROM:+0200
TZOFFSETTO:+0100
TZNAME:CET
DTSTART:20251026T010000
END:STANDARD
END:VTIMEZONE
BEGIN:VEVENT
DTSTART;TZID=Europe/Madrid:20240501T113000
DTEND;TZID=Europe/Madrid:20240501T130000
DTSTAMP:20260425T033302
CREATED:20240429T130949Z
LAST-MODIFIED:20240429T131031Z
UID:13426-1714563000-1714568400@visitpuentegenil.es
SUMMARY:Visita con anfitrión a la Villa Romana de Fuente Álamo.
DESCRIPTION: Descubre la magia de la Antigua Roma en Puente Genil este miércoles festivo #DíadelTrabajo  Nuestra Villa Romana de Fuente Álamo guarda tesoros musivarios que te transportarán en el tiempo. \n¿List@ para sumergirte en la historia? Con nuestro anfitrión descubrirás todos los secretos e historias que guardan las piedras de nuestra villa. \n¡Te esperamos para disfrutar de una experiencia única!#VillaRomana #Historia\n\n📌Villa Romana de Fuente Álamo.\n📅Miércoles\, 1 de mayo.\n⏰11:30h\n🎟 5€\nReserva ya tu plaza 🤗🛍 ℹ️ 957 60 50 34 ext. 0380 / puentegenil@ciudadesmedias.org
URL:https://visitpuentegenil.es/evento/visita-con-anfitrion-a-la-villa-romana-de-fuente-alamo/
LOCATION:Villa Romana de Fuente Álamo\, cv-297 km 3\, Puente Genil\, Córdoba\, 14500\, España
CATEGORIES:Arqueología,Patrimonio,Visitas guiadas
ATTACH;FMTTYPE=image/png:https://visitpuentegenil.es/wp-content/uploads/2024/04/1-Visita-con-Anfitrion.png
ORGANIZER;CN="Ciudades Medias":MAILTO:puentegenil@ciudadesmedias.org
END:VEVENT
BEGIN:VEVENT
DTSTART;TZID=Europe/Madrid:20240503T100000
DTEND;TZID=Europe/Madrid:20240503T203000
DTSTAMP:20260425T033302
CREATED:20240501T111613Z
LAST-MODIFIED:20240501T111917Z
UID:13434-1714730400-1714768200@visitpuentegenil.es
SUMMARY:Besamanos y presentación de la infancia a la Patrona.
DESCRIPTION:La Cofradía de la Purísima Concepción celebra el próximo viernes 3 de mayo\, Día de la Cruz\, el tradicional Besamanos y Presentación de los niños y niñas a la Patrona y Alcaldesa Perpetua de Puente Genil. \nLa jornada comenzará a las 10 de la mañana\, extendiéndose hasta las 15 horas y más tarde de 16:30 a 20:30 horas. \nComo es tradicional en este día\, niños y mayores podrán ser envueltos en el manto azul de la Virgen para implorar su protección.
URL:https://visitpuentegenil.es/evento/besamanos-y-presentacion-de-la-infancia-a-la-patrona/
LOCATION:Santuario de la Purísima\, Calle Madre de Dios\, 2\, Puente Genil\, Córdoba\, 14500\, España
ATTACH;FMTTYPE=image/jpeg:https://visitpuentegenil.es/wp-content/uploads/2024/05/3-Besamanos-Purisima-scaled.jpg
ORGANIZER;CN="Cofradia de la  Pur%C3%ADsima":MAILTO:patronadepuentegenil@gmail.com
END:VEVENT
BEGIN:VEVENT
DTSTART;TZID=Europe/Madrid:20240504T190000
DTEND;TZID=Europe/Madrid:20240504T200000
DTSTAMP:20260425T033302
CREATED:20240502T085252Z
LAST-MODIFIED:20240502T085252Z
UID:13442-1714849200-1714852800@visitpuentegenil.es
SUMMARY:Escape Room en la Villa Romana de Fuente Álamo.
DESCRIPTION:Un grupo de malhechores ha entrado en la Villa Romana de Fuente Alamo. Puente Genil en mitad de la noche… Pero\, por suerte\, las cámaras de seguridad estaban grabando y los ladrones han dejado algunas huellas ¿Te atreves a resolver que ocurrió? #escaperoom  \n ¡Ven a disfrutar de nuestro escape room y descubre el misterio! \n📌Villa Romana de Fuente Álamo\n📅Sábado\, 4 de mayo.\n⏰19:00h. \n Inscripción: 957 60 50 34 ext. 0 380 / puentegenil@ciudadesmedias.org
URL:https://visitpuentegenil.es/evento/escape-room-en-la-villa-romana-de-fuente-alamo-2/
LOCATION:Villa Romana de Fuente Álamo\, cv-297 km 3\, Puente Genil\, Córdoba\, 14500\, España
CATEGORIES:Actividades infantiles,Arqueología,Escape Room
ATTACH;FMTTYPE=image/jpeg:https://visitpuentegenil.es/wp-content/uploads/2024/05/4-Escape-Room.jpg
ORGANIZER;CN="Ciudades Medias":MAILTO:puentegenil@ciudadesmedias.org
END:VEVENT
BEGIN:VEVENT
DTSTART;TZID=Europe/Madrid:20240511T210000
DTEND;TZID=Europe/Madrid:20240511T223000
DTSTAMP:20260425T033302
CREATED:20240429T081049Z
LAST-MODIFIED:20260215T210544Z
UID:13405-1715461200-1715466600@visitpuentegenil.es
SUMMARY:146 costuras\, danza contemporánea en el Teatro Circo.
DESCRIPTION:Colectivo La Triangular trae la danza contemporánea al escenario del Teatro Circo de Puente Genil. \nS I N O P S I S\nNueva York\, 25 marzo de 1911. En la fábrica Triangle Shirtwais Factory\, a las 16:40 horas\, se declara un incendio en la octava planta de la fábrica textil. Arrasa las plantas 8.ª \, 9.ª \, y 10.ª del Edificio Asch. En el incendio\, 146 trabajadores fallecieron\, de los cuales\, 123 eran mujeres. \nLa finalidad de Colectivo La Triangular es hacer una conmemoración al Triangle Fire y hacer llegar al público la tesis planteada en esta historia:\n¿Hace falta que ocurra toda una tragedia para producir un pequeño cambio social? \nOrganizado por Contracultura en colaboración con el Ayuntamiento de Puente Genil\, y María Ilustrart podremos ver este espectáculo el próximo sábado 11 de mayo. \n📌Teatro Circo.\n📅Sábado\, 11 de mayo.\n⏰21:00h. \nLas entradas se pueden adquirir en La Casa del Aceite y el Vino al precio de 8€.
URL:https://visitpuentegenil.es/evento/146-costuras-danza-contemporanea-en-el-teatro-circo/
LOCATION:Teatro Circo\, C/ Jesús\, s/n\, Puente Genil\, Córdoba\, 14500\, España
CATEGORIES:Danza
ATTACH;FMTTYPE=image/jpeg:https://visitpuentegenil.es/wp-content/uploads/2024/04/11-Teatro-1.jpg
ORGANIZER;CN="Contracultura":MAILTO:asociacioncontracultura@gmail.com
END:VEVENT
BEGIN:VEVENT
DTSTART;TZID=Europe/Madrid:20240512T113000
DTEND;TZID=Europe/Madrid:20240512T130000
DTSTAMP:20260425T033302
CREATED:20240510T090426Z
LAST-MODIFIED:20240510T090426Z
UID:13488-1715513400-1715518800@visitpuentegenil.es
SUMMARY:Visita con anfitrión en la Villa Romana de Fuente Álamo.
DESCRIPTION:¿Quieres conocer el legado que dejaron los romanos en Puente Genil?  \nPues entonces no te puedes perder la visita guiada   que tendremos en la Villa Romana de Fuente Alamo. Puente Genil este  domingo. \n¡Haz tu reserva ya y viaje más de mil años al pasado!  \n📌Villa romana de Fuente Álamo.\n📅Domingo\, 12 de mayo.\n⏰11:30h.\n🎟5 € por persona. \n¡Llama ya! \n 957 60 50 34 Ext. 0 380 / puentegenil@ciudadesmedias.org \n#descubriendolugares #beticaromana #visitasguiadas #visitasculturales
URL:https://visitpuentegenil.es/evento/visita-con-anfitrion-en-la-villa-romana-de-fuente-alamo-9/
LOCATION:Villa Romana de Fuente Álamo\, cv-297 km 3\, Puente Genil\, Córdoba\, 14500\, España
CATEGORIES:Arqueología,Patrimonio,Visitas guiadas
ATTACH;FMTTYPE=image/png:https://visitpuentegenil.es/wp-content/uploads/2024/05/Visita-Anfitrion-12-Mayo.png
ORGANIZER;CN="Ciudades Medias":MAILTO:puentegenil@ciudadesmedias.org
END:VEVENT
BEGIN:VEVENT
DTSTART;TZID=Europe/Madrid:20240512T120000
DTEND;TZID=Europe/Madrid:20240512T213000
DTSTAMP:20260425T033302
CREATED:20240507T103628Z
LAST-MODIFIED:20240507T103628Z
UID:13470-1715515200-1715549400@visitpuentegenil.es
SUMMARY:Fiestas de primavera en Sotogordo.
DESCRIPTION:La aldea de Sotogordo celebra este fin de semana sus fiestas de primavera en honor de Ntra. Sra. de Fátima. \nEl 📅 domingo 12 de mayo\, Sotogordo celebrará el setenta aniversario de la llegada de la imagen de Ntra. Sra. de Fátima a la aldea con una solemne función religiosa a las  ⏰ 12:00h  y una procesión por sus calles engalanadas para la ocasión. \nA las ⏰14:30 h tendrá lugar la jornada de convivencia y la degustación de una paella en el Centro Socioeducativo “Rafael Ruiz Ligero\,” que incluirá el homenaje a los mayores de Sotogordo. Y ya a partir de las 20:00h volverá a procesionar la imagen de vuelta a su parroquia. \nLa Asociación La verde Oliva de Sotogordo\, organizadora de los actos en colaboración con el Ayuntamiento de Puente Genil\, también celebra el 25 aniversario de su constitución. \n📌Sotogordo.\n📅Domingo\, 12 de mayo.\n⏰12:00h. \n 
URL:https://visitpuentegenil.es/evento/fiestas-de-primavera-en-sotogordo/
LOCATION:Aldea de Sotogordo\, Puente Genil\, Córdoba\, 14500\, España
CATEGORIES:Aldeas
ATTACH;FMTTYPE=image/jpeg:https://visitpuentegenil.es/wp-content/uploads/2024/05/12-Sotogordo-cartel.jpg
ORGANIZER;CN="Asociacion de Mujeres La Verde Oliva":MAILTO:carpediemsotogordo@hotmail.com
END:VEVENT
BEGIN:VEVENT
DTSTART;TZID=Europe/Madrid:20240517T210000
DTEND;TZID=Europe/Madrid:20240517T233000
DTSTAMP:20260425T033302
CREATED:20240508T105109Z
LAST-MODIFIED:20240508T105951Z
UID:13482-1715979600-1715988600@visitpuentegenil.es
SUMMARY:Vuelve la ópera al Teatro Circo con Don Giovanni.
DESCRIPTION:Enmarcada en el programa de la décimo séptima edición del Festival Lírico de Puente Genil llegará el próximo 17 de mayo al Teatro Circo la ópera “Don Giovanni.” \n“Don Giovanni” es un drama jocoso en dos actos con música de Wolfgang Amadeus Mozart y libreto en italiano de Lorenzo da Ponte\, basado en la obra original El burlador de Sevilla y convidado de piedra de Tirso de Molina. \nLa compañía Teatro Lírico Andaluz la pondrá en escena el próximo viernes 17 de mayo a las 21:00h en el Teatro Circo.  ¡No te la pierdas! \nLas entradas ya pueden reservarse en el 📞 617 453 061  al precio de 10€ en venta anticipada y 12€ en taquilla el mismo día. \n📌Teatro Circo.\n📅Viernes\, 17 de mayo.\n⏰21:00h\n🎟 10€ anticipada\, 12€ en taquilla.\nReserva la tuya ya en el 📞 617 453 061
URL:https://visitpuentegenil.es/evento/vuelve-la-opera-al-teatro-circo-con-don-giovanni/
LOCATION:Teatro Circo\, C/ Jesús\, s/n\, Puente Genil\, Córdoba\, 14500\, España
CATEGORIES:Festival,Lírica,Ópera
ATTACH;FMTTYPE=image/jpeg:https://visitpuentegenil.es/wp-content/uploads/2024/05/17-Don-Giovanni.jpg
ORGANIZER;CN="Amigos de la M%C3%BAsica":MAILTO:emusica@aytopuentegenil.es
END:VEVENT
BEGIN:VEVENT
DTSTART;TZID=Europe/Madrid:20240518T073000
DTEND;TZID=Europe/Madrid:20240518T213000
DTSTAMP:20260425T033302
CREATED:20240505T114030Z
LAST-MODIFIED:20240505T114030Z
UID:13454-1716017400-1716067800@visitpuentegenil.es
SUMMARY:"Talento por un tubo" en el Teatro Circo.
DESCRIPTION:“Talento por un Tubo” es un gran evento\, dirigido por Óscar Trigos  de Osmara Teatro\, que pretende dar oportunidad  y visibilidad a jóvenes talentos de la comarca. Un espectáculo multidisciplinar de teatro que te sorprenderá en una cita que promete grandes emociones. \nContaremos con la participación de Adriana y Celia (Reinas del Flow)\, Las Divinas\, Paquirrín\, Martina y Valentina\, Alicia Baena\, Marta Jaén y Matías\, Laura Rivas y la Escuela Fusión Sport de Cabra. \n📌Teatro Circo.\n📅Sábado\, 18 de mayo.\n⏰19:30h. \nLas entradas podrán comprarse en Talleres Trigos\, Mapfre Seguros y Yolanda Rodríguez Estética al precio de 8€ a beneficio de la EPA Miguel Ríos.
URL:https://visitpuentegenil.es/evento/talento-por-un-tubo-en-el-teatro-circo/
LOCATION:Teatro Circo\, C/ Jesús\, s/n\, Puente Genil\, Córdoba\, 14500\, España
CATEGORIES:Baile,Conciertos,Música,Musical
ATTACH;FMTTYPE=image/jpeg:https://visitpuentegenil.es/wp-content/uploads/2024/05/Talento-por-un-tubo.jpg
END:VEVENT
BEGIN:VEVENT
DTSTART;TZID=Europe/Madrid:20240519T113000
DTEND;TZID=Europe/Madrid:20240519T130000
DTSTAMP:20260425T033302
CREATED:20240510T122511Z
LAST-MODIFIED:20240510T122511Z
UID:13491-1716118200-1716123600@visitpuentegenil.es
SUMMARY:Visita con anfitrión en la Villa Romana de Fuente Álamo.
DESCRIPTION:¿Aún no conoces la Villa Romana de Fuente Alamo. Puente Genil? \nSi vienes a Puente Genil no puedes dejar de visitar esta maravilla. Y vas a tener suerte porque el domingo\, 19 de mayo\, podrás disfrutar de una visita guiada de la mano de uno de nuestros anfitriones. ¡Te contarán cada detalle de este magnífico lugar que la historia y el tiempo nos ha regalado! \n📌Villa Romana de Fuente Álamo-\n📅Domingo\, 19 de mayo.\n⏰11:30h.\n🎟 5€ por persona. \n¡Haz tu reserva ya!  957 60 50 34 ext. 0 380 / puentegenil@ciudadesmedias.org  #descubriendolugares #yacimientoarqueológico
URL:https://visitpuentegenil.es/evento/visita-con-anfitrion-en-la-villa-romana-de-fuente-alamo-10/
LOCATION:Villa Romana de Fuente Álamo\, cv-297 km 3\, Puente Genil\, Córdoba\, 14500\, España
CATEGORIES:Arqueología,Historia,Patrimonio,Visitas guiadas
ATTACH;FMTTYPE=image/jpeg:https://visitpuentegenil.es/wp-content/uploads/2024/05/19-Visita-con-anfitrion-FA.jpg
ORGANIZER;CN="Ciudades Medias":MAILTO:puentegenil@ciudadesmedias.org
END:VEVENT
BEGIN:VEVENT
DTSTART;TZID=Europe/Madrid:20240522T183000
DTEND;TZID=Europe/Madrid:20240523T210000
DTSTAMP:20260425T033302
CREATED:20240508T095018Z
LAST-MODIFIED:20240521T122459Z
UID:13477-1716402600-1716498000@visitpuentegenil.es
SUMMARY:I Jornadas de Novela Histórica en Puente Genil.
DESCRIPTION:El Ayuntamiento de Puente Genil ha organizado la primera edición de las Jornadas de Novela Histórica con un programa que ha confeccionado el área de Cultura con la colaboración del historiador y escritor José Calvo Poyato. \nEl programa incluye un variado conjunto de ponencias y conferencias. Entre los destacados ponentes se encuentran Isabel San Sebastián\, autora de «La Temeraria»\, quien abordará el tema de la reina Urraca en su intervención titulada «¿Pionera y temeraria?»; José Luis Corral\, catedrático de Historia y autor de «El Cid»\, disertará sobre la figura del legendario héroe medieval. El jueves 23 de mayo\, Nacho Ares\, experto en Egiptología y director del programa «Ser Historia»\, explorará la sombra de Atón y la creación de un mito egipcio. \nEl broche de oro lo pondrá el propio Calvo Poyato con su conferencia sobre el periodo histórico de la regencia de los Reyes Católicos\, entre los años 1504 y 1516\, titulada «Entre Isabel y Fernando\, unos tiempos difíciles». \n📌Biblioteca Ricardo Molina.\n📅Miércoles\, 22 y jueves\, 23 de mayo.\n⏰19:00h \nEntrada libre hasta completar aforo (previa inscripción en la Casa Ciudadana o a través del mail cultura@aytopuentegenil.es\n 
URL:https://visitpuentegenil.es/evento/i-jornadas-de-novela-historica-en-puente-genil/
LOCATION:Biblioteca Pública Municipal Ricardo Molina\, Parque los Pinos\, s/n\, Puente Genil\, Córdoba\, 14500\, España
CATEGORIES:Conferencia,Jornadas
ATTACH;FMTTYPE=image/jpeg:https://visitpuentegenil.es/wp-content/uploads/2024/05/22-Jornadas-de-novela-historica.jpg
END:VEVENT
BEGIN:VEVENT
DTSTART;TZID=Europe/Madrid:20240524T140000
DTEND;TZID=Europe/Madrid:20240526T180000
DTSTAMP:20260425T033302
CREATED:20240522T114119Z
LAST-MODIFIED:20240524T105144Z
UID:13573-1716559200-1716746400@visitpuentegenil.es
SUMMARY:Cruces de Mayo en Puente Genil.
DESCRIPTION:¡Ven a disfrutar con nosotros de las Cruces de Mayo en Puente Genil! Todo preparado para un #findesemana diferente en Puente Genil con un ambiente espectacular y 17 cruces de mayo para visitar. \n¿De verdad te lo vas a perder? 🧐 ¡Te esperamos!🤗 \nDescarga el listado de las Cruces participantes aquí 👇 \nDescarga el plano con las Cruces participantes. \n📌Puente Genil\n📅24\, 25 y 26 de mayo.
URL:https://visitpuentegenil.es/evento/cruces-de-mayo-en-puente-genil/
LOCATION:Puente Genil
CATEGORIES:Cruces de Mayo
ATTACH;FMTTYPE=image/jpeg:https://visitpuentegenil.es/wp-content/uploads/2024/05/24-Concurso-Cruces-de-Mayo.jpg
END:VEVENT
END:VCALENDAR