BEGIN:VCALENDAR
VERSION:2.0
PRODID:-//Visit Puente Genil - ECPv6.15.20//NONSGML v1.0//EN
CALSCALE:GREGORIAN
METHOD:PUBLISH
X-WR-CALNAME:Visit Puente Genil
X-ORIGINAL-URL:https://visitpuentegenil.es
X-WR-CALDESC:Eventos para Visit Puente Genil
REFRESH-INTERVAL;VALUE=DURATION:PT1H
X-Robots-Tag:noindex
X-PUBLISHED-TTL:PT1H
BEGIN:VTIMEZONE
TZID:Europe/Madrid
BEGIN:DAYLIGHT
TZOFFSETFROM:+0100
TZOFFSETTO:+0200
TZNAME:CEST
DTSTART:20230326T010000
END:DAYLIGHT
BEGIN:STANDARD
TZOFFSETFROM:+0200
TZOFFSETTO:+0100
TZNAME:CET
DTSTART:20231029T010000
END:STANDARD
BEGIN:DAYLIGHT
TZOFFSETFROM:+0100
TZOFFSETTO:+0200
TZNAME:CEST
DTSTART:20240331T010000
END:DAYLIGHT
BEGIN:STANDARD
TZOFFSETFROM:+0200
TZOFFSETTO:+0100
TZNAME:CET
DTSTART:20241027T010000
END:STANDARD
BEGIN:DAYLIGHT
TZOFFSETFROM:+0100
TZOFFSETTO:+0200
TZNAME:CEST
DTSTART:20250330T010000
END:DAYLIGHT
BEGIN:STANDARD
TZOFFSETFROM:+0200
TZOFFSETTO:+0100
TZNAME:CET
DTSTART:20251026T010000
END:STANDARD
END:VTIMEZONE
BEGIN:VEVENT
DTSTART;TZID=Europe/Madrid:20240503T100000
DTEND;TZID=Europe/Madrid:20240503T203000
DTSTAMP:20260425T053134
CREATED:20240501T111613Z
LAST-MODIFIED:20240501T111917Z
UID:13434-1714730400-1714768200@visitpuentegenil.es
SUMMARY:Besamanos y presentación de la infancia a la Patrona.
DESCRIPTION:La Cofradía de la Purísima Concepción celebra el próximo viernes 3 de mayo\, Día de la Cruz\, el tradicional Besamanos y Presentación de los niños y niñas a la Patrona y Alcaldesa Perpetua de Puente Genil. \nLa jornada comenzará a las 10 de la mañana\, extendiéndose hasta las 15 horas y más tarde de 16:30 a 20:30 horas. \nComo es tradicional en este día\, niños y mayores podrán ser envueltos en el manto azul de la Virgen para implorar su protección.
URL:https://visitpuentegenil.es/evento/besamanos-y-presentacion-de-la-infancia-a-la-patrona/
LOCATION:Santuario de la Purísima\, Calle Madre de Dios\, 2\, Puente Genil\, Córdoba\, 14500\, España
ATTACH;FMTTYPE=image/jpeg:https://visitpuentegenil.es/wp-content/uploads/2024/05/3-Besamanos-Purisima-scaled.jpg
ORGANIZER;CN="Cofradia de la  Pur%C3%ADsima":MAILTO:patronadepuentegenil@gmail.com
END:VEVENT
END:VCALENDAR