BEGIN:VCALENDAR
VERSION:2.0
PRODID:-//Visit Puente Genil - ECPv6.15.20//NONSGML v1.0//EN
CALSCALE:GREGORIAN
METHOD:PUBLISH
X-WR-CALNAME:Visit Puente Genil
X-ORIGINAL-URL:https://visitpuentegenil.es
X-WR-CALDESC:Eventos para Visit Puente Genil
REFRESH-INTERVAL;VALUE=DURATION:PT1H
X-Robots-Tag:noindex
X-PUBLISHED-TTL:PT1H
BEGIN:VTIMEZONE
TZID:Europe/Madrid
BEGIN:DAYLIGHT
TZOFFSETFROM:+0100
TZOFFSETTO:+0200
TZNAME:CEST
DTSTART:20250330T010000
END:DAYLIGHT
BEGIN:STANDARD
TZOFFSETFROM:+0200
TZOFFSETTO:+0100
TZNAME:CET
DTSTART:20251026T010000
END:STANDARD
BEGIN:DAYLIGHT
TZOFFSETFROM:+0100
TZOFFSETTO:+0200
TZNAME:CEST
DTSTART:20260329T010000
END:DAYLIGHT
BEGIN:STANDARD
TZOFFSETFROM:+0200
TZOFFSETTO:+0100
TZNAME:CET
DTSTART:20261025T010000
END:STANDARD
BEGIN:DAYLIGHT
TZOFFSETFROM:+0100
TZOFFSETTO:+0200
TZNAME:CEST
DTSTART:20270328T010000
END:DAYLIGHT
BEGIN:STANDARD
TZOFFSETFROM:+0200
TZOFFSETTO:+0100
TZNAME:CET
DTSTART:20271031T010000
END:STANDARD
END:VTIMEZONE
BEGIN:VEVENT
DTSTART;TZID=Europe/Madrid:20260216T180000
DTEND;TZID=Europe/Madrid:20260226T200000
DTSTAMP:20260422T082851
CREATED:20260213T132339Z
LAST-MODIFIED:20260213T133607Z
UID:18535-1771264800-1772136000@visitpuentegenil.es
SUMMARY:Exposición Retrospectiva “Agustín del Pino” en Puente Genil.
DESCRIPTION:La Biblioteca Municipal “Ricardo Molina” acoge del 16 al 26 de febrero de 2026 la exposición retrospectiva del artista Agustín del Pino. \nEsta exposición reúne una selección de obras que permiten recorrer la trayectoria artística del autor\, destacando su sensibilidad\, técnica y estilo personal. \n🗓  Del 16 al 26 de febrero de 2026🕒 Lunes a sábado\, de 10:00 a 14:00 h y de 17:00 a 20:00 h🎨 Inauguración: Lunes 16 de febrero a las 18:00 h📍 Biblioteca Municipal “Ricardo Molina”\, Puente Genil \n¡Te esperamos!
URL:https://visitpuentegenil.es/evento/exposicion-retrospectiva-agustin-del-pino-en-puente-genil/
LOCATION:Biblioteca Pública Municipal Ricardo Molina\, Parque los Pinos\, s/n\, Puente Genil\, Córdoba\, 14500\, España
CATEGORIES:Escultura,Exposiciones,Pintura
ATTACH;FMTTYPE=image/jpeg:https://visitpuentegenil.es/wp-content/uploads/2026/02/16-Exposicion-Agustin-del-Pino.jpeg
END:VEVENT
BEGIN:VEVENT
DTSTART;TZID=Europe/Madrid:20260221T180000
DTEND;TZID=Europe/Madrid:20260221T190000
DTSTAMP:20260422T082851
CREATED:20260216T115851Z
LAST-MODIFIED:20260216T115851Z
UID:18540-1771696800-1771700400@visitpuentegenil.es
SUMMARY:🎶 Mónica Molerr en versión acústica con “Feelings.”  
DESCRIPTION:Vuelve la música en directo al Espacio Micro Cultural nº11 con una propuesta íntima y cargada de emoción. La cantautora Mónica Molerr presentará su espectáculo “Feelings” (versión acústica) el próximo sábado 21 de febrero. \nUna oportunidad única para disfrutar de un concierto acústico en Puente Genil en un formato cercano\, donde la voz y la sensibilidad artística serán las grandes protagonistas. Una experiencia musical perfecta para los amantes de la música en directo y la cultura local. \n📍  Espacio Micro Cultural Nº 11📅 Sábado\, 21 de febrero🕕 18:00 h📩 Reservas: espaciomicroculturaln11@gmail.com \nEn Puente Genil seguimos apostando por el talento local y los espacios íntimos que acercan la música al público. \n✨ Vive la cultura\, siente la música y apoya los eventos culturales en Puente Genil.
URL:https://visitpuentegenil.es/evento/%f0%9f%8e%b6-monica-molerr-en-version-acustica-con-feelings/
LOCATION:Espacio Microcultural Nº 11\, Calle Aguilar\, 11\, Puente Genil\, Córdoba\, 14500\, España
CATEGORIES:Conciertos,Música
ATTACH;FMTTYPE=image/jpeg:https://visitpuentegenil.es/wp-content/uploads/2026/02/21-Monica-Molerr-No11.jpeg
ORGANIZER;CN="Espacio microcultural N%C2%BA11":MAILTO:espaciomicroculturaln11@gmail.com
END:VEVENT
END:VCALENDAR