BEGIN:VCALENDAR
VERSION:2.0
PRODID:-//Visit Puente Genil - ECPv6.15.20//NONSGML v1.0//EN
CALSCALE:GREGORIAN
METHOD:PUBLISH
X-WR-CALNAME:Visit Puente Genil
X-ORIGINAL-URL:https://visitpuentegenil.es
X-WR-CALDESC:Eventos para Visit Puente Genil
REFRESH-INTERVAL;VALUE=DURATION:PT1H
X-Robots-Tag:noindex
X-PUBLISHED-TTL:PT1H
BEGIN:VTIMEZONE
TZID:Europe/Madrid
BEGIN:DAYLIGHT
TZOFFSETFROM:+0100
TZOFFSETTO:+0200
TZNAME:CEST
DTSTART:20220327T010000
END:DAYLIGHT
BEGIN:STANDARD
TZOFFSETFROM:+0200
TZOFFSETTO:+0100
TZNAME:CET
DTSTART:20221030T010000
END:STANDARD
BEGIN:DAYLIGHT
TZOFFSETFROM:+0100
TZOFFSETTO:+0200
TZNAME:CEST
DTSTART:20230326T010000
END:DAYLIGHT
BEGIN:STANDARD
TZOFFSETFROM:+0200
TZOFFSETTO:+0100
TZNAME:CET
DTSTART:20231029T010000
END:STANDARD
BEGIN:DAYLIGHT
TZOFFSETFROM:+0100
TZOFFSETTO:+0200
TZNAME:CEST
DTSTART:20240331T010000
END:DAYLIGHT
BEGIN:STANDARD
TZOFFSETFROM:+0200
TZOFFSETTO:+0100
TZNAME:CET
DTSTART:20241027T010000
END:STANDARD
END:VTIMEZONE
BEGIN:VEVENT
DTSTART;TZID=Europe/Madrid:20230715T080000
DTEND;TZID=Europe/Madrid:20230715T170000
DTSTAMP:20260422T132309
CREATED:20230622T081824Z
LAST-MODIFIED:20230627T060153Z
UID:12263-1689408000-1689440400@visitpuentegenil.es
SUMMARY:El Pacto Rock Band\, tributo a Bruce Springsteen en Puente Genil.
DESCRIPTION:El 15 de julio tenemos una cita ineludible con la música del gran Bruce Springsteen en Puente Genil. \nLa veterana banda vizcaína El PACTO ROCK BAND  junto al saxofonista de Fito y Fitipaldis\, Javier Alzola nos traen “Un pacto con Springsteen.” Un concierto que recorre su carrera desde los inicios hasta la actualidad resultando un espectáculo intenso\, participativo y con gran capacidad de transmitir la energía e impronta característica del Boss. \n¿Quieres saber más?👉 \n¡¡¡¡Que no te lo cuenten!!!! ¡¡¡¡Vívelo!!!!🤩🤩🤩 \nReserva ya tu 🎫 entrada 10€ en el 📱 617453061  \n📌 Auditorio Hermanos Cuenca.\n📅 Sábado\, 15 de julio.\n⏰21:00h
URL:https://visitpuentegenil.es/evento/el-pacto-rock-band-tributo-a-bruce-springsteen-en-puente-genil/
LOCATION:Auditorio “Hermanos Cuenca”\, Calle Pinar de San Rafael\, s/n\, Puente Genil\, Córdoba\, 14500\, España
CATEGORIES:Conciertos,Música
ATTACH;FMTTYPE=image/jpeg:https://visitpuentegenil.es/wp-content/uploads/2023/06/15-UN-PACTO-CON-SPRINGSTEEN.jpg
ORGANIZER;CN="Amigos de la M%C3%BAsica":MAILTO:emusica@aytopuentegenil.es
END:VEVENT
END:VCALENDAR