BEGIN:VCALENDAR
VERSION:2.0
PRODID:-//Visit Puente Genil - ECPv6.15.20//NONSGML v1.0//EN
CALSCALE:GREGORIAN
METHOD:PUBLISH
X-ORIGINAL-URL:https://visitpuentegenil.es
X-WR-CALDESC:Eventos para Visit Puente Genil
REFRESH-INTERVAL;VALUE=DURATION:PT1H
X-Robots-Tag:noindex
X-PUBLISHED-TTL:PT1H
BEGIN:VTIMEZONE
TZID:Europe/Madrid
BEGIN:DAYLIGHT
TZOFFSETFROM:+0100
TZOFFSETTO:+0200
TZNAME:CEST
DTSTART:20240331T010000
END:DAYLIGHT
BEGIN:STANDARD
TZOFFSETFROM:+0200
TZOFFSETTO:+0100
TZNAME:CET
DTSTART:20241027T010000
END:STANDARD
BEGIN:DAYLIGHT
TZOFFSETFROM:+0100
TZOFFSETTO:+0200
TZNAME:CEST
DTSTART:20250330T010000
END:DAYLIGHT
BEGIN:STANDARD
TZOFFSETFROM:+0200
TZOFFSETTO:+0100
TZNAME:CET
DTSTART:20251026T010000
END:STANDARD
BEGIN:DAYLIGHT
TZOFFSETFROM:+0100
TZOFFSETTO:+0200
TZNAME:CEST
DTSTART:20260329T010000
END:DAYLIGHT
BEGIN:STANDARD
TZOFFSETFROM:+0200
TZOFFSETTO:+0100
TZNAME:CET
DTSTART:20261025T010000
END:STANDARD
END:VTIMEZONE
BEGIN:VEVENT
DTSTART;TZID=Europe/Madrid:20251218T080000
DTEND;TZID=Europe/Madrid:20251218T170000
DTSTAMP:20260422T002739
CREATED:20251218T104908Z
LAST-MODIFIED:20251218T104908Z
UID:18385-1766044800-1766077200@visitpuentegenil.es
SUMMARY:#Navidad2025. Ruta de Belenes Populares.
DESCRIPTION:✨🎄 Ruta de Belenes de Puente Genil – Navidad 2025 🎄✨ \nEsta Navidad\, Puente Genil se llena de tradición\, arte y espíritu navideño con la Ruta de Belenes 2025\, una experiencia única para disfrutar en familia y descubrir algunos de los belenes más emblemáticos del municipio. \n📍 10 belenes participantes repartidos por distintos puntos de la localidad:⛪ Hermandades🏫 Centros educativos🏠 Asociaciones y particulares \nDesde el Imperio Romano hasta el Santuario de Jesús Nazareno\, pasando por Los Siete Diáconos\, Hogar Santa Susana o el CEIP Agustín Rodríguez\, esta ruta invita a recorrer Puente Genil mientras revives la esencia de la Navidad. \n🗺️ Consulta el mapa\, organiza tu recorrido y disfruta de una de las tradiciones navideñas más especiales de Andalucía. \n👉 Una cita imprescindible para vecinos y visitantes en la Navidad 2025. \n Accede aquí: https://bit.ly/RutaBelenes2025 ¡Comparte tu visita y etiqueta a Visit Puente Genil para que todos veamos tu belén favorito!
URL:https://visitpuentegenil.es/evento/navidad2025-ruta-de-belenes-populares/
LOCATION:Puente Genil
CATEGORIES:Belenes,Navidad
ATTACH;FMTTYPE=image/jpeg:https://visitpuentegenil.es/wp-content/uploads/2025/12/Mapa-Belenes.jpg
END:VEVENT
END:VCALENDAR