BEGIN:VCALENDAR
VERSION:2.0
PRODID:-//Visit Puente Genil - ECPv6.15.20//NONSGML v1.0//EN
CALSCALE:GREGORIAN
METHOD:PUBLISH
X-ORIGINAL-URL:https://visitpuentegenil.es
X-WR-CALDESC:Eventos para Visit Puente Genil
REFRESH-INTERVAL;VALUE=DURATION:PT1H
X-Robots-Tag:noindex
X-PUBLISHED-TTL:PT1H
BEGIN:VTIMEZONE
TZID:Europe/Madrid
BEGIN:DAYLIGHT
TZOFFSETFROM:+0100
TZOFFSETTO:+0200
TZNAME:CEST
DTSTART:20240331T010000
END:DAYLIGHT
BEGIN:STANDARD
TZOFFSETFROM:+0200
TZOFFSETTO:+0100
TZNAME:CET
DTSTART:20241027T010000
END:STANDARD
BEGIN:DAYLIGHT
TZOFFSETFROM:+0100
TZOFFSETTO:+0200
TZNAME:CEST
DTSTART:20250330T010000
END:DAYLIGHT
BEGIN:STANDARD
TZOFFSETFROM:+0200
TZOFFSETTO:+0100
TZNAME:CET
DTSTART:20251026T010000
END:STANDARD
BEGIN:DAYLIGHT
TZOFFSETFROM:+0100
TZOFFSETTO:+0200
TZNAME:CEST
DTSTART:20260329T010000
END:DAYLIGHT
BEGIN:STANDARD
TZOFFSETFROM:+0200
TZOFFSETTO:+0100
TZNAME:CET
DTSTART:20261025T010000
END:STANDARD
END:VTIMEZONE
BEGIN:VEVENT
DTSTART;TZID=Europe/Madrid:20250306T203000
DTEND;TZID=Europe/Madrid:20250309T130000
DTSTAMP:20260424T183335
CREATED:20250305T105603Z
LAST-MODIFIED:20250305T110258Z
UID:15104-1741293000-1741525200@visitpuentegenil.es
SUMMARY:Triduo en honor de Ntra. Sra. de la Amargura.
DESCRIPTION:La Cofradía de Ntra. Señora de la Amargura de Puente Genil celebra un Solemne Triduo en honor a su Titular los días 6\, 7 y 8 de marzo a las 20:45 horas\, en la iglesia de Ntra. Sra. de la Asunción (El Hospital). \nEl domingo 9 de marzo\, a las 13:15 horas\, se oficiará la Función de Regla. Durante estos días ocupará la Sagrada Cátedra el Rvdo. Padre Don Juan Ropero Pacheco\, párroco de San José y Jesús Nazareno y Arcipreste de la Villa y Aguilar de la Frontera. \nTodos los cultos del Triduo estarán acompañados por la Schola Cantorum “Santa Cecilia”\, hermano honorario de la Cofradía. \n📌Iglesia Ntra. Sra. de la Asunción (El Hospital). \n📅6\,7 y 8 de marzo. ⏰20:45 horas.  \n📅Domingo\, 9 de marzo. ⏰13:15 horas. 
URL:https://visitpuentegenil.es/evento/15104/
LOCATION:Iglesia de San Francisco de la Asunción\, Calle Aguilar\, 8\, Puente Genil\, Córdoba\, 14500\, Spain
CATEGORIES:Semana Santa,Tradiciones
ATTACH;FMTTYPE=image/jpeg:https://visitpuentegenil.es/wp-content/uploads/2025/03/6-Triduo-Amargura.jpg
ORGANIZER;CN="Cofrad%C3%ADa Ntra. Sra. de la Amargura":MAILTO:secretaria@cofradiadelaamargura.es
END:VEVENT
BEGIN:VEVENT
DTSTART;TZID=Europe/Madrid:20250319T200000
DTEND;TZID=Europe/Madrid:20250323T123000
DTSTAMP:20260424T183335
CREATED:20250319T121216Z
LAST-MODIFIED:20250319T123140Z
UID:15230-1742414400-1742733000@visitpuentegenil.es
SUMMARY:Solemne Quinario de la Cofradía del Santo Sepulcro y Ntra. Señora de las Lágrimas.
DESCRIPTION:La Cofradía del Santo Sepulcro y Ntra. Señora de las Lágrimas de Puente Genil celebra un Solemne Quinario en honor a sus Titulares del 18 al 22 de marzo a las 20:00 horas\, en la parroquia de Ntra. Sra. de la Purificación. \nEl domingo 23 de marzo\, a las 12:45 horas\, se oficiará la Función principal. Durante estos días ocupará la Sagrada Cátedra Fray Joaquín Pacheco Galán\, padre franciscano del Convento de Estepa y párroco de la iglesia de San Miguel de Lora de Estepa y  D. Antonio Herrera Cruz\, padre prior del Convento de los Reverendos Padres Franciscanos de Lucena. El domingo 23 la función principal será oficiada por el Rvdo. Monseñor D. Robert Alexander Hernández Gómez\, capellán de su Santidad y Jefe de Universidades y Facultades eclesiásticas del Dicasterio para la Cultura y la Educación de la Santa Sede. \nTodos los cultos del Triduo estarán acompañados por la Schola Cantorum “Santa Cecilia”\, hermanos mayores honorarios de la Cofradía. \n📌Parroquia de Ntra. Sra. de la Purificación.\n📅18 al 22 de marzo. ⏰20:00 horas.  \n📅Domingo\, 23 de marzo. ⏰12:45 horas. 
URL:https://visitpuentegenil.es/evento/solemne-quinario-de-la-cofradia-del-santo-sepulcro-y-ntra-senora-de-las-lagrimas/
LOCATION:Parroquia Ntra. Sra. de la Purificación\, C/ Don Gonzalo 18\, Puente Genil\, Córdoba\, 14500
CATEGORIES:Cuaresma,Semana Santa
ATTACH;FMTTYPE=image/jpeg:https://visitpuentegenil.es/wp-content/uploads/2025/03/18-sepulcro.jpeg
END:VEVENT
BEGIN:VEVENT
DTSTART;TZID=Europe/Madrid:20250328T210000
DTEND;TZID=Europe/Madrid:20250328T223000
DTSTAMP:20260424T183335
CREATED:20250325T091634Z
LAST-MODIFIED:20250325T091634Z
UID:15298-1743195600-1743201000@visitpuentegenil.es
SUMMARY:Concierto "Patrimonio Cultural Inmaterial de la Semana Santa de Puente Genil."
DESCRIPTION:El concierto “Patrimonio Cultural Inmaterial de la Semana Santa de Puente Genil”\, parte del programa cultural complementario a la ya clausurada (por motivos ajenos a la organización) exposición “Bajo el Palio de la Fe”\,  se llevará a cabo el viernes 28 de marzo a las 21:00 horas en el Santuario de la Concepción. \nLa protagonista será la Banda Local de Música\,  que resurge después de más de 30 años con 60 instrumentistas que combinan experiencia y juventud bajo la dirección de Leonardo Bedmar. Y deleitarán al público interpretando un repertorio compuesto exclusivamente por piezas musicales de nuestro patrimonio\, con obras de compositores locales como D. Miguel Gant y D. Germán Sanchís Morell. \nEste concierto no solo es un homenaje a nuestra Semana Santa\, sino que también reafirma el compromiso del Ayuntamiento de Puente Genil con la protección del patrimonio inmaterial\, en línea con la Ley 10/2015 y los Objetivos de Desarrollo Sostenible de la UNESCO. \n📌Santuario de la Purísima Concepción.\n📅Viernes\, 28 de marzo.\n⏰21:00 horas. \n🎟 Entrada libre hasta completar aforo.
URL:https://visitpuentegenil.es/evento/concierto-patrimonio-cultural-inmaterial-de-la-semana-santa-de-puente-genil/
LOCATION:Santuario de la Purísima\, Calle Madre de Dios\, 2\, Puente Genil\, Córdoba\, 14500\, España
ATTACH;FMTTYPE=image/jpeg:https://visitpuentegenil.es/wp-content/uploads/2025/03/Concierto-Patrimonio.jpg
END:VEVENT
END:VCALENDAR