BEGIN:VCALENDAR
VERSION:2.0
PRODID:-//Visit Puente Genil - ECPv6.15.20//NONSGML v1.0//EN
CALSCALE:GREGORIAN
METHOD:PUBLISH
X-WR-CALNAME:Visit Puente Genil
X-ORIGINAL-URL:https://visitpuentegenil.es
X-WR-CALDESC:Eventos para Visit Puente Genil
REFRESH-INTERVAL;VALUE=DURATION:PT1H
X-Robots-Tag:noindex
X-PUBLISHED-TTL:PT1H
BEGIN:VTIMEZONE
TZID:Europe/Madrid
BEGIN:DAYLIGHT
TZOFFSETFROM:+0100
TZOFFSETTO:+0200
TZNAME:CEST
DTSTART:20180325T010000
END:DAYLIGHT
BEGIN:STANDARD
TZOFFSETFROM:+0200
TZOFFSETTO:+0100
TZNAME:CET
DTSTART:20181028T010000
END:STANDARD
BEGIN:DAYLIGHT
TZOFFSETFROM:+0100
TZOFFSETTO:+0200
TZNAME:CEST
DTSTART:20190331T010000
END:DAYLIGHT
BEGIN:STANDARD
TZOFFSETFROM:+0200
TZOFFSETTO:+0100
TZNAME:CET
DTSTART:20191027T010000
END:STANDARD
BEGIN:DAYLIGHT
TZOFFSETFROM:+0100
TZOFFSETTO:+0200
TZNAME:CEST
DTSTART:20200329T010000
END:DAYLIGHT
BEGIN:STANDARD
TZOFFSETFROM:+0200
TZOFFSETTO:+0100
TZNAME:CET
DTSTART:20201025T010000
END:STANDARD
END:VTIMEZONE
BEGIN:VEVENT
DTSTART;TZID=Europe/Madrid:20190512T090000
DTEND;TZID=Europe/Madrid:20190512T170000
DTSTAMP:20260421T113831
CREATED:20190510T104937Z
LAST-MODIFIED:20190510T104937Z
UID:6375-1557651600-1557680400@visitpuentegenil.es
SUMMARY:Senderismo #7Aldeas7Rutas
DESCRIPTION:El domingo 12 de mayo se realizará la ruta de senderismo de la Aldea de Los Arenales\, dentro del proyecto #7Aldeas7Rutas de la Delegación de Aldeas que tiene como principales objetivos dar a conocer sus núcleos rurales y el fomento de la vida saludable. \nLa salida será a las 9:00h desde la puerta del Colegio. \nActividad gratuita. Pueden participar personas de todas las edades. Más información en el correo electrónico fisioterapiagcsandra@hotmail.com. \nAccede a las inscripciones: https://www.sporttia.com/login\nPara nuevos usuarios. Regístrate en Sporttia y entra en : DMD Puente Genil / EVENTOS\nPara usuarios registrado: Pon tu clave/ DMD Puente Genil/ EVENTOS
URL:https://visitpuentegenil.es/evento/senderismo-7aldeas7rutas-2/
LOCATION:CRA Maestro Rafael Chacón Villafranca Los Arenales.\, Ctra. Los Arenales 1\, Puente Genil\, Córdoba\, 14500\, España
CATEGORIES:Senderismo
ATTACH;FMTTYPE=image/jpeg:https://visitpuentegenil.es/wp-content/uploads/2019/05/12-Senderismo-Los-Arenales.jpg
END:VEVENT
BEGIN:VEVENT
DTSTART;TZID=Europe/Madrid:20190517T210000
DTEND;TZID=Europe/Madrid:20190517T233000
DTSTAMP:20260421T113831
CREATED:20190514T113900Z
LAST-MODIFIED:20190514T113900Z
UID:6402-1558126800-1558135800@visitpuentegenil.es
SUMMARY:VI CARRERA/MARCHA DE LA MUJER
DESCRIPTION:El viernes 17 de mayo se celebrará la sexta edición de la Carrera/Marcha de la Mujer que organiza la Delegación de Igualdad en colaboración con la Delegación de Deportes del Excmo. Ayuntamiento de Puente Genil. \nLa salida y la meta estarán como cada año en la Plaza de España – Iglesia de San José\, estando prevista la salida a las 21:00h. \nPlazo de inscripción: del 1 al 15 de mayo  \nDelegación de Igualdad\, C/ Antonio Sánchez Cuenca\, 6 -1ª planta (edif. Servicios\nSociales). Telf. 957 60 9272\nHorario: 10:00 a 14:00 horas de lunes a viernes.\ne-mail: mujer@aytopuentegenil.es. \nLa inscripción es gratuita. \nFormas de inscripción:\nA)  Presencial: personándose en Delegación de Igualdad\, edificio Servicios Sociales\, rellenando la hoja de inscripción. Realizada la misma se hará entrega del dorsal. \nB)  A través del enlace: http://www.corredorespopulares.es/inscripcion/puente_genil_mujer/index.php \nC)  Las mujeres que realicen la inscripción por teléfono o a través de la web\, deberán aportar todos los datos requeridos como obligatorios en la hoja de inscripción. Podrán recoger los dorsales y camiseta hasta el mismo día de la prueba en la Delegación de Igualdad\, C/ Antonio Sánchez Cuenca\, 6 -1ª planta (edif. Servicios Sociales) o 30 minutos antes de la salida de la prueba en la zona de información que estará ubicada en la Plaza de España (Iglesia de San José). \nD)  La FLAM hará entrega de una camiseta para la prueba\, previa aportación de 2 euros.
URL:https://visitpuentegenil.es/evento/vi-carrera-marcha-de-la-mujer/
LOCATION:Plaza de España\, Plaza de España\, s/n\, Puente Genil\, Córdoba\, 14500\, España
CATEGORIES:Deportes
ATTACH;FMTTYPE=image/jpeg:https://visitpuentegenil.es/wp-content/uploads/2019/05/17-carrera-de-la-mujer.jpg
END:VEVENT
BEGIN:VEVENT
DTSTART;TZID=Europe/Madrid:20190519T090000
DTEND;TZID=Europe/Madrid:20190519T170000
DTSTAMP:20260421T113831
CREATED:20190514T130453Z
LAST-MODIFIED:20190514T130453Z
UID:6411-1558256400-1558285200@visitpuentegenil.es
SUMMARY:#7Aldeas7Rutas Senderismo "PUERTO ALEGRE"
DESCRIPTION:#7Aldeas7Rutas ruta de senderismo en la Aldea de Puerto Alegre\, el próximo domingo 19 de mayo. \nSalida desde el Parque de El Tropezón\, a las 09:00 horas\, la distancia aproximada de la ruta es de 12 kilómetros \nTe puedes apuntar en el siguiente enlace: https://www.sporttia.com/evento/ruta-de-senderismo-aldeas-de-puente-geni… \n¡No lo dudes\, participa\, mueve tu cuerpo y conoce a tus aldeas! \n#OrgullososDeNuestrasAldeas
URL:https://visitpuentegenil.es/evento/7aldeas7rutas-senderismo-puerto-alegre/
LOCATION:Parque del Tropezón\, C/ Isaac Peral\, 1\, Puente Genil\, Córdoba\, 14500\, España
CATEGORIES:Senderismo
ATTACH;FMTTYPE=image/jpeg:https://visitpuentegenil.es/wp-content/uploads/2019/05/19-Ruta-Senderismo-Puerto-Alegre.jpg
END:VEVENT
END:VCALENDAR