BEGIN:VCALENDAR
VERSION:2.0
PRODID:-//Visit Puente Genil - ECPv6.15.20//NONSGML v1.0//EN
CALSCALE:GREGORIAN
METHOD:PUBLISH
X-WR-CALNAME:Visit Puente Genil
X-ORIGINAL-URL:https://visitpuentegenil.es
X-WR-CALDESC:Eventos para Visit Puente Genil
REFRESH-INTERVAL;VALUE=DURATION:PT1H
X-Robots-Tag:noindex
X-PUBLISHED-TTL:PT1H
BEGIN:VTIMEZONE
TZID:Europe/Madrid
BEGIN:DAYLIGHT
TZOFFSETFROM:+0100
TZOFFSETTO:+0200
TZNAME:CEST
DTSTART:20190331T010000
END:DAYLIGHT
BEGIN:STANDARD
TZOFFSETFROM:+0200
TZOFFSETTO:+0100
TZNAME:CET
DTSTART:20191027T010000
END:STANDARD
BEGIN:DAYLIGHT
TZOFFSETFROM:+0100
TZOFFSETTO:+0200
TZNAME:CEST
DTSTART:20200329T010000
END:DAYLIGHT
BEGIN:STANDARD
TZOFFSETFROM:+0200
TZOFFSETTO:+0100
TZNAME:CET
DTSTART:20201025T010000
END:STANDARD
BEGIN:DAYLIGHT
TZOFFSETFROM:+0100
TZOFFSETTO:+0200
TZNAME:CEST
DTSTART:20210328T010000
END:DAYLIGHT
BEGIN:STANDARD
TZOFFSETFROM:+0200
TZOFFSETTO:+0100
TZNAME:CET
DTSTART:20211031T010000
END:STANDARD
END:VTIMEZONE
BEGIN:VEVENT
DTSTART;TZID=Europe/Madrid:20200202T100000
DTEND;TZID=Europe/Madrid:20200202T130000
DTSTAMP:20260420T013757
CREATED:20200128T125911Z
LAST-MODIFIED:20200128T125911Z
UID:7316-1580637600-1580648400@visitpuentegenil.es
SUMMARY:¡Este domingo ven a conocer #Sotogordo!
DESCRIPTION:#7Aldeas7Rutas\, este próximo domingo toca la aldea de Sotogordo\, ¡conócela con Aldeas de Puente Genil y la colaboración de Fisioterapia Sandra Gálvez!.\nInformación e inscripciones hasta el jueves 30 de enero en la Casa de la Ciudadanía o en la web del Ayuntamiento de Puente Genil \nwww.puentegenil.es
URL:https://visitpuentegenil.es/evento/este-domingo-ven-a-conocer-sotogordo/
LOCATION:Aldea de Sotogordo\, Puente Genil\, Córdoba\, 14500\, España
CATEGORIES:Aldeas,Senderismo
ATTACH;FMTTYPE=image/jpeg:https://visitpuentegenil.es/wp-content/uploads/2020/01/2-Ruta-Senderismo-Sotogordo.jpg
END:VEVENT
END:VCALENDAR