BEGIN:VCALENDAR
VERSION:2.0
PRODID:-//Visit Puente Genil - ECPv6.15.20//NONSGML v1.0//EN
CALSCALE:GREGORIAN
METHOD:PUBLISH
X-ORIGINAL-URL:https://visitpuentegenil.es
X-WR-CALDESC:Eventos para Visit Puente Genil
REFRESH-INTERVAL;VALUE=DURATION:PT1H
X-Robots-Tag:noindex
X-PUBLISHED-TTL:PT1H
BEGIN:VTIMEZONE
TZID:Europe/Madrid
BEGIN:DAYLIGHT
TZOFFSETFROM:+0100
TZOFFSETTO:+0200
TZNAME:CEST
DTSTART:20250330T010000
END:DAYLIGHT
BEGIN:STANDARD
TZOFFSETFROM:+0200
TZOFFSETTO:+0100
TZNAME:CET
DTSTART:20251026T010000
END:STANDARD
BEGIN:DAYLIGHT
TZOFFSETFROM:+0100
TZOFFSETTO:+0200
TZNAME:CEST
DTSTART:20260329T010000
END:DAYLIGHT
BEGIN:STANDARD
TZOFFSETFROM:+0200
TZOFFSETTO:+0100
TZNAME:CET
DTSTART:20261025T010000
END:STANDARD
BEGIN:DAYLIGHT
TZOFFSETFROM:+0100
TZOFFSETTO:+0200
TZNAME:CEST
DTSTART:20270328T010000
END:DAYLIGHT
BEGIN:STANDARD
TZOFFSETFROM:+0200
TZOFFSETTO:+0100
TZNAME:CET
DTSTART:20271031T010000
END:STANDARD
END:VTIMEZONE
BEGIN:VEVENT
DTSTART;TZID=Europe/Madrid:20260502T093000
DTEND;TZID=Europe/Madrid:20260502T130000
DTSTAMP:20260423T191858
CREATED:20260423T085045Z
LAST-MODIFIED:20260423T090623Z
UID:18935-1777714200-1777726800@visitpuentegenil.es
SUMMARY:🚴‍♂️ 5º Rally Cordobilla 2026: el mejor MTB llega a Puente Genil
DESCRIPTION:Puente Genil se prepara para vivir una jornada única de ciclismo de montaña con la celebración del 5º Rally Cordobilla\, una prueba imprescindible dentro del calendario andaluz de BTT XCO\, organizado por 🚵 FAM Bike Francisco Antonio Morón. \nEste emocionante evento reunirá a jóvenes promesas y grandes talentos del MTB en un entorno natural privilegiado\, ofreciendo espectáculo\, deporte y convivencia para toda la familia. \n🔥 Competición puntuableEl 5º Rally Cordobilla es prueba puntuable para la Super Cup XCO y el Circuito Provincial de Córdoba\, lo que garantiza un alto nivel competitivo y la presencia de destacados ciclistas. \nEl evento cuenta con la colaboración de:👉 Junta de Andalucía👉 Federación Andaluza de Ciclismo👉 Diputación de Córdoba👉 Ayuntamiento de Puente Genil \n📅 Fecha: 2 de mayo de 2026⏰ Hora: 9:30 h📍 Lugar: Cordobilla\, Puente Genil \n\n\nFecha recogida de dorsales: 02/05/2026 desde 8:00h hasta 9:00h\n\n\n🌿 Turismo y deporte en Puente GenilEste rally no solo es deporte\, sino también una oportunidad perfecta para disfrutar de la naturaleza\, la gastronomía y el patrimonio de Puente Genil. \n📲 Inscripciones abiertas en la web oficial hasta el 30 de abril. \n 
URL:https://visitpuentegenil.es/evento/%f0%9f%9a%b4%e2%99%82%ef%b8%8f-5o-rally-cordobilla-2026-el-mejor-mtb-llega-a-puente-genil/
LOCATION:Cordobilla\, Cordobilla\, Puente Genil\, Córdoba\, 14500\, España
CATEGORIES:Campeonato,Ciclismo
ATTACH;FMTTYPE=image/jpeg:https://visitpuentegenil.es/wp-content/uploads/2026/04/2-Rally-Cordobilla.jpeg
ORGANIZER;CN="CD FAM Bike Team":MAILTO:fambiketeam2@gmail.com
END:VEVENT
END:VCALENDAR