BEGIN:VCALENDAR
VERSION:2.0
PRODID:-//Visit Puente Genil - ECPv6.15.20//NONSGML v1.0//EN
CALSCALE:GREGORIAN
METHOD:PUBLISH
X-ORIGINAL-URL:https://visitpuentegenil.es
X-WR-CALDESC:Eventos para Visit Puente Genil
REFRESH-INTERVAL;VALUE=DURATION:PT1H
X-Robots-Tag:noindex
X-PUBLISHED-TTL:PT1H
BEGIN:VTIMEZONE
TZID:Europe/Madrid
BEGIN:DAYLIGHT
TZOFFSETFROM:+0100
TZOFFSETTO:+0200
TZNAME:CEST
DTSTART:20250330T010000
END:DAYLIGHT
BEGIN:STANDARD
TZOFFSETFROM:+0200
TZOFFSETTO:+0100
TZNAME:CET
DTSTART:20251026T010000
END:STANDARD
BEGIN:DAYLIGHT
TZOFFSETFROM:+0100
TZOFFSETTO:+0200
TZNAME:CEST
DTSTART:20260329T010000
END:DAYLIGHT
BEGIN:STANDARD
TZOFFSETFROM:+0200
TZOFFSETTO:+0100
TZNAME:CET
DTSTART:20261025T010000
END:STANDARD
BEGIN:DAYLIGHT
TZOFFSETFROM:+0100
TZOFFSETTO:+0200
TZNAME:CEST
DTSTART:20270328T010000
END:DAYLIGHT
BEGIN:STANDARD
TZOFFSETFROM:+0200
TZOFFSETTO:+0100
TZNAME:CET
DTSTART:20271031T010000
END:STANDARD
END:VTIMEZONE
BEGIN:VEVENT
DTSTART;TZID=Europe/Madrid:20260227T190000
DTEND;TZID=Europe/Madrid:20260301T210000
DTSTAMP:20260421T133620
CREATED:20260227T101853Z
LAST-MODIFIED:20260227T101853Z
UID:18604-1772218800-1772398800@visitpuentegenil.es
SUMMARY:Exposición Colectiva de Pintura “Paisajes” en Microespacio Cultural Nº11.
DESCRIPTION:Llega la Exposición Colectiva de Pintura “Paisajes” al Microespacio Cultural Nº11: una cita imprescindible para amantes del arte\, la pintura contemporánea y los paisajes interpretados desde miradas muy personales por el alumnado de Enrique Reina. \nEn esta muestra colectiva podrás descubrir las obras de:👉 Teresa de Paz👉 Isabel Carmona👉 Teresa Duclos👉 Andrés Tenor👉 Antonio de Paz👉 Pepa Márquez👉 Rosario Gálvez👉 David Delgado👉 Luz del Puerto👉 Mamen Fernández \nUna oportunidad perfecta para disfrutar del arte en Puente Genil\, apoyar a artistas locales y dejarte llevar por diferentes formas de entender el paisaje en la pintura: naturaleza\, emoción\, memoria y territorio en un mismo espacio. \n📍 Puente Genil🗓️ 27 y 28 de febrero | 🕖 19:00 – 22:30🗓️ 1 de marzo | 🕖 19:00 – 21:00🎟️ Entrada libre \nVen\, date una vuelta\, comparte cultura y vive el arte en tu pueblo 💛¡¡Te esperamos en el Microespacio Cultural Nº11!!
URL:https://visitpuentegenil.es/evento/exposicion-colectiva-de-pintura-paisajes-en-microespacio-cultural-no11/
LOCATION:Espacio Microcultural Nº 11\, Calle Aguilar\, 11\, Puente Genil\, Córdoba\, 14500\, España
CATEGORIES:Exposiciones,Pintura
ATTACH;FMTTYPE=image/jpeg:https://visitpuentegenil.es/wp-content/uploads/2026/02/27-Exposicion-colectiva.jpeg
ORGANIZER;CN="Espacio microcultural N%C2%BA11":MAILTO:espaciomicroculturaln11@gmail.com
END:VEVENT
BEGIN:VEVENT
DTSTART;TZID=Europe/Madrid:20260228T120000
DTEND;TZID=Europe/Madrid:20260228T133000
DTSTAMP:20260421T133620
CREATED:20260219T094249Z
LAST-MODIFIED:20260219T094350Z
UID:18565-1772280000-1772285400@visitpuentegenil.es
SUMMARY:Descubre la Villa Romana de Fuente Alamo con una visita con anfitrión.
DESCRIPTION:¡Abre la puerta al pasado y descubre la Villa Romana de Fuente Álamo en Puente Genil!\nEste próximo #DíadeAndalucía te invitamos a un viaje al pasado en una visita guiada con anfitrión.\nSumérgete en la #historia\, los #mosaicos y la vida cotidiana de una de las villas romanas más importantes de la #beticaromana. \n\nVen y viaja al pasado con nosotros.\n¡Te esperamos! \n\n\n\n\n Sábado\, 28 de febrero.\n⏰ 12:00h.\n\n\n Precio: 6 € por persona.\n\n\n Inscripción previa. Compra tu entrada aquí.\n Info y reservas: 957 60 50 34 (Ext. 0 388)
URL:https://visitpuentegenil.es/evento/descubre-la-villa-romana-de-fuente-alamo-con-una-visita-con-anfitrion/
LOCATION:Villa Romana de Fuente Álamo\, cv-297 km 3\, Puente Genil\, Córdoba\, 14500\, España
CATEGORIES:Arqueología,Patrimonio,Visitas guiadas
ATTACH;FMTTYPE=image/png:https://visitpuentegenil.es/wp-content/uploads/2026/02/Visitas-Antrion-28-Febrero.png
ORGANIZER;CN="Ciudades Medias":MAILTO:puentegenil@ciudadesmedias.org
END:VEVENT
BEGIN:VEVENT
DTSTART;TZID=Europe/Madrid:20260228T180000
DTEND;TZID=Europe/Madrid:20260228T193000
DTSTAMP:20260421T133620
CREATED:20260218T125618Z
LAST-MODIFIED:20260218T125618Z
UID:18551-1772301600-1772307000@visitpuentegenil.es
SUMMARY:🎶Concierto “Música & Tradición” en Puente Genil por el Día de Andalucía 2026.🟢⚪🟢
DESCRIPTION:Puente Genil celebrará el Día de Andalucía 2026 con el concierto “Música & Tradición” de la Banda Local de Música de Puente Genil. \n📅 Sábado 28 de febrero de 2026\n🕕 18:00 h\n📍 Iglesia del Hospital – Puente Genil \nEste concierto organizado por el Ayuntamiento de Puente Genil\, cuenta también con la colaboración de la Corporación Bíblica “Los Pecados de David – El Cirio”\, la Agrupación de Cofradías y la Diputación de Córdoba. \nLa música será protagonista en un enclave emblemático de la localidad\, ofreciendo una experiencia cultural única que une patrimonio\, tradición y sentimiento andaluz. \nSi visitas Puente Genil durante el puente del 28 de febrero\, no pierdas la oportunidad de disfrutar de este evento que combina identidad\, cultura y música en directo. \n👉 Vive el Día de Andalucía en Puente Genil y descubre su riqueza cultural. \n#CulturaAndaluza     #Córdoba
URL:https://visitpuentegenil.es/evento/%f0%9f%8e%b6concierto-musica-tradicion-en-puente-genil-por-el-dia-de-andalucia-2026-%f0%9f%9f%a2%e2%9a%aa%f0%9f%9f%a2/
LOCATION:Iglesia de San Francisco de la Asunción\, Calle Aguilar\, 8\, Puente Genil\, Córdoba\, 14500\, Spain
CATEGORIES:Conciertos,Música,Música Sacra
ATTACH;FMTTYPE=image/jpeg:https://visitpuentegenil.es/wp-content/uploads/2026/02/28-Concierto-Musica-y-Tradicion.jpeg
END:VEVENT
END:VCALENDAR