BEGIN:VCALENDAR
VERSION:2.0
PRODID:-//Visit Puente Genil - ECPv6.15.20//NONSGML v1.0//EN
CALSCALE:GREGORIAN
METHOD:PUBLISH
X-ORIGINAL-URL:https://visitpuentegenil.es
X-WR-CALDESC:Eventos para Visit Puente Genil
REFRESH-INTERVAL;VALUE=DURATION:PT1H
X-Robots-Tag:noindex
X-PUBLISHED-TTL:PT1H
BEGIN:VTIMEZONE
TZID:Europe/Madrid
BEGIN:DAYLIGHT
TZOFFSETFROM:+0100
TZOFFSETTO:+0200
TZNAME:CEST
DTSTART:20240331T010000
END:DAYLIGHT
BEGIN:STANDARD
TZOFFSETFROM:+0200
TZOFFSETTO:+0100
TZNAME:CET
DTSTART:20241027T010000
END:STANDARD
BEGIN:DAYLIGHT
TZOFFSETFROM:+0100
TZOFFSETTO:+0200
TZNAME:CEST
DTSTART:20250330T010000
END:DAYLIGHT
BEGIN:STANDARD
TZOFFSETFROM:+0200
TZOFFSETTO:+0100
TZNAME:CET
DTSTART:20251026T010000
END:STANDARD
BEGIN:DAYLIGHT
TZOFFSETFROM:+0100
TZOFFSETTO:+0200
TZNAME:CEST
DTSTART:20260329T010000
END:DAYLIGHT
BEGIN:STANDARD
TZOFFSETFROM:+0200
TZOFFSETTO:+0100
TZNAME:CET
DTSTART:20261025T010000
END:STANDARD
BEGIN:DAYLIGHT
TZOFFSETFROM:+0100
TZOFFSETTO:+0200
TZNAME:CEST
DTSTART:20270328T010000
END:DAYLIGHT
BEGIN:STANDARD
TZOFFSETFROM:+0200
TZOFFSETTO:+0100
TZNAME:CET
DTSTART:20271031T010000
END:STANDARD
END:VTIMEZONE
BEGIN:VEVENT
DTSTART;TZID=Europe/Madrid:20251124T173000
DTEND;TZID=Europe/Madrid:20260103T193000
DTSTAMP:20260421T213313
CREATED:20251124T121033Z
LAST-MODIFIED:20251124T121503Z
UID:18135-1764005400-1767468600@visitpuentegenil.es
SUMMARY:#Navidad2025. Magia por “La Puente” Navideña.
DESCRIPTION:✨ Magia por “La Puente” Navideña 2025 ✨¡La ilusión vuelve a Puente Genil! Desde el 21 de noviembre hasta el 3 de enero\, los rincones más emblemáticos de nuestra localidad se llenan de actividades\, color y diversión para toda la familia. \nCada tarde\, de 17:30 a 19:30 h\, podrás disfrutar de propuestas diferentes que harán brillar la Navidad:🎨 Pinceladas Mágicas en Ágora Conchi Leiva (21 nov)🏅 Mini Olimpiadas en Plaza Emilio Reina (22 nov)🎲 Fiesta del Juego en Mirador del Genil (28 nov)🏁 Gran Prix Navideño en Plaza del Tropezón (5 dic)🍳 MasterChef Junior en Plaza Concejala Charo Prieto Escalera (12 dic)📚 Cuentos para Crear en Plaza 3 de Abril (19 dic)🌈 Explosión de Colores en Plazuela Manuel Chaparro Mansilla (26 dic)🎭 Pintacaras y Paje Real en Plaza España (3 ene) \nUn recorrido mágico lleno de creatividad\, deporte\, juegos y espíritu navideño que hará las delicias de pequeños y mayores. \nMás información Manos de Colores. 📱 686467254 \nVen\, participa y vive la Navidad como nunca.✨ Puente GeniAl enciende su Navidad ✨
URL:https://visitpuentegenil.es/evento/navidad2025-magia-por-la-puente-navidena/
LOCATION:PUENTE GENIL\, Puente Genil\, CÓRDOBA\, 14500
CATEGORIES:Actividades infantiles,Navidad
ATTACH;FMTTYPE=image/jpeg:https://visitpuentegenil.es/wp-content/uploads/2025/11/Magia-por-la-Puente-Navidena.jpg
END:VEVENT
BEGIN:VEVENT
DTSTART;TZID=Europe/Madrid:20260109T203000
DTEND;TZID=Europe/Madrid:20260109T223000
DTSTAMP:20260421T213313
CREATED:20260107T095627Z
LAST-MODIFIED:20260108T115510Z
UID:18389-1767990600-1767997800@visitpuentegenil.es
SUMMARY:XIX Festival Lírico Puente Genil. Ballet "Romeo y Julieta."
DESCRIPTION:🎭 Ballet “Romeo y Julieta” en Puente Genil\nEl próximo 9 de enero de 2026 a las 20:30 h.\, el emblemático Teatro Circo de Puente Genil acoge una de las grandes citas culturales del año: la representación del ballet “Romeo y Julieta”\, con música del compositor ruso Serguéi Serguéyevich Prokófiev\, dentro del XIX Festival Lírico y Sinfónico de Puente Genil. \nEsta prestigiosa producción llega de la mano de Leonor Gago Artist Management\, que presenta la gira por España del reconocido Worldwide Ballet Theater\, una compañía internacional que destaca por la calidad artística de sus espectáculos y su cuidada puesta en escena. \nUna oportunidad única para disfrutar en Puente Genil de una obra universal que combina danza clásica\, música sinfónica y teatro\, acercando al público la inolvidable historia de amor creada por William Shakespeare. \n\n🎟️ Entradas y reservas\nEntradas numeradas anticipadas: 10 € \nEntradas en taquilla: 12 € \nInformación y reservas: Teléfono 617 453 061 \nEspectáculo apto para TODOS LOS PÚBLICOS \nNo te pierdas esta experiencia cultural en el corazón de Andalucía y vive una noche mágica de ballet en Puente Genil.
URL:https://visitpuentegenil.es/evento/xix-festival-lirico-puente-genil-ballet-romeo-y-julieta/
LOCATION:Teatro Circo\, C/ Jesús\, s/n\, Puente Genil\, Córdoba\, 14500\, España
CATEGORIES:Ballet,Festival
ATTACH;FMTTYPE=image/jpeg:https://visitpuentegenil.es/wp-content/uploads/2026/01/6-Ballet-Romeo-y-Julieta.jpg
END:VEVENT
BEGIN:VEVENT
DTSTART;TZID=Europe/Madrid:20260124T200000
DTEND;TZID=Europe/Madrid:20260124T220000
DTSTAMP:20260421T213313
CREATED:20260113T085947Z
LAST-MODIFIED:20260116T103500Z
UID:18397-1769284800-1769292000@visitpuentegenil.es
SUMMARY:🌑 PUENTE GENIL OSCURA 🌑
DESCRIPTION:PLAZAS AGOTADAS\n¿Te atreves a descubrir lo que nadie se atreve a contar? \nEl sábado 24 de enero a las 20:00h\, adéntrate en el lado más misterioso de Puente Genil con una ruta nocturna única por sus calles más enigmáticas.Crímenes reales\, leyendas ocultas y fenómenos inexplicables te esperan en una experiencia que no olvidarás… \n👻 Ruta nocturna sobre misterios y leyendas🕯️ Acceso exclusivo a espacios singulares⏳ Duración: 2 horas💶 Precio: 8 €🔞 No recomendada para menores de 16 años \nSi te apasiona el turismo de misterio\, las historias ocultas y las experiencias diferentes\, esta es tu cita con la oscuridad en el corazón de Andalucía. \n🎟️ Compra online y reserva tu plaza📍 Puente Genil\, Córdoba \n👉 ¿Te atreves a cruzar el umbral?
URL:https://visitpuentegenil.es/evento/%f0%9f%8c%91-puente-genil-oscura-%f0%9f%8c%91/
LOCATION:Plaza del Calvario\, Plaza del Calvario\, s/n\, Puente Genil\, Córdoba\, 14500\, Spain
CATEGORIES:Visitas guiadas,Visitas nocturnas,Visitas tematizadas
ATTACH;FMTTYPE=image/png:https://visitpuentegenil.es/wp-content/uploads/2026/01/PLAZAS-AGOTADAS-PUENTE-GENIL-OSCURA.png
ORGANIZER;CN="Ciudades Medias":MAILTO:puentegenil@ciudadesmedias.org
END:VEVENT
END:VCALENDAR